BEGIN:VCALENDAR
VERSION:2.0
PRODID:-//Wien Zimmer - ECPv6.15.17.1//NONSGML v1.0//EN
CALSCALE:GREGORIAN
METHOD:PUBLISH
X-ORIGINAL-URL:https://wienzimmer.fsw.at
X-WR-CALDESC:Veranstaltungen für Wien Zimmer
REFRESH-INTERVAL;VALUE=DURATION:PT1H
X-Robots-Tag:noindex
X-PUBLISHED-TTL:PT1H
BEGIN:VTIMEZONE
TZID:Europe/Vienna
BEGIN:DAYLIGHT
TZOFFSETFROM:+0100
TZOFFSETTO:+0200
TZNAME:CEST
DTSTART:20240331T010000
END:DAYLIGHT
BEGIN:STANDARD
TZOFFSETFROM:+0200
TZOFFSETTO:+0100
TZNAME:CET
DTSTART:20241027T010000
END:STANDARD
BEGIN:DAYLIGHT
TZOFFSETFROM:+0100
TZOFFSETTO:+0200
TZNAME:CEST
DTSTART:20250330T010000
END:DAYLIGHT
BEGIN:STANDARD
TZOFFSETFROM:+0200
TZOFFSETTO:+0100
TZNAME:CET
DTSTART:20251026T010000
END:STANDARD
BEGIN:DAYLIGHT
TZOFFSETFROM:+0100
TZOFFSETTO:+0200
TZNAME:CEST
DTSTART:20260329T010000
END:DAYLIGHT
BEGIN:STANDARD
TZOFFSETFROM:+0200
TZOFFSETTO:+0100
TZNAME:CET
DTSTART:20261025T010000
END:STANDARD
END:VTIMEZONE
BEGIN:VEVENT
DTSTART;TZID=Europe/Vienna:20250521T091500
DTEND;TZID=Europe/Vienna:20250521T101500
DTSTAMP:20260423T042822
CREATED:20250326T145010Z
LAST-MODIFIED:20250625T122341Z
UID:10003793-1747818900-1747822500@wienzimmer.fsw.at
SUMMARY:Yoga mit Sophie – für Senior:innen
DESCRIPTION:im kleinen Seminarraum (1. Stock)
URL:https://wienzimmer.fsw.at/event/yoga-mit-sophie-fuer-seniorinnen-2/2025-05-21/
END:VEVENT
BEGIN:VEVENT
DTSTART;TZID=Europe/Vienna:20250521T100000
DTEND;TZID=Europe/Vienna:20250521T120000
DTSTAMP:20260423T042822
CREATED:20250422T111725Z
LAST-MODIFIED:20250625T123020Z
UID:10003806-1747821600-1747828800@wienzimmer.fsw.at
SUMMARY:offene Aquarell-Malrunde  - selbstorganisiert
DESCRIPTION:– selbstorganisiert\nkleiner Seminarraum (1. Stock)
URL:https://wienzimmer.fsw.at/event/offene-aquarell-malrunde-selbstorganisiert-2/2025-05-21/
ATTACH;FMTTYPE=image/png:https://wienzimmer.fsw.at/wp-content/uploads/2023/11/Malen.png
END:VEVENT
BEGIN:VEVENT
DTSTART;TZID=Europe/Vienna:20250521T104000
DTEND;TZID=Europe/Vienna:20250521T114500
DTSTAMP:20260423T042822
CREATED:20250326T144820Z
LAST-MODIFIED:20250625T122455Z
UID:10003797-1747824000-1747827900@wienzimmer.fsw.at
SUMMARY:Yoga mit Sophie – Yoga für Anfänger:innen
DESCRIPTION:im kleinen Seminarraum (1. Stock)
URL:https://wienzimmer.fsw.at/event/yoga-mit-sophie-yoga-fuer-anfaengerinnen-2/2025-05-21/
END:VEVENT
BEGIN:VEVENT
DTSTART;TZID=Europe/Vienna:20250521T133000
DTEND;TZID=Europe/Vienna:20250521T190000
DTSTAMP:20260423T042822
CREATED:20250326T145450Z
LAST-MODIFIED:20250528T084729Z
UID:10003814-1747834200-1747854000@wienzimmer.fsw.at
SUMMARY:Kinderfreunde Wien – offene Kinder- & Jugendarbeit
DESCRIPTION:für Kinder von 6-12Jahre\nim WienZimmer
URL:https://wienzimmer.fsw.at/event/kinderfreunde-wien-offene-kinder-jugendarbeit/2025-05-21/
CATEGORIES:Kinder und Jugendliche
END:VEVENT
BEGIN:VEVENT
DTSTART;TZID=Europe/Vienna:20250521T153000
DTEND;TZID=Europe/Vienna:20250521T163000
DTSTAMP:20260423T042822
CREATED:20250326T145816Z
LAST-MODIFIED:20250528T084933Z
UID:10003818-1747841400-1747845000@wienzimmer.fsw.at
SUMMARY:HobbyLobby-Kurs Anime & Manga
DESCRIPTION:15.30-16.30 Uhr\nHobbyLobby-Kurs Anime & Manga\nim kleinen Seminarraum
URL:https://wienzimmer.fsw.at/event/hobbylobby-kurs-anime-manga/2025-05-21/
CATEGORIES:Kinder und Jugendliche
ATTACH;FMTTYPE=image/png:https://wienzimmer.fsw.at/wp-content/uploads/2024/10/WienZimmer_Veranstaltungskalender-Anime.png
END:VEVENT
BEGIN:VEVENT
DTSTART;TZID=Europe/Vienna:20250521T163000
DTEND;TZID=Europe/Vienna:20250521T173000
DTSTAMP:20260423T042822
CREATED:20250326T150122Z
LAST-MODIFIED:20250528T085028Z
UID:10003823-1747845000-1747848600@wienzimmer.fsw.at
SUMMARY:HobbyLobby-Kurs Fitness
DESCRIPTION:im Keller
URL:https://wienzimmer.fsw.at/event/hobbylobby-kurs-fitness/2025-05-21/
CATEGORIES:Kinder und Jugendliche
ATTACH;FMTTYPE=image/png:https://wienzimmer.fsw.at/wp-content/uploads/2023/11/Fitness.png
END:VEVENT
BEGIN:VEVENT
DTSTART;TZID=Europe/Vienna:20250521T173000
DTEND;TZID=Europe/Vienna:20250521T183000
DTSTAMP:20260423T042822
CREATED:20250326T150343Z
LAST-MODIFIED:20250528T085113Z
UID:10003827-1747848600-1747852200@wienzimmer.fsw.at
SUMMARY:HobbyLobby-Kurs Tanzen
DESCRIPTION:im Keller
URL:https://wienzimmer.fsw.at/event/hobbylobby-kurs-tanzen/2025-05-21/
CATEGORIES:Kinder und Jugendliche
ATTACH;FMTTYPE=image/png:https://wienzimmer.fsw.at/wp-content/uploads/2023/11/Tanzen.png
END:VEVENT
BEGIN:VEVENT
DTSTART;TZID=Europe/Vienna:20250521T180000
DTEND;TZID=Europe/Vienna:20250521T200000
DTSTAMP:20260423T042822
CREATED:20250401T085432Z
LAST-MODIFIED:20250528T085404Z
UID:10003831-1747850400-1747857600@wienzimmer.fsw.at
SUMMARY:LineDance Gruppe
DESCRIPTION:kleiner Seminarraum (1. Stock)
URL:https://wienzimmer.fsw.at/event/linedance-gruppe/2025-05-21/
END:VEVENT
END:VCALENDAR