BEGIN:VCALENDAR
VERSION:2.0
PRODID:-//Wien Zimmer - ECPv6.15.17.1//NONSGML v1.0//EN
CALSCALE:GREGORIAN
METHOD:PUBLISH
X-ORIGINAL-URL:https://wienzimmer.fsw.at
X-WR-CALDESC:Veranstaltungen für Wien Zimmer
REFRESH-INTERVAL;VALUE=DURATION:PT1H
X-Robots-Tag:noindex
X-PUBLISHED-TTL:PT1H
BEGIN:VTIMEZONE
TZID:Europe/Vienna
BEGIN:DAYLIGHT
TZOFFSETFROM:+0100
TZOFFSETTO:+0200
TZNAME:CEST
DTSTART:20240331T010000
END:DAYLIGHT
BEGIN:STANDARD
TZOFFSETFROM:+0200
TZOFFSETTO:+0100
TZNAME:CET
DTSTART:20241027T010000
END:STANDARD
BEGIN:DAYLIGHT
TZOFFSETFROM:+0100
TZOFFSETTO:+0200
TZNAME:CEST
DTSTART:20250330T010000
END:DAYLIGHT
BEGIN:STANDARD
TZOFFSETFROM:+0200
TZOFFSETTO:+0100
TZNAME:CET
DTSTART:20251026T010000
END:STANDARD
BEGIN:DAYLIGHT
TZOFFSETFROM:+0100
TZOFFSETTO:+0200
TZNAME:CEST
DTSTART:20260329T010000
END:DAYLIGHT
BEGIN:STANDARD
TZOFFSETFROM:+0200
TZOFFSETTO:+0100
TZNAME:CET
DTSTART:20261025T010000
END:STANDARD
END:VTIMEZONE
BEGIN:VEVENT
DTSTART;TZID=Europe/Vienna:20250520T080000
DTEND;TZID=Europe/Vienna:20250520T100000
DTSTAMP:20260423T005850
CREATED:20241127T134110Z
LAST-MODIFIED:20250625T114952Z
UID:10003761-1747728000-1747735200@wienzimmer.fsw.at
SUMMARY:Elterncafé im WienZimmer
DESCRIPTION:Austausch und Beratung für alle Eltern\nBabies und Kleinkinder können mitgebracht werden\nim Festsaal
URL:https://wienzimmer.fsw.at/event/elterncafe-im-wienzimmer-4/2025-05-20/
LOCATION:WienZimmer\, Karl-Seitz-Hof - Jedleseer Str. 66-94/Ecke Jedleseer Straße und Dunantgasse\, Wien\, 1210\, Österreich
END:VEVENT
BEGIN:VEVENT
DTSTART;TZID=Europe/Vienna:20250520T130000
DTEND;TZID=Europe/Vienna:20250520T134500
DTSTAMP:20260423T005850
CREATED:20250326T140917Z
LAST-MODIFIED:20250528T104753Z
UID:10003768-1747746000-1747748700@wienzimmer.fsw.at
SUMMARY:Leseratten Club
DESCRIPTION:gemeinsames interaktives Vorlesen für Kinder (auf Deutsch und Arabisch)\nim kleinen Seminarraum
URL:https://wienzimmer.fsw.at/event/leseratten-club/2025-05-20/
CATEGORIES:Kinder und Jugendliche
END:VEVENT
BEGIN:VEVENT
DTSTART;TZID=Europe/Vienna:20250520T140000
DTEND;TZID=Europe/Vienna:20250520T160000
DTSTAMP:20260423T005850
CREATED:20250402T075012Z
LAST-MODIFIED:20250528T083034Z
UID:10003773-1747749600-1747756800@wienzimmer.fsw.at
SUMMARY:Hausaufgabenbegleitung
DESCRIPTION:Hausaufgabenbegleitung mit rettet das Kind Österreich\nim Souterrain (Keller)
URL:https://wienzimmer.fsw.at/event/hausaufgabenbegleitung-3-2/2025-05-20/
LOCATION:WienZimmer\, Karl-Seitz-Hof - Jedleseer Str. 66-94/Ecke Jedleseer Straße und Dunantgasse\, Wien\, 1210\, Österreich
CATEGORIES:Kinder und Jugendliche
ATTACH;FMTTYPE=image/png:https://wienzimmer.fsw.at/wp-content/uploads/2023/11/Hausaufgaben.png
END:VEVENT
BEGIN:VEVENT
DTSTART;TZID=Europe/Vienna:20250520T163000
DTEND;TZID=Europe/Vienna:20250520T173000
DTSTAMP:20260423T005850
CREATED:20250326T143658Z
LAST-MODIFIED:20250528T083226Z
UID:10003777-1747758600-1747762200@wienzimmer.fsw.at
SUMMARY:HobbyLobby-Kurs Nachhilfe
DESCRIPTION:im kleinen Seminarraum
URL:https://wienzimmer.fsw.at/event/hobbylobby-kurs-nachhilfe/2025-05-20/
CATEGORIES:Kinder und Jugendliche
ATTACH;FMTTYPE=image/png:https://wienzimmer.fsw.at/wp-content/uploads/2023/11/Hausaufgaben.png
END:VEVENT
BEGIN:VEVENT
DTSTART;TZID=Europe/Vienna:20250520T163000
DTEND;TZID=Europe/Vienna:20250520T173000
DTSTAMP:20260423T005850
CREATED:20250326T143928Z
LAST-MODIFIED:20250528T083340Z
UID:10003781-1747758600-1747762200@wienzimmer.fsw.at
SUMMARY:HobbyLobby-Kurs Kreativwerkstatt (KlimaLabor)
DESCRIPTION:im Keller
URL:https://wienzimmer.fsw.at/event/hobbylobby-kurs-kreativwerkstatt-klimalabor/2025-05-20/
CATEGORIES:Kinder und Jugendliche
END:VEVENT
BEGIN:VEVENT
DTSTART;TZID=Europe/Vienna:20250520T170000
DTEND;TZID=Europe/Vienna:20250520T200000
DTSTAMP:20260423T005850
CREATED:20250422T122808Z
LAST-MODIFIED:20250422T122808Z
UID:10003990-1747760400-1747771200@wienzimmer.fsw.at
SUMMARY:Tanz mit Franz
DESCRIPTION:mit DJ Franz Haberl\nim Festsaal \n* nur für Erwachsene
URL:https://wienzimmer.fsw.at/event/tanz-mit-franz-3/
ATTACH;FMTTYPE=image/png:https://wienzimmer.fsw.at/wp-content/uploads/2023/11/Tanzen.png
END:VEVENT
BEGIN:VEVENT
DTSTART;TZID=Europe/Vienna:20250520T173000
DTEND;TZID=Europe/Vienna:20250520T183000
DTSTAMP:20260423T005850
CREATED:20250326T144339Z
LAST-MODIFIED:20250528T083424Z
UID:10003975-1747762200-1747765800@wienzimmer.fsw.at
SUMMARY:HobbyLobby-Kurs Malen & Zeichnen
DESCRIPTION:im Keller
URL:https://wienzimmer.fsw.at/event/hobbylobby-kurs-malen-zeichnen/2025-05-20/
CATEGORIES:Kinder und Jugendliche
ATTACH;FMTTYPE=image/png:https://wienzimmer.fsw.at/wp-content/uploads/2023/11/Malen.png
END:VEVENT
BEGIN:VEVENT
DTSTART;TZID=Europe/Vienna:20250520T180000
DTEND;TZID=Europe/Vienna:20250520T200000
DTSTAMP:20260423T005850
CREATED:20250326T144457Z
LAST-MODIFIED:20250528T083522Z
UID:10003789-1747764000-1747771200@wienzimmer.fsw.at
SUMMARY:Bauchtanzkurs
DESCRIPTION:kostenlos – mit Brigitte Komarek\nimmer Dienstag\, im April und Mai\nim kleinen Seminarraum\nAnmeldung per Mail unter:  wienzimmer@fsw.at Betreff: Bauchtanz\,\ntelefonisch unter: +43 676  8289 40055 oder persönlich im WienZimmer
URL:https://wienzimmer.fsw.at/event/bauchtanzkurs/2025-05-20/
END:VEVENT
END:VCALENDAR