BEGIN:VCALENDAR
VERSION:2.0
PRODID:-//Wien Zimmer - ECPv6.15.17.1//NONSGML v1.0//EN
CALSCALE:GREGORIAN
METHOD:PUBLISH
X-ORIGINAL-URL:https://wienzimmer.fsw.at
X-WR-CALDESC:Veranstaltungen für Wien Zimmer
REFRESH-INTERVAL;VALUE=DURATION:PT1H
X-Robots-Tag:noindex
X-PUBLISHED-TTL:PT1H
BEGIN:VTIMEZONE
TZID:Europe/Vienna
BEGIN:DAYLIGHT
TZOFFSETFROM:+0100
TZOFFSETTO:+0200
TZNAME:CEST
DTSTART:20240331T010000
END:DAYLIGHT
BEGIN:STANDARD
TZOFFSETFROM:+0200
TZOFFSETTO:+0100
TZNAME:CET
DTSTART:20241027T010000
END:STANDARD
BEGIN:DAYLIGHT
TZOFFSETFROM:+0100
TZOFFSETTO:+0200
TZNAME:CEST
DTSTART:20250330T010000
END:DAYLIGHT
BEGIN:STANDARD
TZOFFSETFROM:+0200
TZOFFSETTO:+0100
TZNAME:CET
DTSTART:20251026T010000
END:STANDARD
BEGIN:DAYLIGHT
TZOFFSETFROM:+0100
TZOFFSETTO:+0200
TZNAME:CEST
DTSTART:20260329T010000
END:DAYLIGHT
BEGIN:STANDARD
TZOFFSETFROM:+0200
TZOFFSETTO:+0100
TZNAME:CET
DTSTART:20261025T010000
END:STANDARD
END:VTIMEZONE
BEGIN:VEVENT
DTSTART;TZID=Europe/Vienna:20250516T133000
DTEND;TZID=Europe/Vienna:20250516T143000
DTSTAMP:20260423T005850
CREATED:20250422T121534Z
LAST-MODIFIED:20250422T121553Z
UID:10003969-1747402200-1747405800@wienzimmer.fsw.at
SUMMARY:Bauch Beine Po (FEM)
DESCRIPTION:– mit Trainerin Marion Woch-Adang \nim kleinen Seminarraum\n* women only!
URL:https://wienzimmer.fsw.at/event/bauch-beine-po-fem/2025-05-16/
END:VEVENT
BEGIN:VEVENT
DTSTART;TZID=Europe/Vienna:20250516T133000
DTEND;TZID=Europe/Vienna:20250516T200000
DTSTAMP:20260423T005850
CREATED:20250422T105320Z
LAST-MODIFIED:20250625T121423Z
UID:10003971-1747402200-1747425600@wienzimmer.fsw.at
SUMMARY:Kinderfreunde Wien – offene Kinder- & Jugendarbeit
DESCRIPTION:bei Schönwetter draußen im Robinsonpark / bei Schlechtwetter im WienZimmer
URL:https://wienzimmer.fsw.at/event/kinderfreunde-wien-offene-kinder-jugendarbeit-3/2025-05-16/
CATEGORIES:Kinder und Jugendliche
END:VEVENT
BEGIN:VEVENT
DTSTART;TZID=Europe/Vienna:20250516T160000
DTEND;TZID=Europe/Vienna:20250516T170000
DTSTAMP:20260423T005850
CREATED:20250401T085745Z
LAST-MODIFIED:20250422T105623Z
UID:10003756-1747411200-1747414800@wienzimmer.fsw.at
SUMMARY:HobbyLobby-Kurs Musik & Singen
DESCRIPTION:im kleinen Seminarraum
URL:https://wienzimmer.fsw.at/event/hobbylobby-kurs-musik-singen/2025-05-16/
CATEGORIES:Kinder und Jugendliche
ATTACH;FMTTYPE=image/png:https://wienzimmer.fsw.at/wp-content/uploads/2024/04/musik_singen.png
END:VEVENT
BEGIN:VEVENT
DTSTART;TZID=Europe/Vienna:20250516T160000
DTEND;TZID=Europe/Vienna:20250516T170000
DTSTAMP:20260423T005850
CREATED:20250401T085927Z
LAST-MODIFIED:20250422T105749Z
UID:10003649-1747411200-1747414800@wienzimmer.fsw.at
SUMMARY:HobbyLobby Kurs Taekwondo
DESCRIPTION:im Keller
URL:https://wienzimmer.fsw.at/event/hobbylobby-kurs-taekwondo/2025-05-16/
CATEGORIES:Kinder und Jugendliche
ATTACH;FMTTYPE=image/png:https://wienzimmer.fsw.at/wp-content/uploads/2024/04/kampfsport.png
END:VEVENT
BEGIN:VEVENT
DTSTART;TZID=Europe/Vienna:20250516T170000
DTEND;TZID=Europe/Vienna:20250516T180000
DTSTAMP:20260423T005850
CREATED:20250401T090108Z
LAST-MODIFIED:20250422T105917Z
UID:10003701-1747414800-1747418400@wienzimmer.fsw.at
SUMMARY:HobbyLobby-Kurs Experimente
DESCRIPTION:im Keller
URL:https://wienzimmer.fsw.at/event/hobbylobby-kurs-experimente/2025-05-16/
ATTACH;FMTTYPE=image/png:https://wienzimmer.fsw.at/wp-content/uploads/2024/10/WienZimmer_Veranstaltungskalender-Experimente.png
END:VEVENT
END:VCALENDAR