BEGIN:VCALENDAR
VERSION:2.0
PRODID:-//Wien Zimmer - ECPv6.15.17.1//NONSGML v1.0//EN
CALSCALE:GREGORIAN
METHOD:PUBLISH
X-ORIGINAL-URL:https://wienzimmer.fsw.at
X-WR-CALDESC:Veranstaltungen für Wien Zimmer
REFRESH-INTERVAL;VALUE=DURATION:PT1H
X-Robots-Tag:noindex
X-PUBLISHED-TTL:PT1H
BEGIN:VTIMEZONE
TZID:Europe/Vienna
BEGIN:DAYLIGHT
TZOFFSETFROM:+0100
TZOFFSETTO:+0200
TZNAME:CEST
DTSTART:20240331T010000
END:DAYLIGHT
BEGIN:STANDARD
TZOFFSETFROM:+0200
TZOFFSETTO:+0100
TZNAME:CET
DTSTART:20241027T010000
END:STANDARD
BEGIN:DAYLIGHT
TZOFFSETFROM:+0100
TZOFFSETTO:+0200
TZNAME:CEST
DTSTART:20250330T010000
END:DAYLIGHT
BEGIN:STANDARD
TZOFFSETFROM:+0200
TZOFFSETTO:+0100
TZNAME:CET
DTSTART:20251026T010000
END:STANDARD
BEGIN:DAYLIGHT
TZOFFSETFROM:+0100
TZOFFSETTO:+0200
TZNAME:CEST
DTSTART:20260329T010000
END:DAYLIGHT
BEGIN:STANDARD
TZOFFSETFROM:+0200
TZOFFSETTO:+0100
TZNAME:CET
DTSTART:20261025T010000
END:STANDARD
END:VTIMEZONE
BEGIN:VEVENT
DTSTART;TZID=Europe/Vienna:20250430T091500
DTEND;TZID=Europe/Vienna:20250430T101500
DTSTAMP:20260423T005924
CREATED:20250326T145010Z
LAST-MODIFIED:20250625T122341Z
UID:10003587-1746004500-1746008100@wienzimmer.fsw.at
SUMMARY:Yoga mit Sophie – für Senior:innen
DESCRIPTION:im kleinen Seminarraum (1. Stock)
URL:https://wienzimmer.fsw.at/event/yoga-mit-sophie-fuer-seniorinnen-2/2025-04-30/
END:VEVENT
BEGIN:VEVENT
DTSTART;TZID=Europe/Vienna:20250430T103000
DTEND;TZID=Europe/Vienna:20250430T120000
DTSTAMP:20260423T005924
CREATED:20250326T145243Z
LAST-MODIFIED:20250326T145243Z
UID:10003592-1746009000-1746014400@wienzimmer.fsw.at
SUMMARY:offene Aquarell-Malrunde  - selbstorganisiert
DESCRIPTION:im Festsaal
URL:https://wienzimmer.fsw.at/event/offene-aquarell-malrunde-selbstorganisiert/2025-04-30/
ATTACH;FMTTYPE=image/png:https://wienzimmer.fsw.at/wp-content/uploads/2023/11/Malen.png
END:VEVENT
BEGIN:VEVENT
DTSTART;TZID=Europe/Vienna:20250430T104000
DTEND;TZID=Europe/Vienna:20250430T114500
DTSTAMP:20260423T005924
CREATED:20250326T144820Z
LAST-MODIFIED:20250625T122455Z
UID:10003582-1746009600-1746013500@wienzimmer.fsw.at
SUMMARY:Yoga mit Sophie – Yoga für Anfänger:innen
DESCRIPTION:im kleinen Seminarraum (1. Stock)
URL:https://wienzimmer.fsw.at/event/yoga-mit-sophie-yoga-fuer-anfaengerinnen-2/2025-04-30/
END:VEVENT
BEGIN:VEVENT
DTSTART;TZID=Europe/Vienna:20250430T133000
DTEND;TZID=Europe/Vienna:20250430T190000
DTSTAMP:20260423T005924
CREATED:20250326T145450Z
LAST-MODIFIED:20250528T084729Z
UID:10003597-1746019800-1746039600@wienzimmer.fsw.at
SUMMARY:Kinderfreunde Wien – offene Kinder- & Jugendarbeit
DESCRIPTION:für Kinder von 6-12Jahre\nim WienZimmer
URL:https://wienzimmer.fsw.at/event/kinderfreunde-wien-offene-kinder-jugendarbeit/2025-04-30/
CATEGORIES:Kinder und Jugendliche
END:VEVENT
BEGIN:VEVENT
DTSTART;TZID=Europe/Vienna:20250430T153000
DTEND;TZID=Europe/Vienna:20250430T163000
DTSTAMP:20260423T005924
CREATED:20250326T145816Z
LAST-MODIFIED:20250528T084933Z
UID:10003608-1746027000-1746030600@wienzimmer.fsw.at
SUMMARY:HobbyLobby-Kurs Anime & Manga
DESCRIPTION:15.30-16.30 Uhr\nHobbyLobby-Kurs Anime & Manga\nim kleinen Seminarraum
URL:https://wienzimmer.fsw.at/event/hobbylobby-kurs-anime-manga/2025-04-30/
CATEGORIES:Kinder und Jugendliche
ATTACH;FMTTYPE=image/png:https://wienzimmer.fsw.at/wp-content/uploads/2024/10/WienZimmer_Veranstaltungskalender-Anime.png
END:VEVENT
BEGIN:VEVENT
DTSTART;TZID=Europe/Vienna:20250430T163000
DTEND;TZID=Europe/Vienna:20250430T173000
DTSTAMP:20260423T005924
CREATED:20250326T150122Z
LAST-MODIFIED:20250528T085028Z
UID:10003612-1746030600-1746034200@wienzimmer.fsw.at
SUMMARY:HobbyLobby-Kurs Fitness
DESCRIPTION:im Keller
URL:https://wienzimmer.fsw.at/event/hobbylobby-kurs-fitness/2025-04-30/
CATEGORIES:Kinder und Jugendliche
ATTACH;FMTTYPE=image/png:https://wienzimmer.fsw.at/wp-content/uploads/2023/11/Fitness.png
END:VEVENT
BEGIN:VEVENT
DTSTART;TZID=Europe/Vienna:20250430T173000
DTEND;TZID=Europe/Vienna:20250430T183000
DTSTAMP:20260423T005924
CREATED:20250326T150343Z
LAST-MODIFIED:20250528T085113Z
UID:10003616-1746034200-1746037800@wienzimmer.fsw.at
SUMMARY:HobbyLobby-Kurs Tanzen
DESCRIPTION:im Keller
URL:https://wienzimmer.fsw.at/event/hobbylobby-kurs-tanzen/2025-04-30/
CATEGORIES:Kinder und Jugendliche
ATTACH;FMTTYPE=image/png:https://wienzimmer.fsw.at/wp-content/uploads/2023/11/Tanzen.png
END:VEVENT
END:VCALENDAR