BEGIN:VCALENDAR
VERSION:2.0
PRODID:-//Wien Zimmer - ECPv6.15.17.1//NONSGML v1.0//EN
CALSCALE:GREGORIAN
METHOD:PUBLISH
X-WR-CALNAME:Wien Zimmer
X-ORIGINAL-URL:https://wienzimmer.fsw.at
X-WR-CALDESC:Veranstaltungen für Wien Zimmer
REFRESH-INTERVAL;VALUE=DURATION:PT1H
X-Robots-Tag:noindex
X-PUBLISHED-TTL:PT1H
BEGIN:VTIMEZONE
TZID:Europe/Vienna
BEGIN:DAYLIGHT
TZOFFSETFROM:+0100
TZOFFSETTO:+0200
TZNAME:CEST
DTSTART:20240331T010000
END:DAYLIGHT
BEGIN:STANDARD
TZOFFSETFROM:+0200
TZOFFSETTO:+0100
TZNAME:CET
DTSTART:20241027T010000
END:STANDARD
BEGIN:DAYLIGHT
TZOFFSETFROM:+0100
TZOFFSETTO:+0200
TZNAME:CEST
DTSTART:20250330T010000
END:DAYLIGHT
BEGIN:STANDARD
TZOFFSETFROM:+0200
TZOFFSETTO:+0100
TZNAME:CET
DTSTART:20251026T010000
END:STANDARD
BEGIN:DAYLIGHT
TZOFFSETFROM:+0100
TZOFFSETTO:+0200
TZNAME:CEST
DTSTART:20260329T010000
END:DAYLIGHT
BEGIN:STANDARD
TZOFFSETFROM:+0200
TZOFFSETTO:+0100
TZNAME:CET
DTSTART:20261025T010000
END:STANDARD
END:VTIMEZONE
BEGIN:VEVENT
DTSTART;TZID=Europe/Vienna:20250425T160000
DTEND;TZID=Europe/Vienna:20250425T170000
DTSTAMP:20260423T024401
CREATED:20250401T085745Z
LAST-MODIFIED:20250422T105623Z
UID:10003643-1745596800-1745600400@wienzimmer.fsw.at
SUMMARY:HobbyLobby-Kurs Musik & Singen
DESCRIPTION:im kleinen Seminarraum
URL:https://wienzimmer.fsw.at/event/hobbylobby-kurs-musik-singen/2025-04-25/
CATEGORIES:Kinder und Jugendliche
ATTACH;FMTTYPE=image/png:https://wienzimmer.fsw.at/wp-content/uploads/2024/04/musik_singen.png
END:VEVENT
BEGIN:VEVENT
DTSTART;TZID=Europe/Vienna:20250425T160000
DTEND;TZID=Europe/Vienna:20250425T170000
DTSTAMP:20260423T024401
CREATED:20250401T085927Z
LAST-MODIFIED:20250422T105749Z
UID:10003646-1745596800-1745600400@wienzimmer.fsw.at
SUMMARY:HobbyLobby Kurs Taekwondo
DESCRIPTION:im Keller
URL:https://wienzimmer.fsw.at/event/hobbylobby-kurs-taekwondo/2025-04-25/
CATEGORIES:Kinder und Jugendliche
ATTACH;FMTTYPE=image/png:https://wienzimmer.fsw.at/wp-content/uploads/2024/04/kampfsport.png
END:VEVENT
BEGIN:VEVENT
DTSTART;TZID=Europe/Vienna:20250425T170000
DTEND;TZID=Europe/Vienna:20250425T180000
DTSTAMP:20260423T024401
CREATED:20250401T090108Z
LAST-MODIFIED:20250422T105917Z
UID:10003698-1745600400-1745604000@wienzimmer.fsw.at
SUMMARY:HobbyLobby-Kurs Experimente
DESCRIPTION:im Keller
URL:https://wienzimmer.fsw.at/event/hobbylobby-kurs-experimente/2025-04-25/
ATTACH;FMTTYPE=image/png:https://wienzimmer.fsw.at/wp-content/uploads/2024/10/WienZimmer_Veranstaltungskalender-Experimente.png
END:VEVENT
BEGIN:VEVENT
DTSTART;TZID=Europe/Vienna:20250425T170000
DTEND;TZID=Europe/Vienna:20250425T200000
DTSTAMP:20260423T024401
CREATED:20250422T122657Z
LAST-MODIFIED:20250422T122657Z
UID:10003989-1745600400-1745611200@wienzimmer.fsw.at
SUMMARY:Gruppentherapie: Psychodrama
DESCRIPTION:im kleinen Seminarraum (1. Stock) \nHilfe bei Angst\, bei Depression und anderen Schwierigkeiten. Gruppenpsychotherapie mit der Methode Psychodrama. \nAb 17.15 – 20.00 Uhr\, mit Pause \nOhne Kosten bei Vorlage einer ärztlichen Überweisung zur Psychotherapie. \nFür die Anmeldung und mehr Information: Michael Josef Seiss\, MMSc. unter 0699-11133441. praxis@michaeljosefseiss.at
URL:https://wienzimmer.fsw.at/event/gruppentherapie-psychodrama-24/2025-04-25/
LOCATION:WienZimmer\, Karl-Seitz-Hof - Jedleseer Str. 66-94/Ecke Jedleseer Straße und Dunantgasse\, Wien\, 1210\, Österreich
CATEGORIES:Sonstiges
ATTACH;FMTTYPE=image/png:https://wienzimmer.fsw.at/wp-content/uploads/2023/11/Gruppentherapie.png
END:VEVENT
END:VCALENDAR