BEGIN:VCALENDAR
VERSION:2.0
PRODID:-//Wien Zimmer - ECPv6.15.17.1//NONSGML v1.0//EN
CALSCALE:GREGORIAN
METHOD:PUBLISH
X-ORIGINAL-URL:https://wienzimmer.fsw.at
X-WR-CALDESC:Veranstaltungen für Wien Zimmer
REFRESH-INTERVAL;VALUE=DURATION:PT1H
X-Robots-Tag:noindex
X-PUBLISHED-TTL:PT1H
BEGIN:VTIMEZONE
TZID:Europe/Vienna
BEGIN:DAYLIGHT
TZOFFSETFROM:+0100
TZOFFSETTO:+0200
TZNAME:CEST
DTSTART:20240331T010000
END:DAYLIGHT
BEGIN:STANDARD
TZOFFSETFROM:+0200
TZOFFSETTO:+0100
TZNAME:CET
DTSTART:20241027T010000
END:STANDARD
BEGIN:DAYLIGHT
TZOFFSETFROM:+0100
TZOFFSETTO:+0200
TZNAME:CEST
DTSTART:20250330T010000
END:DAYLIGHT
BEGIN:STANDARD
TZOFFSETFROM:+0200
TZOFFSETTO:+0100
TZNAME:CET
DTSTART:20251026T010000
END:STANDARD
BEGIN:DAYLIGHT
TZOFFSETFROM:+0100
TZOFFSETTO:+0200
TZNAME:CEST
DTSTART:20260329T010000
END:DAYLIGHT
BEGIN:STANDARD
TZOFFSETFROM:+0200
TZOFFSETTO:+0100
TZNAME:CET
DTSTART:20261025T010000
END:STANDARD
END:VTIMEZONE
BEGIN:VEVENT
DTSTART;TZID=Europe/Vienna:20250220T100000
DTEND;TZID=Europe/Vienna:20250220T110000
DTSTAMP:20260423T063817
CREATED:20241107T084840Z
LAST-MODIFIED:20250211T104841Z
UID:10003445-1740045600-1740049200@wienzimmer.fsw.at
SUMMARY:Krafttraining mit Bernd - für ältere Menschen und alle\, die mitmachen wollen
DESCRIPTION:im kleinen Seminarsaal
URL:https://wienzimmer.fsw.at/event/krattraining-mit-bernd-fuer-aeltere-menschen-und-alle-die-mitmachen-wollen/2025-02-20/
END:VEVENT
BEGIN:VEVENT
DTSTART;TZID=Europe/Vienna:20250220T130000
DTEND;TZID=Europe/Vienna:20250220T134500
DTSTAMP:20260423T063817
CREATED:20250123T144630Z
LAST-MODIFIED:20250211T103741Z
UID:10003456-1740056400-1740059100@wienzimmer.fsw.at
SUMMARY:„Leseratten-Club“
DESCRIPTION:(für Kinder zwischen 8 und 12 Jahren)\nBilderbuchkino (dienstags auf Arabisch und Deutsch\, mittwochs auf Deutsch) – mit Ahmed und Noelle\n\nDieser Kurs richtet sich an leidenschaftliche Leser\, die ihre Lesefähigkeiten verbessern\, an anregenden Diskussionen teilnehmen und eine tiefere Liebe zur Literatur entwickeln möchten. Die Teilnehmenden haben die Möglichkeit\, verschiedene Genres zu erkunden\, ihr Verständnis und ihre kritischen Denkfähigkeiten zu verbessern und ihre Erkenntnisse mit anderen Lesenden zu teilen. \nkleiner Seminarraum (1. Stock)\nNur mit Anmeldung.\nwww.amira-lesen.de
URL:https://wienzimmer.fsw.at/event/wienzimmer-leseratten-lesekurs/2025-02-20/
CATEGORIES:Kinder und Jugendliche
END:VEVENT
BEGIN:VEVENT
DTSTART;TZID=Europe/Vienna:20250220T140000
DTEND;TZID=Europe/Vienna:20250220T150000
DTSTAMP:20260423T063817
CREATED:20250123T143215Z
LAST-MODIFIED:20250211T103929Z
UID:10003427-1740060000-1740063600@wienzimmer.fsw.at
SUMMARY:offener KlimaWorkshop– Kinderfreunde Wien
DESCRIPTION:im Festsaal \nMittwochs ab 13:30 Uhr\, sonst ab 14:00 Uhr
URL:https://wienzimmer.fsw.at/event/offener-klimaworkshop-kinderfreunde-wien/2025-02-20/
CATEGORIES:Kinder und Jugendliche
END:VEVENT
BEGIN:VEVENT
DTSTART;TZID=Europe/Vienna:20250220T140000
DTEND;TZID=Europe/Vienna:20250220T160000
DTSTAMP:20260423T063817
CREATED:20240919T142709Z
LAST-MODIFIED:20250604T093225Z
UID:10003463-1740060000-1740067200@wienzimmer.fsw.at
SUMMARY:Hausaufgabenbegleitung
DESCRIPTION:Hausaufgabenbegleitung mit rettet das Kind Österreich\nim Souterrain (Keller)
URL:https://wienzimmer.fsw.at/event/hausaufgabenbegleitung-2/2025-02-20/
LOCATION:WienZimmer\, Karl-Seitz-Hof - Jedleseer Str. 66-94/Ecke Jedleseer Straße und Dunantgasse\, Wien\, 1210\, Österreich
CATEGORIES:Kinder und Jugendliche
ATTACH;FMTTYPE=image/png:https://wienzimmer.fsw.at/wp-content/uploads/2023/11/Hausaufgaben.png
END:VEVENT
BEGIN:VEVENT
DTSTART;TZID=Europe/Vienna:20250220T150000
DTEND;TZID=Europe/Vienna:20250220T190000
DTSTAMP:20260423T063817
CREATED:20250123T143717Z
LAST-MODIFIED:20250123T143717Z
UID:10003435-1740063600-1740078000@wienzimmer.fsw.at
SUMMARY:offene Freizeitangebote für Kinder
DESCRIPTION:(bis 12 Jahre) – Kinderfreunde Wien\noffene Kinder- & Jugendarbeit\nim Festsaal / Souterrain (Keller)
URL:https://wienzimmer.fsw.at/event/offene-freizeitangebote-fuer-kinder/2025-02-20/
CATEGORIES:Kinder und Jugendliche
END:VEVENT
END:VCALENDAR