BEGIN:VCALENDAR
VERSION:2.0
PRODID:-//Wien Zimmer - ECPv6.15.17.1//NONSGML v1.0//EN
CALSCALE:GREGORIAN
METHOD:PUBLISH
X-WR-CALNAME:Wien Zimmer
X-ORIGINAL-URL:https://wienzimmer.fsw.at
X-WR-CALDESC:Veranstaltungen für Wien Zimmer
REFRESH-INTERVAL;VALUE=DURATION:PT1H
X-Robots-Tag:noindex
X-PUBLISHED-TTL:PT1H
BEGIN:VTIMEZONE
TZID:Europe/Vienna
BEGIN:DAYLIGHT
TZOFFSETFROM:+0100
TZOFFSETTO:+0200
TZNAME:CEST
DTSTART:20240331T010000
END:DAYLIGHT
BEGIN:STANDARD
TZOFFSETFROM:+0200
TZOFFSETTO:+0100
TZNAME:CET
DTSTART:20241027T010000
END:STANDARD
BEGIN:DAYLIGHT
TZOFFSETFROM:+0100
TZOFFSETTO:+0200
TZNAME:CEST
DTSTART:20250330T010000
END:DAYLIGHT
BEGIN:STANDARD
TZOFFSETFROM:+0200
TZOFFSETTO:+0100
TZNAME:CET
DTSTART:20251026T010000
END:STANDARD
BEGIN:DAYLIGHT
TZOFFSETFROM:+0100
TZOFFSETTO:+0200
TZNAME:CEST
DTSTART:20260329T010000
END:DAYLIGHT
BEGIN:STANDARD
TZOFFSETFROM:+0200
TZOFFSETTO:+0100
TZNAME:CET
DTSTART:20261025T010000
END:STANDARD
END:VTIMEZONE
BEGIN:VEVENT
DTSTART;TZID=Europe/Vienna:20250219T091500
DTEND;TZID=Europe/Vienna:20250219T101500
DTSTAMP:20260423T063326
CREATED:20241015T114227Z
LAST-MODIFIED:20250123T142322Z
UID:10003410-1739956500-1739960100@wienzimmer.fsw.at
SUMMARY:Yoga mit Sophie - für Senior:innen
DESCRIPTION:im kleinen Seminarraum (1. Stock)
URL:https://wienzimmer.fsw.at/event/yoga-mit-sophie-fuer-seniorinnen/2025-02-19/
END:VEVENT
BEGIN:VEVENT
DTSTART;TZID=Europe/Vienna:20250219T104500
DTEND;TZID=Europe/Vienna:20250219T114500
DTSTAMP:20260423T063326
CREATED:20241015T114621Z
LAST-MODIFIED:20250123T142501Z
UID:10003415-1739961900-1739965500@wienzimmer.fsw.at
SUMMARY:Yoga mit Sophie - Yoga für Anfänger:innen
DESCRIPTION:im kleinen Seminarraum (1. Stock)
URL:https://wienzimmer.fsw.at/event/yoga-mit-sophie-yoga-fuer-anfaengerinnen/2025-02-19/
END:VEVENT
BEGIN:VEVENT
DTSTART;TZID=Europe/Vienna:20250219T130000
DTEND;TZID=Europe/Vienna:20250219T134500
DTSTAMP:20260423T063326
CREATED:20250123T144630Z
LAST-MODIFIED:20250211T103741Z
UID:10003455-1739970000-1739972700@wienzimmer.fsw.at
SUMMARY:„Leseratten-Club“
DESCRIPTION:(für Kinder zwischen 8 und 12 Jahren)\nBilderbuchkino (dienstags auf Arabisch und Deutsch\, mittwochs auf Deutsch) – mit Ahmed und Noelle\n\nDieser Kurs richtet sich an leidenschaftliche Leser\, die ihre Lesefähigkeiten verbessern\, an anregenden Diskussionen teilnehmen und eine tiefere Liebe zur Literatur entwickeln möchten. Die Teilnehmenden haben die Möglichkeit\, verschiedene Genres zu erkunden\, ihr Verständnis und ihre kritischen Denkfähigkeiten zu verbessern und ihre Erkenntnisse mit anderen Lesenden zu teilen. \nkleiner Seminarraum (1. Stock)\nNur mit Anmeldung.\nwww.amira-lesen.de
URL:https://wienzimmer.fsw.at/event/wienzimmer-leseratten-lesekurs/2025-02-19/
CATEGORIES:Kinder und Jugendliche
END:VEVENT
BEGIN:VEVENT
DTSTART;TZID=Europe/Vienna:20250219T140000
DTEND;TZID=Europe/Vienna:20250219T150000
DTSTAMP:20260423T063326
CREATED:20250123T143215Z
LAST-MODIFIED:20250211T103929Z
UID:10003426-1739973600-1739977200@wienzimmer.fsw.at
SUMMARY:offener KlimaWorkshop– Kinderfreunde Wien
DESCRIPTION:im Festsaal \nMittwochs ab 13:30 Uhr\, sonst ab 14:00 Uhr
URL:https://wienzimmer.fsw.at/event/offener-klimaworkshop-kinderfreunde-wien/2025-02-19/
CATEGORIES:Kinder und Jugendliche
END:VEVENT
BEGIN:VEVENT
DTSTART;TZID=Europe/Vienna:20250219T150000
DTEND;TZID=Europe/Vienna:20250219T190000
DTSTAMP:20260423T063326
CREATED:20250123T143717Z
LAST-MODIFIED:20250123T143717Z
UID:10003434-1739977200-1739991600@wienzimmer.fsw.at
SUMMARY:offene Freizeitangebote für Kinder
DESCRIPTION:(bis 12 Jahre) – Kinderfreunde Wien\noffene Kinder- & Jugendarbeit\nim Festsaal / Souterrain (Keller)
URL:https://wienzimmer.fsw.at/event/offene-freizeitangebote-fuer-kinder/2025-02-19/
CATEGORIES:Kinder und Jugendliche
END:VEVENT
BEGIN:VEVENT
DTSTART;TZID=Europe/Vienna:20250219T170000
DTEND;TZID=Europe/Vienna:20250219T200000
DTSTAMP:20260423T063326
CREATED:20250123T144038Z
LAST-MODIFIED:20250123T144038Z
UID:10003442-1739984400-1739995200@wienzimmer.fsw.at
SUMMARY:Gruppentherapie: Psychodrama
DESCRIPTION:im kleinen Seminarraum (1. Stock) \nHilfe bei Angst\, bei Depression und anderen Schwierigkeiten. Gruppenpsychotherapie mit der Methode Psychodrama. \nAb 17.15 – 20.00 Uhr\, mit Pause \nOhne Kosten bei Vorlage einer ärztlichen Überweisung zur Psychotherapie. \nFür die Anmeldung und mehr Information: Michael Josef Seiss\, MMSc. unter 0699-11133441. praxis@michaeljosefseiss.at
URL:https://wienzimmer.fsw.at/event/gruppentherapie-psychodrama-22/2025-02-19/
LOCATION:WienZimmer\, Karl-Seitz-Hof - Jedleseer Str. 66-94/Ecke Jedleseer Straße und Dunantgasse\, Wien\, 1210\, Österreich
CATEGORIES:Sonstiges
ATTACH;FMTTYPE=image/png:https://wienzimmer.fsw.at/wp-content/uploads/2023/11/Gruppentherapie.png
END:VEVENT
END:VCALENDAR