BEGIN:VCALENDAR
VERSION:2.0
PRODID:-//Wien Zimmer - ECPv6.15.17.1//NONSGML v1.0//EN
CALSCALE:GREGORIAN
METHOD:PUBLISH
X-WR-CALNAME:Wien Zimmer
X-ORIGINAL-URL:https://wienzimmer.fsw.at
X-WR-CALDESC:Veranstaltungen für Wien Zimmer
REFRESH-INTERVAL;VALUE=DURATION:PT1H
X-Robots-Tag:noindex
X-PUBLISHED-TTL:PT1H
BEGIN:VTIMEZONE
TZID:Europe/Vienna
BEGIN:DAYLIGHT
TZOFFSETFROM:+0100
TZOFFSETTO:+0200
TZNAME:CEST
DTSTART:20240331T010000
END:DAYLIGHT
BEGIN:STANDARD
TZOFFSETFROM:+0200
TZOFFSETTO:+0100
TZNAME:CET
DTSTART:20241027T010000
END:STANDARD
BEGIN:DAYLIGHT
TZOFFSETFROM:+0100
TZOFFSETTO:+0200
TZNAME:CEST
DTSTART:20250330T010000
END:DAYLIGHT
BEGIN:STANDARD
TZOFFSETFROM:+0200
TZOFFSETTO:+0100
TZNAME:CET
DTSTART:20251026T010000
END:STANDARD
BEGIN:DAYLIGHT
TZOFFSETFROM:+0100
TZOFFSETTO:+0200
TZNAME:CEST
DTSTART:20260329T010000
END:DAYLIGHT
BEGIN:STANDARD
TZOFFSETFROM:+0200
TZOFFSETTO:+0100
TZNAME:CET
DTSTART:20261025T010000
END:STANDARD
END:VTIMEZONE
BEGIN:VEVENT
DTSTART;TZID=Europe/Vienna:20250212T091500
DTEND;TZID=Europe/Vienna:20250212T101500
DTSTAMP:20260423T062537
CREATED:20241015T114227Z
LAST-MODIFIED:20250123T142322Z
UID:10003409-1739351700-1739355300@wienzimmer.fsw.at
SUMMARY:Yoga mit Sophie - für Senior:innen
DESCRIPTION:im kleinen Seminarraum (1. Stock)
URL:https://wienzimmer.fsw.at/event/yoga-mit-sophie-fuer-seniorinnen/2025-02-12/
END:VEVENT
BEGIN:VEVENT
DTSTART;TZID=Europe/Vienna:20250212T103000
DTEND;TZID=Europe/Vienna:20250212T120000
DTSTAMP:20260423T062537
CREATED:20250123T142706Z
LAST-MODIFIED:20250123T142706Z
UID:10003421-1739356200-1739361600@wienzimmer.fsw.at
SUMMARY:Offene Aquarellmalrunde
DESCRIPTION:selbstorganisiert \nIm Festsaal (Hochparterre)
URL:https://wienzimmer.fsw.at/event/offene-aquarellmalrunde-6/2025-02-12/
ATTACH;FMTTYPE=image/png:https://wienzimmer.fsw.at/wp-content/uploads/2024/09/WienZimmer_MonatderSeniorinnen-neu.png
END:VEVENT
BEGIN:VEVENT
DTSTART;TZID=Europe/Vienna:20250212T104500
DTEND;TZID=Europe/Vienna:20250212T114500
DTSTAMP:20260423T062537
CREATED:20241015T114621Z
LAST-MODIFIED:20250123T142501Z
UID:10003414-1739357100-1739360700@wienzimmer.fsw.at
SUMMARY:Yoga mit Sophie - Yoga für Anfänger:innen
DESCRIPTION:im kleinen Seminarraum (1. Stock)
URL:https://wienzimmer.fsw.at/event/yoga-mit-sophie-yoga-fuer-anfaengerinnen/2025-02-12/
END:VEVENT
BEGIN:VEVENT
DTSTART;TZID=Europe/Vienna:20250212T130000
DTEND;TZID=Europe/Vienna:20250212T134500
DTSTAMP:20260423T062537
CREATED:20250123T144630Z
LAST-MODIFIED:20250211T103741Z
UID:10003453-1739365200-1739367900@wienzimmer.fsw.at
SUMMARY:„Leseratten-Club“
DESCRIPTION:(für Kinder zwischen 8 und 12 Jahren)\nBilderbuchkino (dienstags auf Arabisch und Deutsch\, mittwochs auf Deutsch) – mit Ahmed und Noelle\n\nDieser Kurs richtet sich an leidenschaftliche Leser\, die ihre Lesefähigkeiten verbessern\, an anregenden Diskussionen teilnehmen und eine tiefere Liebe zur Literatur entwickeln möchten. Die Teilnehmenden haben die Möglichkeit\, verschiedene Genres zu erkunden\, ihr Verständnis und ihre kritischen Denkfähigkeiten zu verbessern und ihre Erkenntnisse mit anderen Lesenden zu teilen. \nkleiner Seminarraum (1. Stock)\nNur mit Anmeldung.\nwww.amira-lesen.de
URL:https://wienzimmer.fsw.at/event/wienzimmer-leseratten-lesekurs/2025-02-12/
CATEGORIES:Kinder und Jugendliche
END:VEVENT
BEGIN:VEVENT
DTSTART;TZID=Europe/Vienna:20250212T133000
DTEND;TZID=Europe/Vienna:20250212T150000
DTSTAMP:20260423T062537
CREATED:20250123T143215Z
LAST-MODIFIED:20250211T103929Z
UID:10003474-1739367000-1739372400@wienzimmer.fsw.at
SUMMARY:offener KlimaWorkshop– Kinderfreunde Wien
DESCRIPTION:im Festsaal \nMittwochs ab 13:30 Uhr\, sonst ab 14:00 Uhr
URL:https://wienzimmer.fsw.at/event/offener-klimaworkshop-kinderfreunde-wien/2025-02-12/
CATEGORIES:Kinder und Jugendliche
END:VEVENT
BEGIN:VEVENT
DTSTART;TZID=Europe/Vienna:20250212T150000
DTEND;TZID=Europe/Vienna:20250212T190000
DTSTAMP:20260423T062537
CREATED:20250123T143717Z
LAST-MODIFIED:20250123T143717Z
UID:10003432-1739372400-1739386800@wienzimmer.fsw.at
SUMMARY:offene Freizeitangebote für Kinder
DESCRIPTION:(bis 12 Jahre) – Kinderfreunde Wien\noffene Kinder- & Jugendarbeit\nim Festsaal / Souterrain (Keller)
URL:https://wienzimmer.fsw.at/event/offene-freizeitangebote-fuer-kinder/2025-02-12/
CATEGORIES:Kinder und Jugendliche
END:VEVENT
BEGIN:VEVENT
DTSTART;TZID=Europe/Vienna:20250212T170000
DTEND;TZID=Europe/Vienna:20250212T180000
DTSTAMP:20260423T062537
CREATED:20250123T145858Z
LAST-MODIFIED:20250123T145858Z
UID:10003468-1739379600-1739383200@wienzimmer.fsw.at
SUMMARY:Line Dance Schnupperstunde
DESCRIPTION:– für alle\, die an LineDance interessiert sind\nkleiner Seminarraum (1. Stock)
URL:https://wienzimmer.fsw.at/event/line-dance-schnupperstunde-3/2025-02-12/
ATTACH;FMTTYPE=image/png:https://wienzimmer.fsw.at/wp-content/uploads/2023/11/Tanzen.png
END:VEVENT
BEGIN:VEVENT
DTSTART;TZID=Europe/Vienna:20250212T180000
DTEND;TZID=Europe/Vienna:20250212T200000
DTSTAMP:20260423T062537
CREATED:20250123T150035Z
LAST-MODIFIED:20250123T150035Z
UID:10003469-1739383200-1739390400@wienzimmer.fsw.at
SUMMARY:Line Dance Gruppe
DESCRIPTION:kleiner Seminarraum (1. Stock)
URL:https://wienzimmer.fsw.at/event/line-dance-gruppe-4/2025-02-12/
ATTACH;FMTTYPE=image/png:https://wienzimmer.fsw.at/wp-content/uploads/2023/11/Tanzen.png
END:VEVENT
END:VCALENDAR