BEGIN:VCALENDAR
VERSION:2.0
PRODID:-//Wien Zimmer - ECPv6.15.17.1//NONSGML v1.0//EN
CALSCALE:GREGORIAN
METHOD:PUBLISH
X-WR-CALNAME:Wien Zimmer
X-ORIGINAL-URL:https://wienzimmer.fsw.at
X-WR-CALDESC:Veranstaltungen für Wien Zimmer
REFRESH-INTERVAL;VALUE=DURATION:PT1H
X-Robots-Tag:noindex
X-PUBLISHED-TTL:PT1H
BEGIN:VTIMEZONE
TZID:Europe/Vienna
BEGIN:DAYLIGHT
TZOFFSETFROM:+0100
TZOFFSETTO:+0200
TZNAME:CEST
DTSTART:20240331T010000
END:DAYLIGHT
BEGIN:STANDARD
TZOFFSETFROM:+0200
TZOFFSETTO:+0100
TZNAME:CET
DTSTART:20241027T010000
END:STANDARD
BEGIN:DAYLIGHT
TZOFFSETFROM:+0100
TZOFFSETTO:+0200
TZNAME:CEST
DTSTART:20250330T010000
END:DAYLIGHT
BEGIN:STANDARD
TZOFFSETFROM:+0200
TZOFFSETTO:+0100
TZNAME:CET
DTSTART:20251026T010000
END:STANDARD
BEGIN:DAYLIGHT
TZOFFSETFROM:+0100
TZOFFSETTO:+0200
TZNAME:CEST
DTSTART:20260329T010000
END:DAYLIGHT
BEGIN:STANDARD
TZOFFSETFROM:+0200
TZOFFSETTO:+0100
TZNAME:CET
DTSTART:20261025T010000
END:STANDARD
END:VTIMEZONE
BEGIN:VEVENT
DTSTART;TZID=Europe/Vienna:20250205T091500
DTEND;TZID=Europe/Vienna:20250205T101500
DTSTAMP:20260423T063305
CREATED:20241015T114227Z
LAST-MODIFIED:20250123T142322Z
UID:10003408-1738746900-1738750500@wienzimmer.fsw.at
SUMMARY:Yoga mit Sophie - für Senior:innen
DESCRIPTION:im kleinen Seminarraum (1. Stock)
URL:https://wienzimmer.fsw.at/event/yoga-mit-sophie-fuer-seniorinnen/2025-02-05/
END:VEVENT
BEGIN:VEVENT
DTSTART;TZID=Europe/Vienna:20250205T103000
DTEND;TZID=Europe/Vienna:20250205T120000
DTSTAMP:20260423T063305
CREATED:20250123T142706Z
LAST-MODIFIED:20250123T142706Z
UID:10003420-1738751400-1738756800@wienzimmer.fsw.at
SUMMARY:Offene Aquarellmalrunde
DESCRIPTION:selbstorganisiert \nIm Festsaal (Hochparterre)
URL:https://wienzimmer.fsw.at/event/offene-aquarellmalrunde-6/2025-02-05/
ATTACH;FMTTYPE=image/png:https://wienzimmer.fsw.at/wp-content/uploads/2024/09/WienZimmer_MonatderSeniorinnen-neu.png
END:VEVENT
BEGIN:VEVENT
DTSTART;TZID=Europe/Vienna:20250205T104500
DTEND;TZID=Europe/Vienna:20250205T114500
DTSTAMP:20260423T063305
CREATED:20241015T114621Z
LAST-MODIFIED:20250123T142501Z
UID:10003413-1738752300-1738755900@wienzimmer.fsw.at
SUMMARY:Yoga mit Sophie - Yoga für Anfänger:innen
DESCRIPTION:im kleinen Seminarraum (1. Stock)
URL:https://wienzimmer.fsw.at/event/yoga-mit-sophie-yoga-fuer-anfaengerinnen/2025-02-05/
END:VEVENT
BEGIN:VEVENT
DTSTART;TZID=Europe/Vienna:20250205T140000
DTEND;TZID=Europe/Vienna:20250205T150000
DTSTAMP:20260423T063305
CREATED:20250123T143215Z
LAST-MODIFIED:20250211T103929Z
UID:10003422-1738764000-1738767600@wienzimmer.fsw.at
SUMMARY:offener KlimaWorkshop– Kinderfreunde Wien
DESCRIPTION:im Festsaal \nMittwochs ab 13:30 Uhr\, sonst ab 14:00 Uhr
URL:https://wienzimmer.fsw.at/event/offener-klimaworkshop-kinderfreunde-wien/2025-02-05/
CATEGORIES:Kinder und Jugendliche
END:VEVENT
BEGIN:VEVENT
DTSTART;TZID=Europe/Vienna:20250205T150000
DTEND;TZID=Europe/Vienna:20250205T190000
DTSTAMP:20260423T063305
CREATED:20250123T143717Z
LAST-MODIFIED:20250123T143717Z
UID:10003430-1738767600-1738782000@wienzimmer.fsw.at
SUMMARY:offene Freizeitangebote für Kinder
DESCRIPTION:(bis 12 Jahre) – Kinderfreunde Wien\noffene Kinder- & Jugendarbeit\nim Festsaal / Souterrain (Keller)
URL:https://wienzimmer.fsw.at/event/offene-freizeitangebote-fuer-kinder/2025-02-05/
CATEGORIES:Kinder und Jugendliche
END:VEVENT
BEGIN:VEVENT
DTSTART;TZID=Europe/Vienna:20250205T160000
DTEND;TZID=Europe/Vienna:20250205T173000
DTSTAMP:20260423T063305
CREATED:20250123T143913Z
LAST-MODIFIED:20250123T143939Z
UID:10003438-1738771200-1738776600@wienzimmer.fsw.at
SUMMARY:s’Plaudertischerl – Einfach ins Gespräch kommen
DESCRIPTION:im Festsall (Hochparterre) \nEin kurzer Plausch über das Wetter oder eine längere Unterhaltung – regelmäßig am ersten Mittwoch im Monat kommen am Plaudertischerl in Wiener Kaffeehäusern und Nachbarschaftszentren Menschen auf einfachem Wege mit anderen ins Gespräch. \nwww.plaudertischerl.at
URL:https://wienzimmer.fsw.at/event/splaudertischerl-mit-der-diakonie-4/
LOCATION:WienZimmer\, Karl-Seitz-Hof - Jedleseer Str. 66-94/Ecke Jedleseer Straße und Dunantgasse\, Wien\, 1210\, Österreich
CATEGORIES:Sonstiges
ATTACH;FMTTYPE=image/png:https://wienzimmer.fsw.at/wp-content/uploads/2023/11/Plaudertischerl.png
END:VEVENT
BEGIN:VEVENT
DTSTART;TZID=Europe/Vienna:20250205T170000
DTEND;TZID=Europe/Vienna:20250205T200000
DTSTAMP:20260423T063305
CREATED:20250123T144038Z
LAST-MODIFIED:20250123T144038Z
UID:10003441-1738774800-1738785600@wienzimmer.fsw.at
SUMMARY:Gruppentherapie: Psychodrama
DESCRIPTION:im kleinen Seminarraum (1. Stock) \nHilfe bei Angst\, bei Depression und anderen Schwierigkeiten. Gruppenpsychotherapie mit der Methode Psychodrama. \nAb 17.15 – 20.00 Uhr\, mit Pause \nOhne Kosten bei Vorlage einer ärztlichen Überweisung zur Psychotherapie. \nFür die Anmeldung und mehr Information: Michael Josef Seiss\, MMSc. unter 0699-11133441. praxis@michaeljosefseiss.at
URL:https://wienzimmer.fsw.at/event/gruppentherapie-psychodrama-22/2025-02-05/
LOCATION:WienZimmer\, Karl-Seitz-Hof - Jedleseer Str. 66-94/Ecke Jedleseer Straße und Dunantgasse\, Wien\, 1210\, Österreich
CATEGORIES:Sonstiges
ATTACH;FMTTYPE=image/png:https://wienzimmer.fsw.at/wp-content/uploads/2023/11/Gruppentherapie.png
END:VEVENT
END:VCALENDAR