BEGIN:VCALENDAR
VERSION:2.0
PRODID:-//Wien Zimmer - ECPv6.15.17.1//NONSGML v1.0//EN
CALSCALE:GREGORIAN
METHOD:PUBLISH
X-ORIGINAL-URL:https://wienzimmer.fsw.at
X-WR-CALDESC:Veranstaltungen für Wien Zimmer
REFRESH-INTERVAL;VALUE=DURATION:PT1H
X-Robots-Tag:noindex
X-PUBLISHED-TTL:PT1H
BEGIN:VTIMEZONE
TZID:Europe/Vienna
BEGIN:DAYLIGHT
TZOFFSETFROM:+0100
TZOFFSETTO:+0200
TZNAME:CEST
DTSTART:20240331T010000
END:DAYLIGHT
BEGIN:STANDARD
TZOFFSETFROM:+0200
TZOFFSETTO:+0100
TZNAME:CET
DTSTART:20241027T010000
END:STANDARD
BEGIN:DAYLIGHT
TZOFFSETFROM:+0100
TZOFFSETTO:+0200
TZNAME:CEST
DTSTART:20250330T010000
END:DAYLIGHT
BEGIN:STANDARD
TZOFFSETFROM:+0200
TZOFFSETTO:+0100
TZNAME:CET
DTSTART:20251026T010000
END:STANDARD
BEGIN:DAYLIGHT
TZOFFSETFROM:+0100
TZOFFSETTO:+0200
TZNAME:CEST
DTSTART:20260329T010000
END:DAYLIGHT
BEGIN:STANDARD
TZOFFSETFROM:+0200
TZOFFSETTO:+0100
TZNAME:CET
DTSTART:20261025T010000
END:STANDARD
END:VTIMEZONE
BEGIN:VEVENT
DTSTART;TZID=Europe/Vienna:20250108T091500
DTEND;TZID=Europe/Vienna:20250108T101500
DTSTAMP:20260423T080814
CREATED:20241015T114227Z
LAST-MODIFIED:20250123T142322Z
UID:10003381-1736327700-1736331300@wienzimmer.fsw.at
SUMMARY:Yoga mit Sophie - für Senior:innen
DESCRIPTION:im kleinen Seminarraum (1. Stock)
URL:https://wienzimmer.fsw.at/event/yoga-mit-sophie-fuer-seniorinnen/2025-01-08/
END:VEVENT
BEGIN:VEVENT
DTSTART;TZID=Europe/Vienna:20250108T103000
DTEND;TZID=Europe/Vienna:20250108T120000
DTSTAMP:20260423T080814
CREATED:20241127T140004Z
LAST-MODIFIED:20241218T124303Z
UID:10003385-1736332200-1736337600@wienzimmer.fsw.at
SUMMARY:Offene Aquarellmalrunde
DESCRIPTION:selbstorganisiert \nIm Festsaal (Hochparterre)
URL:https://wienzimmer.fsw.at/event/offene-aquarellmalrunde-5/2025-01-08/
ATTACH;FMTTYPE=image/png:https://wienzimmer.fsw.at/wp-content/uploads/2024/09/WienZimmer_MonatderSeniorinnen-neu.png
END:VEVENT
BEGIN:VEVENT
DTSTART;TZID=Europe/Vienna:20250108T104500
DTEND;TZID=Europe/Vienna:20250108T114500
DTSTAMP:20260423T080814
CREATED:20241015T114621Z
LAST-MODIFIED:20250123T142501Z
UID:10003377-1736333100-1736336700@wienzimmer.fsw.at
SUMMARY:Yoga mit Sophie - Yoga für Anfänger:innen
DESCRIPTION:im kleinen Seminarraum (1. Stock)
URL:https://wienzimmer.fsw.at/event/yoga-mit-sophie-yoga-fuer-anfaengerinnen/2025-01-08/
END:VEVENT
BEGIN:VEVENT
DTSTART;TZID=Europe/Vienna:20250108T160000
DTEND;TZID=Europe/Vienna:20250108T173000
DTSTAMP:20260423T080814
CREATED:20241218T124413Z
LAST-MODIFIED:20241218T124413Z
UID:10003386-1736352000-1736357400@wienzimmer.fsw.at
SUMMARY:s’Plaudertischerl – mit der Diakonie
DESCRIPTION:im Festsall (Hochparterre) \nEin kurzer Plausch über das Wetter oder eine längere Unterhaltung – regelmäßig am ersten Mittwoch im Monat kommen am Plaudertischerl in Wiener Kaffeehäusern und Nachbarschaftszentren Menschen auf einfachem Wege mit anderen ins Gespräch. \nwww.plaudertischerl.at
URL:https://wienzimmer.fsw.at/event/splaudertischerl-mit-der-diakonie-3/
LOCATION:WienZimmer\, Karl-Seitz-Hof - Jedleseer Str. 66-94/Ecke Jedleseer Straße und Dunantgasse\, Wien\, 1210\, Österreich
CATEGORIES:Sonstiges
ATTACH;FMTTYPE=image/png:https://wienzimmer.fsw.at/wp-content/uploads/2023/11/Plaudertischerl.png
END:VEVENT
BEGIN:VEVENT
DTSTART;TZID=Europe/Vienna:20250108T170000
DTEND;TZID=Europe/Vienna:20250108T200000
DTSTAMP:20260423T080814
CREATED:20241218T124548Z
LAST-MODIFIED:20241218T124548Z
UID:10003388-1736355600-1736366400@wienzimmer.fsw.at
SUMMARY:Gruppentherapie: Psychodrama
DESCRIPTION:im kleinen Seminarraum (1. Stock) \nHilfe bei Angst\, bei Depression und anderen Schwierigkeiten. Gruppenpsychotherapie mit der Methode Psychodrama. \nAb 17.15 – 20.00 Uhr\, mit Pause \nOhne Kosten bei Vorlage einer ärztlichen Überweisung zur Psychotherapie. \nFür die Anmeldung und mehr Information: Michael Josef Seiss\, MMSc. unter 0699-11133441. praxis@michaeljosefseiss.at
URL:https://wienzimmer.fsw.at/event/gruppentherapie-psychodrama-21/2025-01-08/
LOCATION:WienZimmer\, Karl-Seitz-Hof - Jedleseer Str. 66-94/Ecke Jedleseer Straße und Dunantgasse\, Wien\, 1210\, Österreich
CATEGORIES:Sonstiges
ATTACH;FMTTYPE=image/png:https://wienzimmer.fsw.at/wp-content/uploads/2023/11/Gruppentherapie.png
END:VEVENT
END:VCALENDAR