BEGIN:VCALENDAR
VERSION:2.0
PRODID:-//Wien Zimmer - ECPv6.15.17.1//NONSGML v1.0//EN
CALSCALE:GREGORIAN
METHOD:PUBLISH
X-ORIGINAL-URL:https://wienzimmer.fsw.at
X-WR-CALDESC:Veranstaltungen für Wien Zimmer
REFRESH-INTERVAL;VALUE=DURATION:PT1H
X-Robots-Tag:noindex
X-PUBLISHED-TTL:PT1H
BEGIN:VTIMEZONE
TZID:Europe/Vienna
BEGIN:DAYLIGHT
TZOFFSETFROM:+0100
TZOFFSETTO:+0200
TZNAME:CEST
DTSTART:20230326T010000
END:DAYLIGHT
BEGIN:STANDARD
TZOFFSETFROM:+0200
TZOFFSETTO:+0100
TZNAME:CET
DTSTART:20231029T010000
END:STANDARD
BEGIN:DAYLIGHT
TZOFFSETFROM:+0100
TZOFFSETTO:+0200
TZNAME:CEST
DTSTART:20240331T010000
END:DAYLIGHT
BEGIN:STANDARD
TZOFFSETFROM:+0200
TZOFFSETTO:+0100
TZNAME:CET
DTSTART:20241027T010000
END:STANDARD
BEGIN:DAYLIGHT
TZOFFSETFROM:+0100
TZOFFSETTO:+0200
TZNAME:CEST
DTSTART:20250330T010000
END:DAYLIGHT
BEGIN:STANDARD
TZOFFSETFROM:+0200
TZOFFSETTO:+0100
TZNAME:CET
DTSTART:20251026T010000
END:STANDARD
END:VTIMEZONE
BEGIN:VEVENT
DTSTART;TZID=Europe/Vienna:20241212T100000
DTEND;TZID=Europe/Vienna:20241212T110000
DTSTAMP:20260423T095554
CREATED:20241107T084840Z
LAST-MODIFIED:20250211T104841Z
UID:10003348-1733997600-1734001200@wienzimmer.fsw.at
SUMMARY:Krafttraining mit Bernd - für ältere Menschen und alle\, die mitmachen wollen
DESCRIPTION:im kleinen Seminarsaal
URL:https://wienzimmer.fsw.at/event/krattraining-mit-bernd-fuer-aeltere-menschen-und-alle-die-mitmachen-wollen/2024-12-12/
END:VEVENT
BEGIN:VEVENT
DTSTART;TZID=Europe/Vienna:20241212T140000
DTEND;TZID=Europe/Vienna:20241212T160000
DTSTAMP:20260423T095554
CREATED:20240919T142709Z
LAST-MODIFIED:20250604T093225Z
UID:10003350-1734012000-1734019200@wienzimmer.fsw.at
SUMMARY:Hausaufgabenbegleitung
DESCRIPTION:Hausaufgabenbegleitung mit rettet das Kind Österreich\nim Souterrain (Keller)
URL:https://wienzimmer.fsw.at/event/hausaufgabenbegleitung-2/2024-12-12/
LOCATION:WienZimmer\, Karl-Seitz-Hof - Jedleseer Str. 66-94/Ecke Jedleseer Straße und Dunantgasse\, Wien\, 1210\, Österreich
CATEGORIES:Kinder und Jugendliche
ATTACH;FMTTYPE=image/png:https://wienzimmer.fsw.at/wp-content/uploads/2023/11/Hausaufgaben.png
END:VEVENT
BEGIN:VEVENT
DTSTART;TZID=Europe/Vienna:20241212T153000
DTEND;TZID=Europe/Vienna:20241212T163000
DTSTAMP:20260423T095554
CREATED:20240925T101254Z
LAST-MODIFIED:20241127T141234Z
UID:10003353-1734017400-1734021000@wienzimmer.fsw.at
SUMMARY:Hobby Lobby: Malen & Zeichnen
DESCRIPTION:im Souterrain (Keller)
URL:https://wienzimmer.fsw.at/event/hobby-lobby-malen-zeichnen-4/2024-12-12/
CATEGORIES:Kinder und Jugendliche
ATTACH;FMTTYPE=image/png:https://wienzimmer.fsw.at/wp-content/uploads/2023/11/Malen.png
END:VEVENT
BEGIN:VEVENT
DTSTART;TZID=Europe/Vienna:20241212T163000
DTEND;TZID=Europe/Vienna:20241212T173000
DTSTAMP:20260423T095554
CREATED:20240925T101712Z
LAST-MODIFIED:20241127T141327Z
UID:10003355-1734021000-1734024600@wienzimmer.fsw.at
SUMMARY:Hobby Lobby: Sport & Ballspiele
DESCRIPTION:im Souterrain (Keller)
URL:https://wienzimmer.fsw.at/event/hobby-lobby-sport-ballspiele/2024-12-12/
CATEGORIES:Kinder und Jugendliche
ATTACH;FMTTYPE=image/png:https://wienzimmer.fsw.at/wp-content/uploads/2024/10/WienZimmer_Veranstaltungskalender-Ballspiele.png
END:VEVENT
BEGIN:VEVENT
DTSTART;TZID=Europe/Vienna:20241212T173000
DTEND;TZID=Europe/Vienna:20241212T183000
DTSTAMP:20260423T095554
CREATED:20240925T101904Z
LAST-MODIFIED:20241127T141424Z
UID:10003357-1734024600-1734028200@wienzimmer.fsw.at
SUMMARY:Hobby Lobby: Töpfern
DESCRIPTION:im Souterrain (Keller)
URL:https://wienzimmer.fsw.at/event/hobby-lobby-toepfern/2024-12-12/
CATEGORIES:Kinder und Jugendliche
ATTACH;FMTTYPE=image/png:https://wienzimmer.fsw.at/wp-content/uploads/2023/11/Toepfern.png
END:VEVENT
END:VCALENDAR