BEGIN:VCALENDAR
VERSION:2.0
PRODID:-//Wien Zimmer - ECPv6.15.17.1//NONSGML v1.0//EN
CALSCALE:GREGORIAN
METHOD:PUBLISH
X-ORIGINAL-URL:https://wienzimmer.fsw.at
X-WR-CALDESC:Veranstaltungen für Wien Zimmer
REFRESH-INTERVAL;VALUE=DURATION:PT1H
X-Robots-Tag:noindex
X-PUBLISHED-TTL:PT1H
BEGIN:VTIMEZONE
TZID:Europe/Vienna
BEGIN:DAYLIGHT
TZOFFSETFROM:+0100
TZOFFSETTO:+0200
TZNAME:CEST
DTSTART:20230326T010000
END:DAYLIGHT
BEGIN:STANDARD
TZOFFSETFROM:+0200
TZOFFSETTO:+0100
TZNAME:CET
DTSTART:20231029T010000
END:STANDARD
BEGIN:DAYLIGHT
TZOFFSETFROM:+0100
TZOFFSETTO:+0200
TZNAME:CEST
DTSTART:20240331T010000
END:DAYLIGHT
BEGIN:STANDARD
TZOFFSETFROM:+0200
TZOFFSETTO:+0100
TZNAME:CET
DTSTART:20241027T010000
END:STANDARD
BEGIN:DAYLIGHT
TZOFFSETFROM:+0100
TZOFFSETTO:+0200
TZNAME:CEST
DTSTART:20250330T010000
END:DAYLIGHT
BEGIN:STANDARD
TZOFFSETFROM:+0200
TZOFFSETTO:+0100
TZNAME:CET
DTSTART:20251026T010000
END:STANDARD
END:VTIMEZONE
BEGIN:VEVENT
DTSTART;TZID=Europe/Vienna:20241127T091500
DTEND;TZID=Europe/Vienna:20241127T101500
DTSTAMP:20260423T095558
CREATED:20241015T114227Z
LAST-MODIFIED:20250123T142322Z
UID:10003179-1732698900-1732702500@wienzimmer.fsw.at
SUMMARY:Yoga mit Sophie - für Senior:innen
DESCRIPTION:im kleinen Seminarraum (1. Stock)
URL:https://wienzimmer.fsw.at/event/yoga-mit-sophie-fuer-seniorinnen/2024-11-27/
END:VEVENT
BEGIN:VEVENT
DTSTART;TZID=Europe/Vienna:20241127T103000
DTEND;TZID=Europe/Vienna:20241127T120000
DTSTAMP:20260423T095558
CREATED:20241015T115037Z
LAST-MODIFIED:20241015T115153Z
UID:10003247-1732703400-1732708800@wienzimmer.fsw.at
SUMMARY:Offene Aquarellmalrunde
DESCRIPTION:Für Senior:innen\, selbstorganisiert. \nIm Festsaal (Hochparterre)
URL:https://wienzimmer.fsw.at/event/offene-aquarellmalrunde-4/2024-11-27/
ATTACH;FMTTYPE=image/png:https://wienzimmer.fsw.at/wp-content/uploads/2024/09/WienZimmer_MonatderSeniorinnen-neu.png
END:VEVENT
BEGIN:VEVENT
DTSTART;TZID=Europe/Vienna:20241127T104500
DTEND;TZID=Europe/Vienna:20241127T114500
DTSTAMP:20260423T095558
CREATED:20241015T114621Z
LAST-MODIFIED:20250123T142501Z
UID:10003235-1732704300-1732707900@wienzimmer.fsw.at
SUMMARY:Yoga mit Sophie - Yoga für Anfänger:innen
DESCRIPTION:im kleinen Seminarraum (1. Stock)
URL:https://wienzimmer.fsw.at/event/yoga-mit-sophie-yoga-fuer-anfaengerinnen/2024-11-27/
END:VEVENT
BEGIN:VEVENT
DTSTART;TZID=Europe/Vienna:20241127T163000
DTEND;TZID=Europe/Vienna:20241127T173000
DTSTAMP:20260423T095558
CREATED:20240925T100356Z
LAST-MODIFIED:20241127T140251Z
UID:10003254-1732725000-1732728600@wienzimmer.fsw.at
SUMMARY:Hobby Lobby: Fotografie
DESCRIPTION:im kleinen Seminarraum (1. Stock)
URL:https://wienzimmer.fsw.at/event/hobby-lobby-fotografie/2024-11-27/
CATEGORIES:Kinder und Jugendliche
ATTACH;FMTTYPE=image/png:https://wienzimmer.fsw.at/wp-content/uploads/2024/10/WienZimmer_Veranstaltungskalender-Fotografie.png
END:VEVENT
BEGIN:VEVENT
DTSTART;TZID=Europe/Vienna:20241127T173000
DTEND;TZID=Europe/Vienna:20241127T180000
DTSTAMP:20260423T095558
CREATED:20240925T100958Z
LAST-MODIFIED:20241127T140518Z
UID:10003262-1732728600-1732730400@wienzimmer.fsw.at
SUMMARY:Hobby Lobby: Tanzen
DESCRIPTION:im Souterrain (Keller)
URL:https://wienzimmer.fsw.at/event/hobby-lobby-tanzen/2024-11-27/
CATEGORIES:Kinder und Jugendliche
ATTACH;FMTTYPE=image/png:https://wienzimmer.fsw.at/wp-content/uploads/2023/11/Tanzen.png
END:VEVENT
BEGIN:VEVENT
DTSTART;TZID=Europe/Vienna:20241127T173000
DTEND;TZID=Europe/Vienna:20241127T183000
DTSTAMP:20260423T095558
CREATED:20240925T100734Z
LAST-MODIFIED:20241127T140413Z
UID:10003258-1732728600-1732732200@wienzimmer.fsw.at
SUMMARY:Hobby Lobby: Anime und Manga
DESCRIPTION:im Festsaal (Hochparterre)
URL:https://wienzimmer.fsw.at/event/hobby-lobby-anime-und-manga/2024-11-27/
CATEGORIES:Kinder und Jugendliche
ATTACH;FMTTYPE=image/png:https://wienzimmer.fsw.at/wp-content/uploads/2024/10/WienZimmer_Veranstaltungskalender-Anime.png
END:VEVENT
END:VCALENDAR