BEGIN:VCALENDAR
VERSION:2.0
PRODID:-//Wien Zimmer - ECPv6.15.17.1//NONSGML v1.0//EN
CALSCALE:GREGORIAN
METHOD:PUBLISH
X-ORIGINAL-URL:https://wienzimmer.fsw.at
X-WR-CALDESC:Veranstaltungen für Wien Zimmer
REFRESH-INTERVAL;VALUE=DURATION:PT1H
X-Robots-Tag:noindex
X-PUBLISHED-TTL:PT1H
BEGIN:VTIMEZONE
TZID:Europe/Vienna
BEGIN:DAYLIGHT
TZOFFSETFROM:+0100
TZOFFSETTO:+0200
TZNAME:CEST
DTSTART:20230326T010000
END:DAYLIGHT
BEGIN:STANDARD
TZOFFSETFROM:+0200
TZOFFSETTO:+0100
TZNAME:CET
DTSTART:20231029T010000
END:STANDARD
BEGIN:DAYLIGHT
TZOFFSETFROM:+0100
TZOFFSETTO:+0200
TZNAME:CEST
DTSTART:20240331T010000
END:DAYLIGHT
BEGIN:STANDARD
TZOFFSETFROM:+0200
TZOFFSETTO:+0100
TZNAME:CET
DTSTART:20241027T010000
END:STANDARD
BEGIN:DAYLIGHT
TZOFFSETFROM:+0100
TZOFFSETTO:+0200
TZNAME:CEST
DTSTART:20250330T010000
END:DAYLIGHT
BEGIN:STANDARD
TZOFFSETFROM:+0200
TZOFFSETTO:+0100
TZNAME:CET
DTSTART:20251026T010000
END:STANDARD
END:VTIMEZONE
BEGIN:VEVENT
DTSTART;TZID=Europe/Vienna:20241030T084500
DTEND;TZID=Europe/Vienna:20241030T094500
DTSTAMP:20260423T111914
CREATED:20240919T142926Z
LAST-MODIFIED:20240926T124920Z
UID:10003149-1730277900-1730281500@wienzimmer.fsw.at
SUMMARY:Yoga mit Sophie
DESCRIPTION:für ältere Menschen und alle die mitmachen wollen\nim kleinen Seminarsaal
URL:https://wienzimmer.fsw.at/event/yoga-mit-sophie/2024-10-30/
ATTACH;FMTTYPE=image/png:https://wienzimmer.fsw.at/wp-content/uploads/2024/09/WienZimmer_MonatderSeniorinnen-neu.png
END:VEVENT
BEGIN:VEVENT
DTSTART;TZID=Europe/Vienna:20241030T090000
DTEND;TZID=Europe/Vienna:20241030T140000
DTSTAMP:20260423T111914
CREATED:20240919T150224Z
LAST-MODIFIED:20240919T150231Z
UID:10003033-1730278800-1730296800@wienzimmer.fsw.at
SUMMARY:Halloween Party
DESCRIPTION:(Jugend am Werk) – offen für alle\nkleiner Seminarraum
URL:https://wienzimmer.fsw.at/event/halloween-party-2/
CATEGORIES:Kinder und Jugendliche
END:VEVENT
BEGIN:VEVENT
DTSTART;TZID=Europe/Vienna:20241030T103000
DTEND;TZID=Europe/Vienna:20241030T123000
DTSTAMP:20260423T111914
CREATED:20240919T143530Z
LAST-MODIFIED:20240919T143530Z
UID:10002845-1730284200-1730291400@wienzimmer.fsw.at
SUMMARY:Offene Aquarellmalrunde
DESCRIPTION:im kleinen Seminarraum.
URL:https://wienzimmer.fsw.at/event/offene-aquarellmalrunde-3-2/2024-10-30/
ATTACH;FMTTYPE=image/png:https://wienzimmer.fsw.at/wp-content/uploads/2024/09/WienZimmer_MonatderSeniorinnen-neu.png
END:VEVENT
BEGIN:VEVENT
DTSTART;TZID=Europe/Vienna:20241030T163000
DTEND;TZID=Europe/Vienna:20241030T173000
DTSTAMP:20260423T111914
CREATED:20240925T100356Z
LAST-MODIFIED:20241127T140251Z
UID:10003082-1730305800-1730309400@wienzimmer.fsw.at
SUMMARY:Hobby Lobby: Fotografie
DESCRIPTION:im kleinen Seminarraum (1. Stock)
URL:https://wienzimmer.fsw.at/event/hobby-lobby-fotografie/2024-10-30/
CATEGORIES:Kinder und Jugendliche
ATTACH;FMTTYPE=image/png:https://wienzimmer.fsw.at/wp-content/uploads/2024/10/WienZimmer_Veranstaltungskalender-Fotografie.png
END:VEVENT
BEGIN:VEVENT
DTSTART;TZID=Europe/Vienna:20241030T170000
DTEND;TZID=Europe/Vienna:20241030T200000
DTSTAMP:20260423T111914
CREATED:20240925T095103Z
LAST-MODIFIED:20240925T095141Z
UID:10003052-1730307600-1730318400@wienzimmer.fsw.at
SUMMARY:Gruppentherapie: Psychodrama
DESCRIPTION:im kleinen Seminarraum (1. Stock) \nHilfe bei Angst\, bei Depression und anderen Schwierigkeiten. Gruppenpsychotherapie mit der Methode Psychodrama. \nAb 17.15 – 20.00 Uhr\, mit Pause \nOhne Kosten bei Vorlage einer ärztlichen Überweisung zur Psychotherapie. \nFür die Anmeldung und mehr Information: Michael Josef Seiss\, MMSc. unter 0699-11133441. praxis@michaeljosefseiss.at
URL:https://wienzimmer.fsw.at/event/gruppentherapie-psychodrama-18/2024-10-30/
LOCATION:WienZimmer\, Karl-Seitz-Hof - Jedleseer Str. 66-94/Ecke Jedleseer Straße und Dunantgasse\, Wien\, 1210\, Österreich
CATEGORIES:Sonstiges
ATTACH;FMTTYPE=image/png:https://wienzimmer.fsw.at/wp-content/uploads/2023/11/Gruppentherapie.png
END:VEVENT
BEGIN:VEVENT
DTSTART;TZID=Europe/Vienna:20241030T173000
DTEND;TZID=Europe/Vienna:20241030T180000
DTSTAMP:20260423T111914
CREATED:20240925T100958Z
LAST-MODIFIED:20241127T140518Z
UID:10003112-1730309400-1730311200@wienzimmer.fsw.at
SUMMARY:Hobby Lobby: Tanzen
DESCRIPTION:im Souterrain (Keller)
URL:https://wienzimmer.fsw.at/event/hobby-lobby-tanzen/2024-10-30/
CATEGORIES:Kinder und Jugendliche
ATTACH;FMTTYPE=image/png:https://wienzimmer.fsw.at/wp-content/uploads/2023/11/Tanzen.png
END:VEVENT
BEGIN:VEVENT
DTSTART;TZID=Europe/Vienna:20241030T173000
DTEND;TZID=Europe/Vienna:20241030T183000
DTSTAMP:20260423T111914
CREATED:20240925T100734Z
LAST-MODIFIED:20241127T140413Z
UID:10003088-1730309400-1730313000@wienzimmer.fsw.at
SUMMARY:Hobby Lobby: Anime und Manga
DESCRIPTION:im Festsaal (Hochparterre)
URL:https://wienzimmer.fsw.at/event/hobby-lobby-anime-und-manga/2024-10-30/
CATEGORIES:Kinder und Jugendliche
ATTACH;FMTTYPE=image/png:https://wienzimmer.fsw.at/wp-content/uploads/2024/10/WienZimmer_Veranstaltungskalender-Anime.png
END:VEVENT
END:VCALENDAR