BEGIN:VCALENDAR
VERSION:2.0
PRODID:-//Wien Zimmer - ECPv6.15.17.1//NONSGML v1.0//EN
CALSCALE:GREGORIAN
METHOD:PUBLISH
X-WR-CALNAME:Wien Zimmer
X-ORIGINAL-URL:https://wienzimmer.fsw.at
X-WR-CALDESC:Veranstaltungen für Wien Zimmer
REFRESH-INTERVAL;VALUE=DURATION:PT1H
X-Robots-Tag:noindex
X-PUBLISHED-TTL:PT1H
BEGIN:VTIMEZONE
TZID:Europe/Vienna
BEGIN:DAYLIGHT
TZOFFSETFROM:+0100
TZOFFSETTO:+0200
TZNAME:CEST
DTSTART:20230326T010000
END:DAYLIGHT
BEGIN:STANDARD
TZOFFSETFROM:+0200
TZOFFSETTO:+0100
TZNAME:CET
DTSTART:20231029T010000
END:STANDARD
BEGIN:DAYLIGHT
TZOFFSETFROM:+0100
TZOFFSETTO:+0200
TZNAME:CEST
DTSTART:20240331T010000
END:DAYLIGHT
BEGIN:STANDARD
TZOFFSETFROM:+0200
TZOFFSETTO:+0100
TZNAME:CET
DTSTART:20241027T010000
END:STANDARD
BEGIN:DAYLIGHT
TZOFFSETFROM:+0100
TZOFFSETTO:+0200
TZNAME:CEST
DTSTART:20250330T010000
END:DAYLIGHT
BEGIN:STANDARD
TZOFFSETFROM:+0200
TZOFFSETTO:+0100
TZNAME:CET
DTSTART:20251026T010000
END:STANDARD
END:VTIMEZONE
BEGIN:VEVENT
DTSTART;TZID=Europe/Vienna:20241029T080000
DTEND;TZID=Europe/Vienna:20241029T100000
DTSTAMP:20260423T111706
CREATED:20240919T142233Z
LAST-MODIFIED:20241015T112821Z
UID:10002916-1730188800-1730196000@wienzimmer.fsw.at
SUMMARY:Elterncafé im WienZimmer
DESCRIPTION:Austausch und Beratung für alle Eltern\nBabies und Kleinkinder können mitgebracht werden\nim Festsaal
URL:https://wienzimmer.fsw.at/event/elterncafe-im-wienzimmer-3/2024-10-29/
LOCATION:WienZimmer\, Karl-Seitz-Hof - Jedleseer Str. 66-94/Ecke Jedleseer Straße und Dunantgasse\, Wien\, 1210\, Österreich
END:VEVENT
BEGIN:VEVENT
DTSTART;TZID=Europe/Vienna:20241029T130000
DTEND;TZID=Europe/Vienna:20241029T143000
DTSTAMP:20260423T111706
CREATED:20240919T145851Z
LAST-MODIFIED:20240919T145851Z
UID:10003031-1730206800-1730212200@wienzimmer.fsw.at
SUMMARY:Spieleaktion mit Jugend am Werk
DESCRIPTION:offener Spieletisch für alle –ältere Menschen und alle die möchten\nhosted by: Klient:innen von Jugend am Werk\nFestsaal
URL:https://wienzimmer.fsw.at/event/spieleaktion-mit-jugend-am-werk-6/
END:VEVENT
BEGIN:VEVENT
DTSTART;TZID=Europe/Vienna:20241029T160000
DTEND;TZID=Europe/Vienna:20241029T170000
DTSTAMP:20260423T111706
CREATED:20240925T095530Z
LAST-MODIFIED:20241127T134834Z
UID:10003058-1730217600-1730221200@wienzimmer.fsw.at
SUMMARY:Hobby Lobby: Türkisch
DESCRIPTION:im kleinen Seminarraum
URL:https://wienzimmer.fsw.at/event/hobby-lobby-tuerkisch/2024-10-29/
CATEGORIES:Kinder und Jugendliche
ATTACH;FMTTYPE=image/png:https://wienzimmer.fsw.at/wp-content/uploads/2024/04/tuerkisch.png
END:VEVENT
BEGIN:VEVENT
DTSTART;TZID=Europe/Vienna:20241029T163000
DTEND;TZID=Europe/Vienna:20241029T173000
DTSTAMP:20260423T111706
CREATED:20240925T095804Z
LAST-MODIFIED:20241127T134950Z
UID:10003070-1730219400-1730223000@wienzimmer.fsw.at
SUMMARY:Hobby Lobby: Kampfsport
DESCRIPTION:im kleinen Seminarraum (1. Stock)
URL:https://wienzimmer.fsw.at/event/hobby-lobby-kampfsport/2024-10-29/
CATEGORIES:Kinder und Jugendliche
ATTACH;FMTTYPE=image/png:https://wienzimmer.fsw.at/wp-content/uploads/2023/11/Kampfsport.png
END:VEVENT
BEGIN:VEVENT
DTSTART;TZID=Europe/Vienna:20241029T170000
DTEND;TZID=Europe/Vienna:20241029T180000
DTSTAMP:20260423T111706
CREATED:20240925T100105Z
LAST-MODIFIED:20241127T135145Z
UID:10003076-1730221200-1730224800@wienzimmer.fsw.at
SUMMARY:Hobby Lobby: Nähen
DESCRIPTION:im kleinen Seminarraum (1. Stock)
URL:https://wienzimmer.fsw.at/event/hobby-lobby-naehen/2024-10-29/
CATEGORIES:Kinder und Jugendliche
ATTACH;FMTTYPE=image/png:https://wienzimmer.fsw.at/wp-content/uploads/2024/04/naehkurs.png
END:VEVENT
BEGIN:VEVENT
DTSTART;TZID=Europe/Vienna:20241029T170000
DTEND;TZID=Europe/Vienna:20241029T190000
DTSTAMP:20260423T111706
CREATED:20240919T150140Z
LAST-MODIFIED:20240919T150140Z
UID:10003032-1730221200-1730228400@wienzimmer.fsw.at
SUMMARY:Gemeinsam statt einsam – kostenlose Abendjause im WienZimmer
DESCRIPTION:für 20 Personen im Festsaal \nEinmal im Monat wollen wir einen gemütlichen Rahmen schaffen und 20 bunt zusammen gewürfelte Gäste exklusiv und kostenlos mit einer schmackhaften Jause verwöhnen.\nAn einer gedeckten Tafel servieren wir verschiedene Leckereien und verbringen beim Essen gemeinsam einen schönen Abend\, der Gelegenheit bietet sich auszutauschen\, seine Nachbar:innen kennenzulernen\, Kontakte aufzubauen und Freundschaften zu schließen.\nNeben spannenden Geschichten und jeder Menge Lebenserfahrung\, gibt es dabei von vegan bis tierisch für alle etwas. \nWir freuen uns auf einen netten gemeinsamen Abend! \nDie Teilnahme ist nur mit Anmeldung möglich:\ndirekt im WienZimmer\, beim Team vor Ort\nper Email unter: wienzimmer@fsw.at\, Betreff: Dinner 29.10.\ntelefonisch oder per sms  unter: +43 676 8289 40448
URL:https://wienzimmer.fsw.at/event/gemeinsam-statt-einsam-kostenlose-abendjause-im-wienzimmer-8/
END:VEVENT
END:VCALENDAR