BEGIN:VCALENDAR
VERSION:2.0
PRODID:-//Wien Zimmer - ECPv6.15.17.1//NONSGML v1.0//EN
CALSCALE:GREGORIAN
METHOD:PUBLISH
X-WR-CALNAME:Wien Zimmer
X-ORIGINAL-URL:https://wienzimmer.fsw.at
X-WR-CALDESC:Veranstaltungen für Wien Zimmer
REFRESH-INTERVAL;VALUE=DURATION:PT1H
X-Robots-Tag:noindex
X-PUBLISHED-TTL:PT1H
BEGIN:VTIMEZONE
TZID:Europe/Vienna
BEGIN:DAYLIGHT
TZOFFSETFROM:+0100
TZOFFSETTO:+0200
TZNAME:CEST
DTSTART:20230326T010000
END:DAYLIGHT
BEGIN:STANDARD
TZOFFSETFROM:+0200
TZOFFSETTO:+0100
TZNAME:CET
DTSTART:20231029T010000
END:STANDARD
BEGIN:DAYLIGHT
TZOFFSETFROM:+0100
TZOFFSETTO:+0200
TZNAME:CEST
DTSTART:20240331T010000
END:DAYLIGHT
BEGIN:STANDARD
TZOFFSETFROM:+0200
TZOFFSETTO:+0100
TZNAME:CET
DTSTART:20241027T010000
END:STANDARD
BEGIN:DAYLIGHT
TZOFFSETFROM:+0100
TZOFFSETTO:+0200
TZNAME:CEST
DTSTART:20250330T010000
END:DAYLIGHT
BEGIN:STANDARD
TZOFFSETFROM:+0200
TZOFFSETTO:+0100
TZNAME:CET
DTSTART:20251026T010000
END:STANDARD
END:VTIMEZONE
BEGIN:VEVENT
DTSTART;TZID=Europe/Vienna:20241024T100000
DTEND;TZID=Europe/Vienna:20241024T110000
DTSTAMP:20260423T125258
CREATED:20240919T144224Z
LAST-MODIFIED:20240925T094815Z
UID:10003018-1729764000-1729767600@wienzimmer.fsw.at
SUMMARY:Krafttraining mit Bernd
DESCRIPTION:– für ältere Menschen und alle die mitmachen wollen\nim kleinen Seminarsaal
URL:https://wienzimmer.fsw.at/event/krafttraining-mit-bernd/2024-10-24/
ATTACH;FMTTYPE=image/png:https://wienzimmer.fsw.at/wp-content/uploads/2024/09/WienZimmer_MonatderSeniorinnen-neu.png
END:VEVENT
BEGIN:VEVENT
DTSTART;TZID=Europe/Vienna:20241024T130000
DTEND;TZID=Europe/Vienna:20241024T150000
DTSTAMP:20260423T125258
CREATED:20240919T145751Z
LAST-MODIFIED:20240919T145751Z
UID:10003030-1729774800-1729782000@wienzimmer.fsw.at
SUMMARY:Workshop – SOS! Schlaganfall und Herzinfarkt – Was tun im Notfall?
DESCRIPTION:Community Nurses\nim kleinen Seminarraum (1. Stock)
URL:https://wienzimmer.fsw.at/event/workshop-sos-schlaganfall-und-herzinfarkt-was-tun-im-notfall/
ATTACH;FMTTYPE=image/png:https://wienzimmer.fsw.at/wp-content/uploads/2024/09/WienZimmer_MonatderSeniorinnen-neu.png
END:VEVENT
BEGIN:VEVENT
DTSTART;TZID=Europe/Vienna:20241024T140000
DTEND;TZID=Europe/Vienna:20241024T160000
DTSTAMP:20260423T125258
CREATED:20240919T142709Z
LAST-MODIFIED:20250604T093225Z
UID:10002950-1729778400-1729785600@wienzimmer.fsw.at
SUMMARY:Hausaufgabenbegleitung
DESCRIPTION:Hausaufgabenbegleitung mit rettet das Kind Österreich\nim Souterrain (Keller)
URL:https://wienzimmer.fsw.at/event/hausaufgabenbegleitung-2/2024-10-24/
LOCATION:WienZimmer\, Karl-Seitz-Hof - Jedleseer Str. 66-94/Ecke Jedleseer Straße und Dunantgasse\, Wien\, 1210\, Österreich
CATEGORIES:Kinder und Jugendliche
ATTACH;FMTTYPE=image/png:https://wienzimmer.fsw.at/wp-content/uploads/2023/11/Hausaufgaben.png
END:VEVENT
BEGIN:VEVENT
DTSTART;TZID=Europe/Vienna:20241024T153000
DTEND;TZID=Europe/Vienna:20241024T163000
DTSTAMP:20260423T125258
CREATED:20240925T101254Z
LAST-MODIFIED:20241127T141234Z
UID:10003117-1729783800-1729787400@wienzimmer.fsw.at
SUMMARY:Hobby Lobby: Malen & Zeichnen
DESCRIPTION:im Souterrain (Keller)
URL:https://wienzimmer.fsw.at/event/hobby-lobby-malen-zeichnen-4/2024-10-24/
CATEGORIES:Kinder und Jugendliche
ATTACH;FMTTYPE=image/png:https://wienzimmer.fsw.at/wp-content/uploads/2023/11/Malen.png
END:VEVENT
BEGIN:VEVENT
DTSTART;TZID=Europe/Vienna:20241024T163000
DTEND;TZID=Europe/Vienna:20241024T173000
DTSTAMP:20260423T125258
CREATED:20240925T101712Z
LAST-MODIFIED:20241127T141327Z
UID:10003124-1729787400-1729791000@wienzimmer.fsw.at
SUMMARY:Hobby Lobby: Sport & Ballspiele
DESCRIPTION:im Souterrain (Keller)
URL:https://wienzimmer.fsw.at/event/hobby-lobby-sport-ballspiele/2024-10-24/
CATEGORIES:Kinder und Jugendliche
ATTACH;FMTTYPE=image/png:https://wienzimmer.fsw.at/wp-content/uploads/2024/10/WienZimmer_Veranstaltungskalender-Ballspiele.png
END:VEVENT
BEGIN:VEVENT
DTSTART;TZID=Europe/Vienna:20241024T173000
DTEND;TZID=Europe/Vienna:20241024T183000
DTSTAMP:20260423T125258
CREATED:20240925T101904Z
LAST-MODIFIED:20241127T141424Z
UID:10003130-1729791000-1729794600@wienzimmer.fsw.at
SUMMARY:Hobby Lobby: Töpfern
DESCRIPTION:im Souterrain (Keller)
URL:https://wienzimmer.fsw.at/event/hobby-lobby-toepfern/2024-10-24/
CATEGORIES:Kinder und Jugendliche
ATTACH;FMTTYPE=image/png:https://wienzimmer.fsw.at/wp-content/uploads/2023/11/Toepfern.png
END:VEVENT
END:VCALENDAR