BEGIN:VCALENDAR
VERSION:2.0
PRODID:-//Wien Zimmer - ECPv6.15.17.1//NONSGML v1.0//EN
CALSCALE:GREGORIAN
METHOD:PUBLISH
X-WR-CALNAME:Wien Zimmer
X-ORIGINAL-URL:https://wienzimmer.fsw.at
X-WR-CALDESC:Veranstaltungen für Wien Zimmer
REFRESH-INTERVAL;VALUE=DURATION:PT1H
X-Robots-Tag:noindex
X-PUBLISHED-TTL:PT1H
BEGIN:VTIMEZONE
TZID:Europe/Vienna
BEGIN:DAYLIGHT
TZOFFSETFROM:+0100
TZOFFSETTO:+0200
TZNAME:CEST
DTSTART:20230326T010000
END:DAYLIGHT
BEGIN:STANDARD
TZOFFSETFROM:+0200
TZOFFSETTO:+0100
TZNAME:CET
DTSTART:20231029T010000
END:STANDARD
BEGIN:DAYLIGHT
TZOFFSETFROM:+0100
TZOFFSETTO:+0200
TZNAME:CEST
DTSTART:20240331T010000
END:DAYLIGHT
BEGIN:STANDARD
TZOFFSETFROM:+0200
TZOFFSETTO:+0100
TZNAME:CET
DTSTART:20241027T010000
END:STANDARD
BEGIN:DAYLIGHT
TZOFFSETFROM:+0100
TZOFFSETTO:+0200
TZNAME:CEST
DTSTART:20250330T010000
END:DAYLIGHT
BEGIN:STANDARD
TZOFFSETFROM:+0200
TZOFFSETTO:+0100
TZNAME:CET
DTSTART:20251026T010000
END:STANDARD
END:VTIMEZONE
BEGIN:VEVENT
DTSTART;TZID=Europe/Vienna:20241023T084500
DTEND;TZID=Europe/Vienna:20241023T094500
DTSTAMP:20260423T125259
CREATED:20240919T142926Z
LAST-MODIFIED:20240926T124920Z
UID:10003043-1729673100-1729676700@wienzimmer.fsw.at
SUMMARY:Yoga mit Sophie
DESCRIPTION:für ältere Menschen und alle die mitmachen wollen\nim kleinen Seminarsaal
URL:https://wienzimmer.fsw.at/event/yoga-mit-sophie/2024-10-23/
ATTACH;FMTTYPE=image/png:https://wienzimmer.fsw.at/wp-content/uploads/2024/09/WienZimmer_MonatderSeniorinnen-neu.png
END:VEVENT
BEGIN:VEVENT
DTSTART;TZID=Europe/Vienna:20241023T103000
DTEND;TZID=Europe/Vienna:20241023T123000
DTSTAMP:20260423T125259
CREATED:20240919T143530Z
LAST-MODIFIED:20240919T143530Z
UID:10002844-1729679400-1729686600@wienzimmer.fsw.at
SUMMARY:Offene Aquarellmalrunde
DESCRIPTION:im kleinen Seminarraum.
URL:https://wienzimmer.fsw.at/event/offene-aquarellmalrunde-3-2/2024-10-23/
ATTACH;FMTTYPE=image/png:https://wienzimmer.fsw.at/wp-content/uploads/2024/09/WienZimmer_MonatderSeniorinnen-neu.png
END:VEVENT
BEGIN:VEVENT
DTSTART;TZID=Europe/Vienna:20241023T163000
DTEND;TZID=Europe/Vienna:20241023T173000
DTSTAMP:20260423T125259
CREATED:20240925T100356Z
LAST-MODIFIED:20241127T140251Z
UID:10003081-1729701000-1729704600@wienzimmer.fsw.at
SUMMARY:Hobby Lobby: Fotografie
DESCRIPTION:im kleinen Seminarraum (1. Stock)
URL:https://wienzimmer.fsw.at/event/hobby-lobby-fotografie/2024-10-23/
CATEGORIES:Kinder und Jugendliche
ATTACH;FMTTYPE=image/png:https://wienzimmer.fsw.at/wp-content/uploads/2024/10/WienZimmer_Veranstaltungskalender-Fotografie.png
END:VEVENT
BEGIN:VEVENT
DTSTART;TZID=Europe/Vienna:20241023T170000
DTEND;TZID=Europe/Vienna:20241023T180000
DTSTAMP:20260423T125259
CREATED:20240919T144459Z
LAST-MODIFIED:20240919T144815Z
UID:10003025-1729702800-1729706400@wienzimmer.fsw.at
SUMMARY:Line Dance Schnupperstunde
DESCRIPTION:Schnupperstunde für ältere Menschen und alle die mitmachen möchten\nim Festsaal
URL:https://wienzimmer.fsw.at/event/line-dance-schnupperstunde/2024-10-23/
ATTACH;FMTTYPE=image/png:https://wienzimmer.fsw.at/wp-content/uploads/2024/09/WienZimmer_MonatderSeniorinnen-neu.png
END:VEVENT
BEGIN:VEVENT
DTSTART;TZID=Europe/Vienna:20241023T173000
DTEND;TZID=Europe/Vienna:20241023T180000
DTSTAMP:20260423T125259
CREATED:20240925T100958Z
LAST-MODIFIED:20241127T140518Z
UID:10003105-1729704600-1729706400@wienzimmer.fsw.at
SUMMARY:Hobby Lobby: Tanzen
DESCRIPTION:im Souterrain (Keller)
URL:https://wienzimmer.fsw.at/event/hobby-lobby-tanzen/2024-10-23/
CATEGORIES:Kinder und Jugendliche
ATTACH;FMTTYPE=image/png:https://wienzimmer.fsw.at/wp-content/uploads/2023/11/Tanzen.png
END:VEVENT
BEGIN:VEVENT
DTSTART;TZID=Europe/Vienna:20241023T173000
DTEND;TZID=Europe/Vienna:20241023T183000
DTSTAMP:20260423T125259
CREATED:20240925T100734Z
LAST-MODIFIED:20241127T140413Z
UID:10003087-1729704600-1729708200@wienzimmer.fsw.at
SUMMARY:Hobby Lobby: Anime und Manga
DESCRIPTION:im Festsaal (Hochparterre)
URL:https://wienzimmer.fsw.at/event/hobby-lobby-anime-und-manga/2024-10-23/
CATEGORIES:Kinder und Jugendliche
ATTACH;FMTTYPE=image/png:https://wienzimmer.fsw.at/wp-content/uploads/2024/10/WienZimmer_Veranstaltungskalender-Anime.png
END:VEVENT
BEGIN:VEVENT
DTSTART;TZID=Europe/Vienna:20241023T180000
DTEND;TZID=Europe/Vienna:20241023T200000
DTSTAMP:20260423T125259
CREATED:20240925T102926Z
LAST-MODIFIED:20240925T102926Z
UID:10003148-1729706400-1729713600@wienzimmer.fsw.at
SUMMARY:Line Dance - Senior:innenrunde
DESCRIPTION:im kleinen Seminarraum
URL:https://wienzimmer.fsw.at/event/line-dance-seniorinnenrunde/2024-10-23/
ATTACH;FMTTYPE=image/png:https://wienzimmer.fsw.at/wp-content/uploads/2024/09/WienZimmer_MonatderSeniorinnen-neu.png
END:VEVENT
END:VCALENDAR