BEGIN:VCALENDAR
VERSION:2.0
PRODID:-//Wien Zimmer - ECPv6.15.17.1//NONSGML v1.0//EN
CALSCALE:GREGORIAN
METHOD:PUBLISH
X-WR-CALNAME:Wien Zimmer
X-ORIGINAL-URL:https://wienzimmer.fsw.at
X-WR-CALDESC:Veranstaltungen für Wien Zimmer
REFRESH-INTERVAL;VALUE=DURATION:PT1H
X-Robots-Tag:noindex
X-PUBLISHED-TTL:PT1H
BEGIN:VTIMEZONE
TZID:Europe/Vienna
BEGIN:DAYLIGHT
TZOFFSETFROM:+0100
TZOFFSETTO:+0200
TZNAME:CEST
DTSTART:20230326T010000
END:DAYLIGHT
BEGIN:STANDARD
TZOFFSETFROM:+0200
TZOFFSETTO:+0100
TZNAME:CET
DTSTART:20231029T010000
END:STANDARD
BEGIN:DAYLIGHT
TZOFFSETFROM:+0100
TZOFFSETTO:+0200
TZNAME:CEST
DTSTART:20240331T010000
END:DAYLIGHT
BEGIN:STANDARD
TZOFFSETFROM:+0200
TZOFFSETTO:+0100
TZNAME:CET
DTSTART:20241027T010000
END:STANDARD
BEGIN:DAYLIGHT
TZOFFSETFROM:+0100
TZOFFSETTO:+0200
TZNAME:CEST
DTSTART:20250330T010000
END:DAYLIGHT
BEGIN:STANDARD
TZOFFSETFROM:+0200
TZOFFSETTO:+0100
TZNAME:CET
DTSTART:20251026T010000
END:STANDARD
END:VTIMEZONE
BEGIN:VEVENT
DTSTART;TZID=Europe/Vienna:20241022T080000
DTEND;TZID=Europe/Vienna:20241022T100000
DTSTAMP:20260423T125308
CREATED:20240919T142233Z
LAST-MODIFIED:20241015T112821Z
UID:10002915-1729584000-1729591200@wienzimmer.fsw.at
SUMMARY:Elterncafé im WienZimmer
DESCRIPTION:Austausch und Beratung für alle Eltern\nBabies und Kleinkinder können mitgebracht werden\nim Festsaal
URL:https://wienzimmer.fsw.at/event/elterncafe-im-wienzimmer-3/2024-10-22/
LOCATION:WienZimmer\, Karl-Seitz-Hof - Jedleseer Str. 66-94/Ecke Jedleseer Straße und Dunantgasse\, Wien\, 1210\, Österreich
END:VEVENT
BEGIN:VEVENT
DTSTART;TZID=Europe/Vienna:20241022T100000
DTEND;TZID=Europe/Vienna:20241022T130000
DTSTAMP:20260423T125308
CREATED:20240919T145617Z
LAST-MODIFIED:20240919T145640Z
UID:10003029-1729591200-1729602000@wienzimmer.fsw.at
SUMMARY:Frauencafé Brunch
DESCRIPTION:– wohnpartner Wien\, Gebiet 21\n* offen für alle Frauen*!\nim Festsaal
URL:https://wienzimmer.fsw.at/event/frauencafe-brunch/
END:VEVENT
BEGIN:VEVENT
DTSTART;TZID=Europe/Vienna:20241022T160000
DTEND;TZID=Europe/Vienna:20241022T170000
DTSTAMP:20260423T125308
CREATED:20240925T095530Z
LAST-MODIFIED:20241127T134834Z
UID:10003057-1729612800-1729616400@wienzimmer.fsw.at
SUMMARY:Hobby Lobby: Türkisch
DESCRIPTION:im kleinen Seminarraum
URL:https://wienzimmer.fsw.at/event/hobby-lobby-tuerkisch/2024-10-22/
CATEGORIES:Kinder und Jugendliche
ATTACH;FMTTYPE=image/png:https://wienzimmer.fsw.at/wp-content/uploads/2024/04/tuerkisch.png
END:VEVENT
BEGIN:VEVENT
DTSTART;TZID=Europe/Vienna:20241022T163000
DTEND;TZID=Europe/Vienna:20241022T173000
DTSTAMP:20260423T125308
CREATED:20240925T095804Z
LAST-MODIFIED:20241127T134950Z
UID:10003069-1729614600-1729618200@wienzimmer.fsw.at
SUMMARY:Hobby Lobby: Kampfsport
DESCRIPTION:im kleinen Seminarraum (1. Stock)
URL:https://wienzimmer.fsw.at/event/hobby-lobby-kampfsport/2024-10-22/
CATEGORIES:Kinder und Jugendliche
ATTACH;FMTTYPE=image/png:https://wienzimmer.fsw.at/wp-content/uploads/2023/11/Kampfsport.png
END:VEVENT
BEGIN:VEVENT
DTSTART;TZID=Europe/Vienna:20241022T170000
DTEND;TZID=Europe/Vienna:20241022T180000
DTSTAMP:20260423T125308
CREATED:20240925T100105Z
LAST-MODIFIED:20241127T135145Z
UID:10003075-1729616400-1729620000@wienzimmer.fsw.at
SUMMARY:Hobby Lobby: Nähen
DESCRIPTION:im kleinen Seminarraum (1. Stock)
URL:https://wienzimmer.fsw.at/event/hobby-lobby-naehen/2024-10-22/
CATEGORIES:Kinder und Jugendliche
ATTACH;FMTTYPE=image/png:https://wienzimmer.fsw.at/wp-content/uploads/2024/04/naehkurs.png
END:VEVENT
END:VCALENDAR