BEGIN:VCALENDAR
VERSION:2.0
PRODID:-//Wien Zimmer - ECPv6.15.17.1//NONSGML v1.0//EN
CALSCALE:GREGORIAN
METHOD:PUBLISH
X-ORIGINAL-URL:https://wienzimmer.fsw.at
X-WR-CALDESC:Veranstaltungen für Wien Zimmer
REFRESH-INTERVAL;VALUE=DURATION:PT1H
X-Robots-Tag:noindex
X-PUBLISHED-TTL:PT1H
BEGIN:VTIMEZONE
TZID:Europe/Vienna
BEGIN:DAYLIGHT
TZOFFSETFROM:+0100
TZOFFSETTO:+0200
TZNAME:CEST
DTSTART:20230326T010000
END:DAYLIGHT
BEGIN:STANDARD
TZOFFSETFROM:+0200
TZOFFSETTO:+0100
TZNAME:CET
DTSTART:20231029T010000
END:STANDARD
BEGIN:DAYLIGHT
TZOFFSETFROM:+0100
TZOFFSETTO:+0200
TZNAME:CEST
DTSTART:20240331T010000
END:DAYLIGHT
BEGIN:STANDARD
TZOFFSETFROM:+0200
TZOFFSETTO:+0100
TZNAME:CET
DTSTART:20241027T010000
END:STANDARD
BEGIN:DAYLIGHT
TZOFFSETFROM:+0100
TZOFFSETTO:+0200
TZNAME:CEST
DTSTART:20250330T010000
END:DAYLIGHT
BEGIN:STANDARD
TZOFFSETFROM:+0200
TZOFFSETTO:+0100
TZNAME:CET
DTSTART:20251026T010000
END:STANDARD
END:VTIMEZONE
BEGIN:VEVENT
DTSTART;TZID=Europe/Vienna:20241015T080000
DTEND;TZID=Europe/Vienna:20241015T100000
DTSTAMP:20260423T125425
CREATED:20240919T142233Z
LAST-MODIFIED:20241015T112821Z
UID:10002914-1728979200-1728986400@wienzimmer.fsw.at
SUMMARY:Elterncafé im WienZimmer
DESCRIPTION:Austausch und Beratung für alle Eltern\nBabies und Kleinkinder können mitgebracht werden\nim Festsaal
URL:https://wienzimmer.fsw.at/event/elterncafe-im-wienzimmer-3/2024-10-15/
LOCATION:WienZimmer\, Karl-Seitz-Hof - Jedleseer Str. 66-94/Ecke Jedleseer Straße und Dunantgasse\, Wien\, 1210\, Österreich
END:VEVENT
BEGIN:VEVENT
DTSTART;TZID=Europe/Vienna:20241015T160000
DTEND;TZID=Europe/Vienna:20241015T170000
DTSTAMP:20260423T125425
CREATED:20240925T095530Z
LAST-MODIFIED:20241127T134834Z
UID:10003056-1729008000-1729011600@wienzimmer.fsw.at
SUMMARY:Hobby Lobby: Türkisch
DESCRIPTION:im kleinen Seminarraum
URL:https://wienzimmer.fsw.at/event/hobby-lobby-tuerkisch/2024-10-15/
CATEGORIES:Kinder und Jugendliche
ATTACH;FMTTYPE=image/png:https://wienzimmer.fsw.at/wp-content/uploads/2024/04/tuerkisch.png
END:VEVENT
BEGIN:VEVENT
DTSTART;TZID=Europe/Vienna:20241015T163000
DTEND;TZID=Europe/Vienna:20241015T173000
DTSTAMP:20260423T125425
CREATED:20240925T095804Z
LAST-MODIFIED:20241127T134950Z
UID:10003068-1729009800-1729013400@wienzimmer.fsw.at
SUMMARY:Hobby Lobby: Kampfsport
DESCRIPTION:im kleinen Seminarraum (1. Stock)
URL:https://wienzimmer.fsw.at/event/hobby-lobby-kampfsport/2024-10-15/
CATEGORIES:Kinder und Jugendliche
ATTACH;FMTTYPE=image/png:https://wienzimmer.fsw.at/wp-content/uploads/2023/11/Kampfsport.png
END:VEVENT
BEGIN:VEVENT
DTSTART;TZID=Europe/Vienna:20241015T170000
DTEND;TZID=Europe/Vienna:20241015T180000
DTSTAMP:20260423T125425
CREATED:20240925T100105Z
LAST-MODIFIED:20241127T135145Z
UID:10003074-1729011600-1729015200@wienzimmer.fsw.at
SUMMARY:Hobby Lobby: Nähen
DESCRIPTION:im kleinen Seminarraum (1. Stock)
URL:https://wienzimmer.fsw.at/event/hobby-lobby-naehen/2024-10-15/
CATEGORIES:Kinder und Jugendliche
ATTACH;FMTTYPE=image/png:https://wienzimmer.fsw.at/wp-content/uploads/2024/04/naehkurs.png
END:VEVENT
BEGIN:VEVENT
DTSTART;TZID=Europe/Vienna:20241015T170000
DTEND;TZID=Europe/Vienna:20241015T200000
DTSTAMP:20260423T125425
CREATED:20240919T145413Z
LAST-MODIFIED:20240919T145413Z
UID:10003027-1729011600-1729022400@wienzimmer.fsw.at
SUMMARY:Boogie Night
DESCRIPTION:– mit Boogie DJ Franz\nfür ältere Menschen und alle\, die mitmachen wollen\nim Festsaal
URL:https://wienzimmer.fsw.at/event/boogie-night/
ATTACH;FMTTYPE=image/png:https://wienzimmer.fsw.at/wp-content/uploads/2024/09/WienZimmer_MonatderSeniorinnen-neu.png
END:VEVENT
END:VCALENDAR