BEGIN:VCALENDAR
VERSION:2.0
PRODID:-//Wien Zimmer - ECPv6.15.17.1//NONSGML v1.0//EN
CALSCALE:GREGORIAN
METHOD:PUBLISH
X-ORIGINAL-URL:https://wienzimmer.fsw.at
X-WR-CALDESC:Veranstaltungen für Wien Zimmer
REFRESH-INTERVAL;VALUE=DURATION:PT1H
X-Robots-Tag:noindex
X-PUBLISHED-TTL:PT1H
BEGIN:VTIMEZONE
TZID:Europe/Vienna
BEGIN:DAYLIGHT
TZOFFSETFROM:+0100
TZOFFSETTO:+0200
TZNAME:CEST
DTSTART:20230326T010000
END:DAYLIGHT
BEGIN:STANDARD
TZOFFSETFROM:+0200
TZOFFSETTO:+0100
TZNAME:CET
DTSTART:20231029T010000
END:STANDARD
BEGIN:DAYLIGHT
TZOFFSETFROM:+0100
TZOFFSETTO:+0200
TZNAME:CEST
DTSTART:20240331T010000
END:DAYLIGHT
BEGIN:STANDARD
TZOFFSETFROM:+0200
TZOFFSETTO:+0100
TZNAME:CET
DTSTART:20241027T010000
END:STANDARD
BEGIN:DAYLIGHT
TZOFFSETFROM:+0100
TZOFFSETTO:+0200
TZNAME:CEST
DTSTART:20250330T010000
END:DAYLIGHT
BEGIN:STANDARD
TZOFFSETFROM:+0200
TZOFFSETTO:+0100
TZNAME:CET
DTSTART:20251026T010000
END:STANDARD
END:VTIMEZONE
BEGIN:VEVENT
DTSTART;TZID=Europe/Vienna:20241009T084500
DTEND;TZID=Europe/Vienna:20241009T094500
DTSTAMP:20260423T125420
CREATED:20240919T142926Z
LAST-MODIFIED:20240926T124920Z
UID:10003041-1728463500-1728467100@wienzimmer.fsw.at
SUMMARY:Yoga mit Sophie
DESCRIPTION:für ältere Menschen und alle die mitmachen wollen\nim kleinen Seminarsaal
URL:https://wienzimmer.fsw.at/event/yoga-mit-sophie/2024-10-09/
ATTACH;FMTTYPE=image/png:https://wienzimmer.fsw.at/wp-content/uploads/2024/09/WienZimmer_MonatderSeniorinnen-neu.png
END:VEVENT
BEGIN:VEVENT
DTSTART;TZID=Europe/Vienna:20241009T100000
DTEND;TZID=Europe/Vienna:20241009T120000
DTSTAMP:20260423T125420
CREATED:20240919T143309Z
LAST-MODIFIED:20240919T143347Z
UID:10002960-1728468000-1728475200@wienzimmer.fsw.at
SUMMARY:Sprechstunde der Wiener Sozialdienste (WISO)
DESCRIPTION:Der Kontaktbesuchsdienst hilft Menschen ab 60 Jahren\, die besten Angebote und Aktivitäten der Stadt zu finden. \nFindet im Festsaal statt. \nwww.wienersozialdienste.at \n 
URL:https://wienzimmer.fsw.at/event/sprechstunde-der-wiener-sozialdienste-wiso-10/2024-10-09/
LOCATION:WienZimmer\, Karl-Seitz-Hof - Jedleseer Str. 66-94/Ecke Jedleseer Straße und Dunantgasse\, Wien\, 1210\, Österreich
CATEGORIES:Wiener Sozialdienste,Wiener Sozialdienste Sprechstunde
ATTACH;FMTTYPE=image/png:https://wienzimmer.fsw.at/wp-content/uploads/2024/09/WienZimmer_MonatderSeniorinnen-neu.png
END:VEVENT
BEGIN:VEVENT
DTSTART;TZID=Europe/Vienna:20241009T103000
DTEND;TZID=Europe/Vienna:20241009T123000
DTSTAMP:20260423T125420
CREATED:20240919T143530Z
LAST-MODIFIED:20240919T143530Z
UID:10002842-1728469800-1728477000@wienzimmer.fsw.at
SUMMARY:Offene Aquarellmalrunde
DESCRIPTION:im kleinen Seminarraum.
URL:https://wienzimmer.fsw.at/event/offene-aquarellmalrunde-3-2/2024-10-09/
ATTACH;FMTTYPE=image/png:https://wienzimmer.fsw.at/wp-content/uploads/2024/09/WienZimmer_MonatderSeniorinnen-neu.png
END:VEVENT
BEGIN:VEVENT
DTSTART;TZID=Europe/Vienna:20241009T160000
DTEND;TZID=Europe/Vienna:20241009T173000
DTSTAMP:20260423T125420
CREATED:20240919T144102Z
LAST-MODIFIED:20240919T144102Z
UID:10003014-1728489600-1728495000@wienzimmer.fsw.at
SUMMARY:s’Plaudertischerl – Einfach ins Gespräch kommen
DESCRIPTION:Ein kurzer Plausch über das Wetter oder eine längere Unterhaltung – regelmäßig am ersten Mittwoch im Monat kommen am Plaudertischerl in Wiener Kaffeehäusern und Nachbarschaftszentren Menschen auf einfachem Wege mit anderen ins Gespräch. \nwww.plaudertischerl.at
URL:https://wienzimmer.fsw.at/event/splaudertischerl-einfach-ins-gespraech-kommen-15/
LOCATION:WienZimmer\, Karl-Seitz-Hof - Jedleseer Str. 66-94/Ecke Jedleseer Straße und Dunantgasse\, Wien\, 1210\, Österreich
CATEGORIES:Sonstiges
ATTACH;FMTTYPE=image/png:https://wienzimmer.fsw.at/wp-content/uploads/2023/11/Plaudertischerl.png
END:VEVENT
BEGIN:VEVENT
DTSTART;TZID=Europe/Vienna:20241009T163000
DTEND;TZID=Europe/Vienna:20241009T173000
DTSTAMP:20260423T125420
CREATED:20240925T100356Z
LAST-MODIFIED:20241127T140251Z
UID:10003079-1728491400-1728495000@wienzimmer.fsw.at
SUMMARY:Hobby Lobby: Fotografie
DESCRIPTION:im kleinen Seminarraum (1. Stock)
URL:https://wienzimmer.fsw.at/event/hobby-lobby-fotografie/2024-10-09/
CATEGORIES:Kinder und Jugendliche
ATTACH;FMTTYPE=image/png:https://wienzimmer.fsw.at/wp-content/uploads/2024/10/WienZimmer_Veranstaltungskalender-Fotografie.png
END:VEVENT
BEGIN:VEVENT
DTSTART;TZID=Europe/Vienna:20241009T170000
DTEND;TZID=Europe/Vienna:20241009T180000
DTSTAMP:20260423T125420
CREATED:20240919T144459Z
LAST-MODIFIED:20240919T144815Z
UID:10003024-1728493200-1728496800@wienzimmer.fsw.at
SUMMARY:Line Dance Schnupperstunde
DESCRIPTION:Schnupperstunde für ältere Menschen und alle die mitmachen möchten\nim Festsaal
URL:https://wienzimmer.fsw.at/event/line-dance-schnupperstunde/2024-10-09/
ATTACH;FMTTYPE=image/png:https://wienzimmer.fsw.at/wp-content/uploads/2024/09/WienZimmer_MonatderSeniorinnen-neu.png
END:VEVENT
BEGIN:VEVENT
DTSTART;TZID=Europe/Vienna:20241009T173000
DTEND;TZID=Europe/Vienna:20241009T180000
DTSTAMP:20260423T125420
CREATED:20240925T100958Z
LAST-MODIFIED:20241127T140518Z
UID:10003091-1728495000-1728496800@wienzimmer.fsw.at
SUMMARY:Hobby Lobby: Tanzen
DESCRIPTION:im Souterrain (Keller)
URL:https://wienzimmer.fsw.at/event/hobby-lobby-tanzen/2024-10-09/
CATEGORIES:Kinder und Jugendliche
ATTACH;FMTTYPE=image/png:https://wienzimmer.fsw.at/wp-content/uploads/2023/11/Tanzen.png
END:VEVENT
BEGIN:VEVENT
DTSTART;TZID=Europe/Vienna:20241009T173000
DTEND;TZID=Europe/Vienna:20241009T183000
DTSTAMP:20260423T125420
CREATED:20240925T100734Z
LAST-MODIFIED:20241127T140413Z
UID:10003085-1728495000-1728498600@wienzimmer.fsw.at
SUMMARY:Hobby Lobby: Anime und Manga
DESCRIPTION:im Festsaal (Hochparterre)
URL:https://wienzimmer.fsw.at/event/hobby-lobby-anime-und-manga/2024-10-09/
CATEGORIES:Kinder und Jugendliche
ATTACH;FMTTYPE=image/png:https://wienzimmer.fsw.at/wp-content/uploads/2024/10/WienZimmer_Veranstaltungskalender-Anime.png
END:VEVENT
BEGIN:VEVENT
DTSTART;TZID=Europe/Vienna:20241009T180000
DTEND;TZID=Europe/Vienna:20241009T200000
DTSTAMP:20260423T125420
CREATED:20240925T102926Z
LAST-MODIFIED:20240925T102926Z
UID:10003147-1728496800-1728504000@wienzimmer.fsw.at
SUMMARY:Line Dance - Senior:innenrunde
DESCRIPTION:im kleinen Seminarraum
URL:https://wienzimmer.fsw.at/event/line-dance-seniorinnenrunde/2024-10-09/
ATTACH;FMTTYPE=image/png:https://wienzimmer.fsw.at/wp-content/uploads/2024/09/WienZimmer_MonatderSeniorinnen-neu.png
END:VEVENT
END:VCALENDAR