BEGIN:VCALENDAR
VERSION:2.0
PRODID:-//Wien Zimmer - ECPv6.15.17.1//NONSGML v1.0//EN
CALSCALE:GREGORIAN
METHOD:PUBLISH
X-ORIGINAL-URL:https://wienzimmer.fsw.at
X-WR-CALDESC:Veranstaltungen für Wien Zimmer
REFRESH-INTERVAL;VALUE=DURATION:PT1H
X-Robots-Tag:noindex
X-PUBLISHED-TTL:PT1H
BEGIN:VTIMEZONE
TZID:Europe/Vienna
BEGIN:DAYLIGHT
TZOFFSETFROM:+0100
TZOFFSETTO:+0200
TZNAME:CEST
DTSTART:20230326T010000
END:DAYLIGHT
BEGIN:STANDARD
TZOFFSETFROM:+0200
TZOFFSETTO:+0100
TZNAME:CET
DTSTART:20231029T010000
END:STANDARD
BEGIN:DAYLIGHT
TZOFFSETFROM:+0100
TZOFFSETTO:+0200
TZNAME:CEST
DTSTART:20240331T010000
END:DAYLIGHT
BEGIN:STANDARD
TZOFFSETFROM:+0200
TZOFFSETTO:+0100
TZNAME:CET
DTSTART:20241027T010000
END:STANDARD
BEGIN:DAYLIGHT
TZOFFSETFROM:+0100
TZOFFSETTO:+0200
TZNAME:CEST
DTSTART:20250330T010000
END:DAYLIGHT
BEGIN:STANDARD
TZOFFSETFROM:+0200
TZOFFSETTO:+0100
TZNAME:CET
DTSTART:20251026T010000
END:STANDARD
END:VTIMEZONE
BEGIN:VEVENT
DTSTART;TZID=Europe/Vienna:20241004T150000
DTEND;TZID=Europe/Vienna:20241004T160000
DTSTAMP:20260423T125458
CREATED:20240925T102101Z
LAST-MODIFIED:20240925T102101Z
UID:10003132-1728054000-1728057600@wienzimmer.fsw.at
SUMMARY:Schnupperwoche Hobby Lobby: Nachhilfe
DESCRIPTION:im kleinen Seminarraum (1. Stock)
URL:https://wienzimmer.fsw.at/event/schnupperwoche-hobby-lobby-nachhilfe/
CATEGORIES:Kinder und Jugendliche
ATTACH;FMTTYPE=image/png:https://wienzimmer.fsw.at/wp-content/uploads/2023/11/Hausaufgaben.png
END:VEVENT
BEGIN:VEVENT
DTSTART;TZID=Europe/Vienna:20241004T160000
DTEND;TZID=Europe/Vienna:20241004T170000
DTSTAMP:20260423T125458
CREATED:20240925T102406Z
LAST-MODIFIED:20240925T102406Z
UID:10003137-1728057600-1728061200@wienzimmer.fsw.at
SUMMARY:Schnupperwoche Hobby Lobby: Musik & Singen
DESCRIPTION:im kleinen Seminarraum (1. Stock)
URL:https://wienzimmer.fsw.at/event/schnupperwoche-hobby-lobby-musik-singen/
CATEGORIES:Kinder und Jugendliche
ATTACH;FMTTYPE=image/png:https://wienzimmer.fsw.at/wp-content/uploads/2024/04/musik_singen.png
END:VEVENT
BEGIN:VEVENT
DTSTART;TZID=Europe/Vienna:20241004T170000
DTEND;TZID=Europe/Vienna:20241004T180000
DTSTAMP:20260423T125458
CREATED:20240925T102625Z
LAST-MODIFIED:20240925T102625Z
UID:10003142-1728061200-1728064800@wienzimmer.fsw.at
SUMMARY:Schnupperwoche Hobby Lobby: Experimente
DESCRIPTION:im Festsaal (Hochparterre)
URL:https://wienzimmer.fsw.at/event/schnupperwoche-hobby-lobby-experimente/
CATEGORIES:Kinder und Jugendliche
END:VEVENT
END:VCALENDAR