BEGIN:VCALENDAR
VERSION:2.0
PRODID:-//Wien Zimmer - ECPv6.15.17.1//NONSGML v1.0//EN
CALSCALE:GREGORIAN
METHOD:PUBLISH
X-WR-CALNAME:Wien Zimmer
X-ORIGINAL-URL:https://wienzimmer.fsw.at
X-WR-CALDESC:Veranstaltungen für Wien Zimmer
REFRESH-INTERVAL;VALUE=DURATION:PT1H
X-Robots-Tag:noindex
X-PUBLISHED-TTL:PT1H
BEGIN:VTIMEZONE
TZID:Europe/Vienna
BEGIN:DAYLIGHT
TZOFFSETFROM:+0100
TZOFFSETTO:+0200
TZNAME:CEST
DTSTART:20230326T010000
END:DAYLIGHT
BEGIN:STANDARD
TZOFFSETFROM:+0200
TZOFFSETTO:+0100
TZNAME:CET
DTSTART:20231029T010000
END:STANDARD
BEGIN:DAYLIGHT
TZOFFSETFROM:+0100
TZOFFSETTO:+0200
TZNAME:CEST
DTSTART:20240331T010000
END:DAYLIGHT
BEGIN:STANDARD
TZOFFSETFROM:+0200
TZOFFSETTO:+0100
TZNAME:CET
DTSTART:20241027T010000
END:STANDARD
BEGIN:DAYLIGHT
TZOFFSETFROM:+0100
TZOFFSETTO:+0200
TZNAME:CEST
DTSTART:20250330T010000
END:DAYLIGHT
BEGIN:STANDARD
TZOFFSETFROM:+0200
TZOFFSETTO:+0100
TZNAME:CET
DTSTART:20251026T010000
END:STANDARD
END:VTIMEZONE
BEGIN:VEVENT
DTSTART;TZID=Europe/Vienna:20240719T130000
DTEND;TZID=Europe/Vienna:20240719T163000
DTSTAMP:20260425T174840
CREATED:20240703T091607Z
LAST-MODIFIED:20240703T091607Z
UID:10002793-1721394000-1721406600@wienzimmer.fsw.at
SUMMARY:zoom mobil Workshop: Wir brauchen Werkzeug  (Kindermuseum)
DESCRIPTION:für Kinder ab 4 Jahren (unter 8 Jahren in Begleitung der Eltern) im Souterrain\n\nMit Karton\, Farbe und Klebeband verwandeln wir das WienZimmer Gartenstadt in eine riesige Weltraumstadt. Wo starten die Altpapierraketen? Wer schreddert die Gravitationswellpappe? Und wo tanzen die Papproboter? \nWorkshop 1: 13.00-14.30Uhr\nWorkshop 2: 15.00-16.30Uhr \nAnmeldung erforderlich unter: wienzimmer@fsw.at Betreff: ZOOM mobil Spezialwoche;\ntelefonisch unter: +43 676 8289 40055 oder persönlich im WienZimmer
URL:https://wienzimmer.fsw.at/event/zoom-mobil-workshop-wir-brauchen-werkzeug-kindermuseum-4/
CATEGORIES:Kinder und Jugendliche
END:VEVENT
END:VCALENDAR