BEGIN:VCALENDAR
VERSION:2.0
PRODID:-//Wien Zimmer - ECPv6.15.17.1//NONSGML v1.0//EN
CALSCALE:GREGORIAN
METHOD:PUBLISH
X-ORIGINAL-URL:https://wienzimmer.fsw.at
X-WR-CALDESC:Veranstaltungen für Wien Zimmer
REFRESH-INTERVAL;VALUE=DURATION:PT1H
X-Robots-Tag:noindex
X-PUBLISHED-TTL:PT1H
BEGIN:VTIMEZONE
TZID:Europe/Vienna
BEGIN:DAYLIGHT
TZOFFSETFROM:+0100
TZOFFSETTO:+0200
TZNAME:CEST
DTSTART:20230326T010000
END:DAYLIGHT
BEGIN:STANDARD
TZOFFSETFROM:+0200
TZOFFSETTO:+0100
TZNAME:CET
DTSTART:20231029T010000
END:STANDARD
BEGIN:DAYLIGHT
TZOFFSETFROM:+0100
TZOFFSETTO:+0200
TZNAME:CEST
DTSTART:20240331T010000
END:DAYLIGHT
BEGIN:STANDARD
TZOFFSETFROM:+0200
TZOFFSETTO:+0100
TZNAME:CET
DTSTART:20241027T010000
END:STANDARD
BEGIN:DAYLIGHT
TZOFFSETFROM:+0100
TZOFFSETTO:+0200
TZNAME:CEST
DTSTART:20250330T010000
END:DAYLIGHT
BEGIN:STANDARD
TZOFFSETFROM:+0200
TZOFFSETTO:+0100
TZNAME:CET
DTSTART:20251026T010000
END:STANDARD
END:VTIMEZONE
BEGIN:VEVENT
DTSTART;TZID=Europe/Vienna:20240611T080000
DTEND;TZID=Europe/Vienna:20240611T100000
DTSTAMP:20260425T191715
CREATED:20240529T082952Z
LAST-MODIFIED:20240529T083137Z
UID:10002690-1718092800-1718100000@wienzimmer.fsw.at
SUMMARY:Elterncafé im WienZimmer
DESCRIPTION:Bei kostenlosem Filterkaffee\, Tee\, Keksen und einer kleinen Frühstücksjause können Eltern sich hier\, in einem moderierten Rahmen\, zu Themen rund ums Eltern sein\, ihre Kinder und schulische Herausforderungen austauschen.\nEs ist keine Anmeldung notwendig. \n* Das Elterncafe findet  ab dem 20. Februar – bis auf weiteres – wöchentlich am Dienstag um 08:00 Uhr statt.
URL:https://wienzimmer.fsw.at/event/elterncafe-im-wienzimmer-2-2/2024-06-11/
LOCATION:WienZimmer\, Karl-Seitz-Hof - Jedleseer Str. 66-94/Ecke Jedleseer Straße und Dunantgasse\, Wien\, 1210\, Österreich
END:VEVENT
BEGIN:VEVENT
DTSTART;TZID=Europe/Vienna:20240611T130000
DTEND;TZID=Europe/Vienna:20240611T133000
DTSTAMP:20260425T191715
CREATED:20240529T085126Z
LAST-MODIFIED:20240529T085126Z
UID:10002773-1718110800-1718112600@wienzimmer.fsw.at
SUMMARY:Bilderbuchkino
DESCRIPTION:bebilderte Leseaktion für Kinder bis 12 Jahre\nSouterrain
URL:https://wienzimmer.fsw.at/event/bilderbuchkino-7/
CATEGORIES:Kinder und Jugendliche
END:VEVENT
BEGIN:VEVENT
DTSTART;TZID=Europe/Vienna:20240611T140000
DTEND;TZID=Europe/Vienna:20240611T160000
DTSTAMP:20260425T191715
CREATED:20240124T123207Z
LAST-MODIFIED:20240529T083424Z
UID:10002747-1718114400-1718121600@wienzimmer.fsw.at
SUMMARY:Hausaufgabenbetreuung
DESCRIPTION:Hausaufgabenbetreuung im kleinen Seminarraum \nin Kooperation mit „Rettet das Kind Österreich“ für Kinder von 6 bis 12 Jahren\, nur mit Anmeldung \nMehr Information gibt es hier.
URL:https://wienzimmer.fsw.at/event/hausaufgabenbetreuung-2/2024-06-11/
LOCATION:WienZimmer\, Karl-Seitz-Hof - Jedleseer Str. 66-94/Ecke Jedleseer Straße und Dunantgasse\, Wien\, 1210\, Österreich
CATEGORIES:Kinder und Jugendliche
ATTACH;FMTTYPE=image/png:https://wienzimmer.fsw.at/wp-content/uploads/2023/11/Hausaufgaben.png
END:VEVENT
BEGIN:VEVENT
DTSTART;TZID=Europe/Vienna:20240611T150000
DTEND;TZID=Europe/Vienna:20240611T183000
DTSTAMP:20260425T191715
CREATED:20240529T085222Z
LAST-MODIFIED:20240529T085222Z
UID:10002774-1718118000-1718130600@wienzimmer.fsw.at
SUMMARY:Speed Coaching: Lebens- und Sozialberater:innen (in Ausbildung unter Supervision)
DESCRIPTION:in Kooperation mit Gabriela Göbel und ihren Kolleg:innen\nFestsaal \n*Keine Anmeldung erforderlich!
URL:https://wienzimmer.fsw.at/event/speed-coaching-lebens-und-sozialberaterinnen-in-ausbildung-unter-supervision-6/
END:VEVENT
END:VCALENDAR