BEGIN:VCALENDAR
VERSION:2.0
PRODID:-//Wien Zimmer - ECPv6.15.17.1//NONSGML v1.0//EN
CALSCALE:GREGORIAN
METHOD:PUBLISH
X-ORIGINAL-URL:https://wienzimmer.fsw.at
X-WR-CALDESC:Veranstaltungen für Wien Zimmer
REFRESH-INTERVAL;VALUE=DURATION:PT1H
X-Robots-Tag:noindex
X-PUBLISHED-TTL:PT1H
BEGIN:VTIMEZONE
TZID:Europe/Vienna
BEGIN:DAYLIGHT
TZOFFSETFROM:+0100
TZOFFSETTO:+0200
TZNAME:CEST
DTSTART:20230326T010000
END:DAYLIGHT
BEGIN:STANDARD
TZOFFSETFROM:+0200
TZOFFSETTO:+0100
TZNAME:CET
DTSTART:20231029T010000
END:STANDARD
BEGIN:DAYLIGHT
TZOFFSETFROM:+0100
TZOFFSETTO:+0200
TZNAME:CEST
DTSTART:20240331T010000
END:DAYLIGHT
BEGIN:STANDARD
TZOFFSETFROM:+0200
TZOFFSETTO:+0100
TZNAME:CET
DTSTART:20241027T010000
END:STANDARD
BEGIN:DAYLIGHT
TZOFFSETFROM:+0100
TZOFFSETTO:+0200
TZNAME:CEST
DTSTART:20250330T010000
END:DAYLIGHT
BEGIN:STANDARD
TZOFFSETFROM:+0200
TZOFFSETTO:+0100
TZNAME:CET
DTSTART:20251026T010000
END:STANDARD
END:VTIMEZONE
BEGIN:VEVENT
DTSTART;TZID=Europe/Vienna:20240521T080000
DTEND;TZID=Europe/Vienna:20240521T100000
DTSTAMP:20260425T222348
CREATED:20240221T135959Z
LAST-MODIFIED:20240417T114943Z
UID:10002617-1716278400-1716285600@wienzimmer.fsw.at
SUMMARY:Elterncafé im WienZimmer
DESCRIPTION:Bei kostenlosem Filterkaffee\, Tee\, Keksen und einer kleinen Frühstücksjause können Eltern sich hier\, in einem moderierten Rahmen\, zu Themen rund ums Eltern sein\, ihre Kinder und schulische Herausforderungen austauschen.\nEs ist keine Anmeldung notwendig. \n* Das Elterncafe findet  ab dem 20. Februar – bis auf weiteres – wöchentlich am Dienstag um 08:00 Uhr statt.
URL:https://wienzimmer.fsw.at/event/elterncafe-im-wienzimmer-2/2024-05-21/
LOCATION:WienZimmer\, Karl-Seitz-Hof - Jedleseer Str. 66-94/Ecke Jedleseer Straße und Dunantgasse\, Wien\, 1210\, Österreich
END:VEVENT
BEGIN:VEVENT
DTSTART;TZID=Europe/Vienna:20240521T140000
DTEND;TZID=Europe/Vienna:20240521T160000
DTSTAMP:20260425T222348
CREATED:20240124T123207Z
LAST-MODIFIED:20240529T083424Z
UID:10002588-1716300000-1716307200@wienzimmer.fsw.at
SUMMARY:Hausaufgabenbetreuung
DESCRIPTION:Hausaufgabenbetreuung im kleinen Seminarraum \nin Kooperation mit „Rettet das Kind Österreich“ für Kinder von 6 bis 12 Jahren\, nur mit Anmeldung \nMehr Information gibt es hier.
URL:https://wienzimmer.fsw.at/event/hausaufgabenbetreuung-2/2024-05-21/
LOCATION:WienZimmer\, Karl-Seitz-Hof - Jedleseer Str. 66-94/Ecke Jedleseer Straße und Dunantgasse\, Wien\, 1210\, Österreich
CATEGORIES:Kinder und Jugendliche
ATTACH;FMTTYPE=image/png:https://wienzimmer.fsw.at/wp-content/uploads/2023/11/Hausaufgaben.png
END:VEVENT
BEGIN:VEVENT
DTSTART;TZID=Europe/Vienna:20240521T160000
DTEND;TZID=Europe/Vienna:20240521T170000
DTSTAMP:20260425T222348
CREATED:20240417T132311Z
LAST-MODIFIED:20240529T083729Z
UID:10002676-1716307200-1716310800@wienzimmer.fsw.at
SUMMARY:Hobby Lobby: Malen & Zeichnen
DESCRIPTION:Malen & Zeichnen  im kleinen Seminarraum \nDie Vienna Hobby Lobby bietet Kindern/Jugendlichen im Alter von 12 bis 17 Jahren verschiedene Kurse an. \nMehr Info gibt es hier. \nKontakt: \nEmail: linda.fress@viennahobbylobby.com Tel.:+43 677 61476128
URL:https://wienzimmer.fsw.at/event/hobby-lobby-malen-zeichnen-3/2024-05-21/
CATEGORIES:Kinder und Jugendliche
ATTACH;FMTTYPE=image/png:https://wienzimmer.fsw.at/wp-content/uploads/2023/11/Malen.png
END:VEVENT
BEGIN:VEVENT
DTSTART;TZID=Europe/Vienna:20240521T170000
DTEND;TZID=Europe/Vienna:20240521T190000
DTSTAMP:20260425T222348
CREATED:20240417T133257Z
LAST-MODIFIED:20240417T133257Z
UID:10002681-1716310800-1716318000@wienzimmer.fsw.at
SUMMARY:Gemeinsam statt einsam - kostenlose Abendjause im WienZimmer
DESCRIPTION:für 20 Personen im Festsaal. \nEinmal im Monat wollen wir einen gemütlichen Rahmen schaffen und 20 bunt zusammen gewürfelte Gäste exklusiv und kostenlos mit einer schmackhaften Jause verwöhnen.\nAn einer gedeckten Tafel servieren wir verschiedene Leckereien und verbringen beim Essen gemeinsam einen schönen Abend\, der Gelegenheit bietet sich auszutauschen\, seine Nachbar:innen kennenzulernen\, Kontakte aufzubauen und Freundschaften zu schließen.\nNeben spannenden Geschichten und jeder Menge Lebenserfahrung\, gibt es dabei von vegan bis tierisch für alle etwas. \nWir freuen uns auf einen netten gemeinsamen Abend! \nDie Teilnahme ist nur mit Anmeldung möglich:\ndirekt im WienZimmer\, beim Team vor Ort\nper Email unter: wienzimmer@fsw.at\, Betreff: Dinner 21.5.\ntelefonisch oder per sms  unter: +43 676 8289 40448
URL:https://wienzimmer.fsw.at/event/gemeinsam-statt-einsam-kostenlose-abendjause-im-wienzimmer-4/
LOCATION:WienZimmer\, Karl-Seitz-Hof - Jedleseer Str. 66-94/Ecke Jedleseer Straße und Dunantgasse\, Wien\, 1210\, Österreich
END:VEVENT
BEGIN:VEVENT
DTSTART;TZID=Europe/Vienna:20240521T173000
DTEND;TZID=Europe/Vienna:20240521T183000
DTSTAMP:20260425T222348
CREATED:20240227T141550Z
LAST-MODIFIED:20240529T083801Z
UID:10002599-1716312600-1716316200@wienzimmer.fsw.at
SUMMARY:Hobby Lobby: Näh- und Häkelkurs
DESCRIPTION:Hobby Lobby: Näh- & Häkelkurs\nkleiner Seminarraum \nDie Vienna Hobby Lobby bietet Kindern/Jugendlichen im Alter von 12 bis 17 Jahren verschiedene Kurse an. \nAb der zweiten Märzwoche ist eine verbindliche Anmeldung erforderlich. \nMehr Info gibt es hier. \nKontakt: \nEmail: linda.fress@viennahobbylobby.com Tel.:+43 677 61476128
URL:https://wienzimmer.fsw.at/event/hobby-lobby-naeh-und-haekelkurs/2024-05-21/
CATEGORIES:Kinder und Jugendliche
ATTACH;FMTTYPE=image/png:https://wienzimmer.fsw.at/wp-content/uploads/2024/04/naehkurs.png
END:VEVENT
BEGIN:VEVENT
DTSTART;TZID=Europe/Vienna:20240521T180000
DTEND;TZID=Europe/Vienna:20240521T190000
DTSTAMP:20260425T222348
CREATED:20240328T093940Z
LAST-MODIFIED:20240529T083837Z
UID:10002621-1716314400-1716318000@wienzimmer.fsw.at
SUMMARY:Hobby Lobby: Jiu Jitsu
DESCRIPTION:Jiu Jitsu  im Souterrain \nDie Vienna Hobby Lobby bietet Kindern/Jugendlichen im Alter von 12 bis 17 Jahren verschiedene Kurse an. \nMehr Info gibt es hier. \nKontakt: \nEmail: linda.fress@viennahobbylobby.com Tel.:+43 677 61476128
URL:https://wienzimmer.fsw.at/event/hobby-lobby-jiu-jitsu/2024-05-21/
CATEGORIES:Kinder und Jugendliche
ATTACH;FMTTYPE=image/png:https://wienzimmer.fsw.at/wp-content/uploads/2024/04/kampfsport.png
END:VEVENT
END:VCALENDAR