BEGIN:VCALENDAR
VERSION:2.0
PRODID:-//Wien Zimmer - ECPv6.15.17.1//NONSGML v1.0//EN
CALSCALE:GREGORIAN
METHOD:PUBLISH
X-ORIGINAL-URL:https://wienzimmer.fsw.at
X-WR-CALDESC:Veranstaltungen für Wien Zimmer
REFRESH-INTERVAL;VALUE=DURATION:PT1H
X-Robots-Tag:noindex
X-PUBLISHED-TTL:PT1H
BEGIN:VTIMEZONE
TZID:Europe/Vienna
BEGIN:DAYLIGHT
TZOFFSETFROM:+0100
TZOFFSETTO:+0200
TZNAME:CEST
DTSTART:20230326T010000
END:DAYLIGHT
BEGIN:STANDARD
TZOFFSETFROM:+0200
TZOFFSETTO:+0100
TZNAME:CET
DTSTART:20231029T010000
END:STANDARD
BEGIN:DAYLIGHT
TZOFFSETFROM:+0100
TZOFFSETTO:+0200
TZNAME:CEST
DTSTART:20240331T010000
END:DAYLIGHT
BEGIN:STANDARD
TZOFFSETFROM:+0200
TZOFFSETTO:+0100
TZNAME:CET
DTSTART:20241027T010000
END:STANDARD
BEGIN:DAYLIGHT
TZOFFSETFROM:+0100
TZOFFSETTO:+0200
TZNAME:CEST
DTSTART:20250330T010000
END:DAYLIGHT
BEGIN:STANDARD
TZOFFSETFROM:+0200
TZOFFSETTO:+0100
TZNAME:CET
DTSTART:20251026T010000
END:STANDARD
END:VTIMEZONE
BEGIN:VEVENT
DTSTART;TZID=Europe/Vienna:20240515T103000
DTEND;TZID=Europe/Vienna:20240515T123000
DTSTAMP:20260425T205744
CREATED:20240417T125441Z
LAST-MODIFIED:20240529T083929Z
UID:10002624-1715769000-1715776200@wienzimmer.fsw.at
SUMMARY:Offene Aquarellmalrunde
DESCRIPTION:im kleinen Seminarraum oder im Souterrain.
URL:https://wienzimmer.fsw.at/event/offene-aquarellmalrunde/2024-05-15/
ATTACH;FMTTYPE=image/png:https://wienzimmer.fsw.at/wp-content/uploads/2023/11/Malen.png
END:VEVENT
BEGIN:VEVENT
DTSTART;TZID=Europe/Vienna:20240515T153000
DTEND;TZID=Europe/Vienna:20240515T163000
DTSTAMP:20260425T205744
CREATED:20240227T142109Z
LAST-MODIFIED:20240529T084345Z
UID:10002628-1715787000-1715790600@wienzimmer.fsw.at
SUMMARY:Vienna Hobby Lobby: Tanzen
DESCRIPTION:Tanzen  im kleinen Seminarraum oder im Souterrain \nDie Vienna Hobby Lobby bietet Kindern/Jugendlichen im Alter von 12 bis 17 Jahren verschiedene Kurse an. \nAb der zweiten Märzwoche ist eine verbindliche Anmeldung erforderlich. \nMehr Info gibt es hier. \nKontakt: \nEmail: linda.fress@viennahobbylobby.com Tel.:+43 677 61476128
URL:https://wienzimmer.fsw.at/event/vienna-hobby-lobby-tanzen-2/2024-05-15/
LOCATION:WienZimmer\, Karl-Seitz-Hof - Jedleseer Str. 66-94/Ecke Jedleseer Straße und Dunantgasse\, Wien\, 1210\, Österreich
CATEGORIES:Kinder und Jugendliche
ATTACH;FMTTYPE=image/png:https://wienzimmer.fsw.at/wp-content/uploads/2023/11/Tanzen.png
END:VEVENT
BEGIN:VEVENT
DTSTART;TZID=Europe/Vienna:20240515T160000
DTEND;TZID=Europe/Vienna:20240515T210000
DTSTAMP:20260425T205744
CREATED:20240417T133108Z
LAST-MODIFIED:20240417T133108Z
UID:10002680-1715788800-1715806800@wienzimmer.fsw.at
SUMMARY:HobbyLobby: 5 Jahres Jubiläum
DESCRIPTION:gesamtes WienZimmer\n* geschlossene Veranstaltung!
URL:https://wienzimmer.fsw.at/event/hobbylobby-5-jahres-jubilaeum/
ATTACH;FMTTYPE=image/png:https://wienzimmer.fsw.at/wp-content/uploads/2024/04/geschlossene_veranstaltung.png
END:VEVENT
BEGIN:VEVENT
DTSTART;TZID=Europe/Vienna:20240515T163000
DTEND;TZID=Europe/Vienna:20240515T173000
DTSTAMP:20260425T205744
CREATED:20240227T142350Z
LAST-MODIFIED:20240529T084422Z
UID:10002632-1715790600-1715794200@wienzimmer.fsw.at
SUMMARY:Vienna Hobby Lobby: Theater
DESCRIPTION:Theater im kleinen Seminarraum oder im Souterrain \nDie Vienna Hobby Lobby bietet Kindern/Jugendlichen im Alter von 12 bis 17 Jahren verschiedene Kurse an. \nAb der zweiten Märzwoche ist eine verbindliche Anmeldung erforderlich. \nMehr Info gibt es hier. \nKontakt: \nEmail: linda.fress@viennahobbylobby.com Tel.:+43 677 61476128
URL:https://wienzimmer.fsw.at/event/vienna-hobby-lobby-theater-2/2024-05-15/
LOCATION:WienZimmer\, Karl-Seitz-Hof - Jedleseer Str. 66-94/Ecke Jedleseer Straße und Dunantgasse\, Wien\, 1210\, Österreich
CATEGORIES:Kinder und Jugendliche
ATTACH;FMTTYPE=image/png:https://wienzimmer.fsw.at/wp-content/uploads/2023/11/Theater.png
END:VEVENT
BEGIN:VEVENT
DTSTART;TZID=Europe/Vienna:20240515T173000
DTEND;TZID=Europe/Vienna:20240515T183000
DTSTAMP:20260425T205744
CREATED:20240227T142555Z
LAST-MODIFIED:20240529T084505Z
UID:10002636-1715794200-1715797800@wienzimmer.fsw.at
SUMMARY:Vienna Hobby Lobby: Kampfsport
DESCRIPTION:Kampfsport im Souterrain \nDie Vienna Hobby Lobby bietet Kindern/Jugendlichen im Alter von 12 bis 17 Jahren verschiedene Kurse an. \nAb der zweiten Märzwoche ist eine verbindliche Anmeldung erforderlich. \nMehr Info gibt es hier. \nKontakt: \nEmail: linda.fress@viennahobbylobby.com Tel.:+43 677 61476128
URL:https://wienzimmer.fsw.at/event/vienna-hobby-lobby-kampfsport-2/2024-05-15/
LOCATION:WienZimmer\, Karl-Seitz-Hof - Jedleseer Str. 66-94/Ecke Jedleseer Straße und Dunantgasse\, Wien\, 1210\, Österreich
CATEGORIES:Kinder und Jugendliche
ATTACH;FMTTYPE=image/png:https://wienzimmer.fsw.at/wp-content/uploads/2023/11/Kampfsport.png
END:VEVENT
END:VCALENDAR