BEGIN:VCALENDAR
VERSION:2.0
PRODID:-//Wien Zimmer - ECPv6.15.17.1//NONSGML v1.0//EN
CALSCALE:GREGORIAN
METHOD:PUBLISH
X-WR-CALNAME:Wien Zimmer
X-ORIGINAL-URL:https://wienzimmer.fsw.at
X-WR-CALDESC:Veranstaltungen für Wien Zimmer
REFRESH-INTERVAL;VALUE=DURATION:PT1H
X-Robots-Tag:noindex
X-PUBLISHED-TTL:PT1H
BEGIN:VTIMEZONE
TZID:Europe/Vienna
BEGIN:DAYLIGHT
TZOFFSETFROM:+0100
TZOFFSETTO:+0200
TZNAME:CEST
DTSTART:20230326T010000
END:DAYLIGHT
BEGIN:STANDARD
TZOFFSETFROM:+0200
TZOFFSETTO:+0100
TZNAME:CET
DTSTART:20231029T010000
END:STANDARD
BEGIN:DAYLIGHT
TZOFFSETFROM:+0100
TZOFFSETTO:+0200
TZNAME:CEST
DTSTART:20240331T010000
END:DAYLIGHT
BEGIN:STANDARD
TZOFFSETFROM:+0200
TZOFFSETTO:+0100
TZNAME:CET
DTSTART:20241027T010000
END:STANDARD
BEGIN:DAYLIGHT
TZOFFSETFROM:+0100
TZOFFSETTO:+0200
TZNAME:CEST
DTSTART:20250330T010000
END:DAYLIGHT
BEGIN:STANDARD
TZOFFSETFROM:+0200
TZOFFSETTO:+0100
TZNAME:CET
DTSTART:20251026T010000
END:STANDARD
END:VTIMEZONE
BEGIN:VEVENT
DTSTART;TZID=Europe/Vienna:20240424T153000
DTEND;TZID=Europe/Vienna:20240424T163000
DTSTAMP:20260425T222840
CREATED:20240227T142109Z
LAST-MODIFIED:20240529T084345Z
UID:10002485-1713972600-1713976200@wienzimmer.fsw.at
SUMMARY:Vienna Hobby Lobby: Tanzen
DESCRIPTION:Tanzen  im kleinen Seminarraum oder im Souterrain \nDie Vienna Hobby Lobby bietet Kindern/Jugendlichen im Alter von 12 bis 17 Jahren verschiedene Kurse an. \nAb der zweiten Märzwoche ist eine verbindliche Anmeldung erforderlich. \nMehr Info gibt es hier. \nKontakt: \nEmail: linda.fress@viennahobbylobby.com Tel.:+43 677 61476128
URL:https://wienzimmer.fsw.at/event/vienna-hobby-lobby-tanzen-2/2024-04-24/
LOCATION:WienZimmer\, Karl-Seitz-Hof - Jedleseer Str. 66-94/Ecke Jedleseer Straße und Dunantgasse\, Wien\, 1210\, Österreich
CATEGORIES:Kinder und Jugendliche
ATTACH;FMTTYPE=image/png:https://wienzimmer.fsw.at/wp-content/uploads/2023/11/Tanzen.png
END:VEVENT
BEGIN:VEVENT
DTSTART;TZID=Europe/Vienna:20240424T163000
DTEND;TZID=Europe/Vienna:20240424T173000
DTSTAMP:20260425T222840
CREATED:20240227T142350Z
LAST-MODIFIED:20240529T084422Z
UID:10002490-1713976200-1713979800@wienzimmer.fsw.at
SUMMARY:Vienna Hobby Lobby: Theater
DESCRIPTION:Theater im kleinen Seminarraum oder im Souterrain \nDie Vienna Hobby Lobby bietet Kindern/Jugendlichen im Alter von 12 bis 17 Jahren verschiedene Kurse an. \nAb der zweiten Märzwoche ist eine verbindliche Anmeldung erforderlich. \nMehr Info gibt es hier. \nKontakt: \nEmail: linda.fress@viennahobbylobby.com Tel.:+43 677 61476128
URL:https://wienzimmer.fsw.at/event/vienna-hobby-lobby-theater-2/2024-04-24/
LOCATION:WienZimmer\, Karl-Seitz-Hof - Jedleseer Str. 66-94/Ecke Jedleseer Straße und Dunantgasse\, Wien\, 1210\, Österreich
CATEGORIES:Kinder und Jugendliche
ATTACH;FMTTYPE=image/png:https://wienzimmer.fsw.at/wp-content/uploads/2023/11/Theater.png
END:VEVENT
BEGIN:VEVENT
DTSTART;TZID=Europe/Vienna:20240424T170000
DTEND;TZID=Europe/Vienna:20240424T190000
DTSTAMP:20260425T222840
CREATED:20240328T102156Z
LAST-MODIFIED:20240328T102156Z
UID:10002580-1713978000-1713985200@wienzimmer.fsw.at
SUMMARY:Gemeinsam statt einsam - kostenlose Abendjause im WienZimmer
DESCRIPTION:für 20 Personen im Festsaal. \nEinmal im Monat wollen wir einen gemütlichen Rahmen schaffen und 20 bunt zusammen gewürfelte Gäste exklusiv und kostenlos mit einer schmackhaften Jause verwöhnen.\nAn einer gedeckten Tafel servieren wir verschiedene Leckereien und verbringen beim Essen gemeinsam einen schönen Abend\, der Gelegenheit bietet sich auszutauschen\, seine Nachbar:innen kennenzulernen\, Kontakte aufzubauen und Freundschaften zu schließen.\nNeben spannenden Geschichten und jeder Menge Lebenserfahrung\, gibt es dabei von vegan bis tierisch für alle etwas. \nWir freuen uns auf einen netten gemeinsamen Abend! \nDie Teilnahme ist nur mit Anmeldung möglich:\ndirekt im WienZimmer\, beim Team vor Ort\nper Email unter: wienzimmer@fsw.at\, Betreff: Dinner 24.4.\ntelefonisch oder per sms  unter: +43 676 8289 40448
URL:https://wienzimmer.fsw.at/event/gemeinsam-statt-einsam-kostenlose-abendjause-im-wienzimmer-3/
LOCATION:WienZimmer\, Karl-Seitz-Hof - Jedleseer Str. 66-94/Ecke Jedleseer Straße und Dunantgasse\, Wien\, 1210\, Österreich
END:VEVENT
BEGIN:VEVENT
DTSTART;TZID=Europe/Vienna:20240424T173000
DTEND;TZID=Europe/Vienna:20240424T183000
DTSTAMP:20260425T222840
CREATED:20240227T142555Z
LAST-MODIFIED:20240529T084505Z
UID:10002495-1713979800-1713983400@wienzimmer.fsw.at
SUMMARY:Vienna Hobby Lobby: Kampfsport
DESCRIPTION:Kampfsport im Souterrain \nDie Vienna Hobby Lobby bietet Kindern/Jugendlichen im Alter von 12 bis 17 Jahren verschiedene Kurse an. \nAb der zweiten Märzwoche ist eine verbindliche Anmeldung erforderlich. \nMehr Info gibt es hier. \nKontakt: \nEmail: linda.fress@viennahobbylobby.com Tel.:+43 677 61476128
URL:https://wienzimmer.fsw.at/event/vienna-hobby-lobby-kampfsport-2/2024-04-24/
LOCATION:WienZimmer\, Karl-Seitz-Hof - Jedleseer Str. 66-94/Ecke Jedleseer Straße und Dunantgasse\, Wien\, 1210\, Österreich
CATEGORIES:Kinder und Jugendliche
ATTACH;FMTTYPE=image/png:https://wienzimmer.fsw.at/wp-content/uploads/2023/11/Kampfsport.png
END:VEVENT
BEGIN:VEVENT
DTSTART;TZID=Europe/Vienna:20240424T180000
DTEND;TZID=Europe/Vienna:20240424T200000
DTSTAMP:20260425T222840
CREATED:20240227T144554Z
LAST-MODIFIED:20240328T101652Z
UID:10002577-1713981600-1713988800@wienzimmer.fsw.at
SUMMARY:Line Dance Gruppe (Senior:innen)
DESCRIPTION:im kleinen Seminarraum
URL:https://wienzimmer.fsw.at/event/line-dance-grupp-eseniorinnen/2024-04-24/
ATTACH;FMTTYPE=image/png:https://wienzimmer.fsw.at/wp-content/uploads/2023/11/Tanzen.png
END:VEVENT
END:VCALENDAR