BEGIN:VCALENDAR
VERSION:2.0
PRODID:-//Wien Zimmer - ECPv6.15.17.1//NONSGML v1.0//EN
CALSCALE:GREGORIAN
METHOD:PUBLISH
X-ORIGINAL-URL:https://wienzimmer.fsw.at
X-WR-CALDESC:Veranstaltungen für Wien Zimmer
REFRESH-INTERVAL;VALUE=DURATION:PT1H
X-Robots-Tag:noindex
X-PUBLISHED-TTL:PT1H
BEGIN:VTIMEZONE
TZID:Europe/Vienna
BEGIN:DAYLIGHT
TZOFFSETFROM:+0100
TZOFFSETTO:+0200
TZNAME:CEST
DTSTART:20230326T010000
END:DAYLIGHT
BEGIN:STANDARD
TZOFFSETFROM:+0200
TZOFFSETTO:+0100
TZNAME:CET
DTSTART:20231029T010000
END:STANDARD
BEGIN:DAYLIGHT
TZOFFSETFROM:+0100
TZOFFSETTO:+0200
TZNAME:CEST
DTSTART:20240331T010000
END:DAYLIGHT
BEGIN:STANDARD
TZOFFSETFROM:+0200
TZOFFSETTO:+0100
TZNAME:CET
DTSTART:20241027T010000
END:STANDARD
BEGIN:DAYLIGHT
TZOFFSETFROM:+0100
TZOFFSETTO:+0200
TZNAME:CEST
DTSTART:20250330T010000
END:DAYLIGHT
BEGIN:STANDARD
TZOFFSETFROM:+0200
TZOFFSETTO:+0100
TZNAME:CET
DTSTART:20251026T010000
END:STANDARD
END:VTIMEZONE
BEGIN:VEVENT
DTSTART;TZID=Europe/Vienna:20240403T123000
DTEND;TZID=Europe/Vienna:20240403T160000
DTSTAMP:20260425T223051
CREATED:20240328T094420Z
LAST-MODIFIED:20240328T094420Z
UID:10002480-1712147400-1712160000@wienzimmer.fsw.at
SUMMARY:Pflanzen vorziehen
DESCRIPTION:Offen für alle die kommen möchten! Eine Anmeldung ist nicht erforderlich\nauf der Terrasse / im Festsaal
URL:https://wienzimmer.fsw.at/event/pflanzen-vorziehen/
END:VEVENT
BEGIN:VEVENT
DTSTART;TZID=Europe/Vienna:20240403T153000
DTEND;TZID=Europe/Vienna:20240403T163000
DTSTAMP:20260425T223051
CREATED:20240227T142109Z
LAST-MODIFIED:20240529T084345Z
UID:10002482-1712158200-1712161800@wienzimmer.fsw.at
SUMMARY:Vienna Hobby Lobby: Tanzen
DESCRIPTION:Tanzen  im kleinen Seminarraum oder im Souterrain \nDie Vienna Hobby Lobby bietet Kindern/Jugendlichen im Alter von 12 bis 17 Jahren verschiedene Kurse an. \nAb der zweiten Märzwoche ist eine verbindliche Anmeldung erforderlich. \nMehr Info gibt es hier. \nKontakt: \nEmail: linda.fress@viennahobbylobby.com Tel.:+43 677 61476128
URL:https://wienzimmer.fsw.at/event/vienna-hobby-lobby-tanzen-2/2024-04-03/
LOCATION:WienZimmer\, Karl-Seitz-Hof - Jedleseer Str. 66-94/Ecke Jedleseer Straße und Dunantgasse\, Wien\, 1210\, Österreich
CATEGORIES:Kinder und Jugendliche
ATTACH;FMTTYPE=image/png:https://wienzimmer.fsw.at/wp-content/uploads/2023/11/Tanzen.png
END:VEVENT
BEGIN:VEVENT
DTSTART;TZID=Europe/Vienna:20240403T160000
DTEND;TZID=Europe/Vienna:20240403T173000
DTSTAMP:20260425T223051
CREATED:20240328T095042Z
LAST-MODIFIED:20240328T095042Z
UID:10002496-1712160000-1712165400@wienzimmer.fsw.at
SUMMARY:s’Plaudertischerl – Einfach ins Gespräch kommen
DESCRIPTION:Einfach ins Gespräch kommen\n1. Teil – 16.00-17.00 Uhr Führung durch den Karl-Seitz-Hof mit Mieterbeirat Heinrich Gindel.\n2. Teil Ausklang bei Kaffee und Kuchen im Festsaal \nEin kurzer Plausch über das Wetter oder eine längere Unterhaltung – regelmäßig am ersten Mittwoch im Monat kommen am Plaudertischerl in Wiener Kaffeehäusern und Nachbarschaftszentren Menschen auf einfachem Wege mit anderen ins Gespräch. \nwww.plaudertischerl.at
URL:https://wienzimmer.fsw.at/event/splaudertischerl-einfach-ins-gespraech-kommen-9/
LOCATION:WienZimmer\, Karl-Seitz-Hof - Jedleseer Str. 66-94/Ecke Jedleseer Straße und Dunantgasse\, Wien\, 1210\, Österreich
CATEGORIES:Sonstiges
ATTACH;FMTTYPE=image/png:https://wienzimmer.fsw.at/wp-content/uploads/2023/11/Plaudertischerl.png
END:VEVENT
BEGIN:VEVENT
DTSTART;TZID=Europe/Vienna:20240403T163000
DTEND;TZID=Europe/Vienna:20240403T173000
DTSTAMP:20260425T223051
CREATED:20240227T142350Z
LAST-MODIFIED:20240529T084422Z
UID:10002487-1712161800-1712165400@wienzimmer.fsw.at
SUMMARY:Vienna Hobby Lobby: Theater
DESCRIPTION:Theater im kleinen Seminarraum oder im Souterrain \nDie Vienna Hobby Lobby bietet Kindern/Jugendlichen im Alter von 12 bis 17 Jahren verschiedene Kurse an. \nAb der zweiten Märzwoche ist eine verbindliche Anmeldung erforderlich. \nMehr Info gibt es hier. \nKontakt: \nEmail: linda.fress@viennahobbylobby.com Tel.:+43 677 61476128
URL:https://wienzimmer.fsw.at/event/vienna-hobby-lobby-theater-2/2024-04-03/
LOCATION:WienZimmer\, Karl-Seitz-Hof - Jedleseer Str. 66-94/Ecke Jedleseer Straße und Dunantgasse\, Wien\, 1210\, Österreich
CATEGORIES:Kinder und Jugendliche
ATTACH;FMTTYPE=image/png:https://wienzimmer.fsw.at/wp-content/uploads/2023/11/Theater.png
END:VEVENT
BEGIN:VEVENT
DTSTART;TZID=Europe/Vienna:20240403T170000
DTEND;TZID=Europe/Vienna:20240403T200000
DTSTAMP:20260425T223051
CREATED:20240328T095208Z
LAST-MODIFIED:20240328T095911Z
UID:10002499-1712163600-1712174400@wienzimmer.fsw.at
SUMMARY:Gruppentherapie: Psychodrama
DESCRIPTION:im kleinen Seminarraum (1. Stock) \nHilfe bei Angst\, bei Depression und anderen Schwierigkeiten. Gruppenpsychotherapie mit der Methode Psychodrama. \nAb 17.15 – 20.00 Uhr\, mit Pause \nOhne Kosten bei Vorlage einer ärztlichen Überweisung zur Psychotherapie. \nFür die Anmeldung und mehr Information: Michael Josef Seiss\, MMSc. unter 0699-11133441. praxis@michaeljosefseiss.at \nweitere Termine: 31.5.23\, 14.6.23 \, 28.6.23\, 12.7.23
URL:https://wienzimmer.fsw.at/event/gruppentherapie-psychodrama-12/2024-04-03/
LOCATION:WienZimmer\, Karl-Seitz-Hof - Jedleseer Str. 66-94/Ecke Jedleseer Straße und Dunantgasse\, Wien\, 1210\, Österreich
CATEGORIES:Sonstiges
ATTACH;FMTTYPE=image/png:https://wienzimmer.fsw.at/wp-content/uploads/2023/11/Gruppentherapie.png
END:VEVENT
BEGIN:VEVENT
DTSTART;TZID=Europe/Vienna:20240403T173000
DTEND;TZID=Europe/Vienna:20240403T183000
DTSTAMP:20260425T223051
CREATED:20240227T142555Z
LAST-MODIFIED:20240529T084505Z
UID:10002492-1712165400-1712169000@wienzimmer.fsw.at
SUMMARY:Vienna Hobby Lobby: Kampfsport
DESCRIPTION:Kampfsport im Souterrain \nDie Vienna Hobby Lobby bietet Kindern/Jugendlichen im Alter von 12 bis 17 Jahren verschiedene Kurse an. \nAb der zweiten Märzwoche ist eine verbindliche Anmeldung erforderlich. \nMehr Info gibt es hier. \nKontakt: \nEmail: linda.fress@viennahobbylobby.com Tel.:+43 677 61476128
URL:https://wienzimmer.fsw.at/event/vienna-hobby-lobby-kampfsport-2/2024-04-03/
LOCATION:WienZimmer\, Karl-Seitz-Hof - Jedleseer Str. 66-94/Ecke Jedleseer Straße und Dunantgasse\, Wien\, 1210\, Österreich
CATEGORIES:Kinder und Jugendliche
ATTACH;FMTTYPE=image/png:https://wienzimmer.fsw.at/wp-content/uploads/2023/11/Kampfsport.png
END:VEVENT
END:VCALENDAR