BEGIN:VCALENDAR
VERSION:2.0
PRODID:-//Wien Zimmer - ECPv6.15.17.1//NONSGML v1.0//EN
CALSCALE:GREGORIAN
METHOD:PUBLISH
X-WR-CALNAME:Wien Zimmer
X-ORIGINAL-URL:https://wienzimmer.fsw.at
X-WR-CALDESC:Veranstaltungen für Wien Zimmer
REFRESH-INTERVAL;VALUE=DURATION:PT1H
X-Robots-Tag:noindex
X-PUBLISHED-TTL:PT1H
BEGIN:VTIMEZONE
TZID:Europe/Vienna
BEGIN:DAYLIGHT
TZOFFSETFROM:+0100
TZOFFSETTO:+0200
TZNAME:CEST
DTSTART:20230326T010000
END:DAYLIGHT
BEGIN:STANDARD
TZOFFSETFROM:+0200
TZOFFSETTO:+0100
TZNAME:CET
DTSTART:20231029T010000
END:STANDARD
BEGIN:DAYLIGHT
TZOFFSETFROM:+0100
TZOFFSETTO:+0200
TZNAME:CEST
DTSTART:20240331T010000
END:DAYLIGHT
BEGIN:STANDARD
TZOFFSETFROM:+0200
TZOFFSETTO:+0100
TZNAME:CET
DTSTART:20241027T010000
END:STANDARD
BEGIN:DAYLIGHT
TZOFFSETFROM:+0100
TZOFFSETTO:+0200
TZNAME:CEST
DTSTART:20250330T010000
END:DAYLIGHT
BEGIN:STANDARD
TZOFFSETFROM:+0200
TZOFFSETTO:+0100
TZNAME:CET
DTSTART:20251026T010000
END:STANDARD
END:VTIMEZONE
BEGIN:VEVENT
DTSTART;TZID=Europe/Vienna:20240228T170000
DTEND;TZID=Europe/Vienna:20240228T190000
DTSTAMP:20260426T001632
CREATED:20240124T150146Z
LAST-MODIFIED:20240124T150146Z
UID:10002103-1709139600-1709146800@wienzimmer.fsw.at
SUMMARY:Gemeinsam statt einsam - kostenlose Abendjause im WienZimmer
DESCRIPTION:Einmal im Monat wollen wir einen gemütlichen Rahmen schaffen und 20 bunt zusammen gewürfelte Gäste exklusiv und kostenlos mit einer schmackhaften Jause verwöhnen.\nAn einer gedeckten Tafel servieren wir verschiedene Leckereien und verbringen beim Essen gemeinsam einen schönen Abend\, der Gelegenheit bietet\, sich auszutauschen\, seine Nachbar:innen kennenzulernen\, Kontakte aufzubauen und Freundschaften zu schließen.\nNeben spannenden Geschichten und jeder Menge Lebenserfahrung\, gibt es dabei von vegan bis tierisch für alle etwas. \nWir freuen uns auf einen netten gemeinsamen Abend! \nDie Teilnahme ist nur mit Anmeldung möglich:\ndirekt im WienZimmer\, beim Team vor Ort\,\nper Email unter: wienzimmer@fsw.at\, Betreff: Dinner 28.2.\,\ntelefonisch oder per SMS unter: +43 676 8289 40448
URL:https://wienzimmer.fsw.at/event/gemeinsam-statt-einsam-kostenlose-abendjause-im-wienzimmer/
LOCATION:WienZimmer\, Karl-Seitz-Hof - Jedleseer Str. 66-94/Ecke Jedleseer Straße und Dunantgasse\, Wien\, 1210\, Österreich
END:VEVENT
END:VCALENDAR