BEGIN:VCALENDAR
VERSION:2.0
PRODID:-//Wien Zimmer - ECPv6.15.17.1//NONSGML v1.0//EN
CALSCALE:GREGORIAN
METHOD:PUBLISH
X-ORIGINAL-URL:https://wienzimmer.fsw.at
X-WR-CALDESC:Veranstaltungen für Wien Zimmer
REFRESH-INTERVAL;VALUE=DURATION:PT1H
X-Robots-Tag:noindex
X-PUBLISHED-TTL:PT1H
BEGIN:VTIMEZONE
TZID:Europe/Vienna
BEGIN:DAYLIGHT
TZOFFSETFROM:+0100
TZOFFSETTO:+0200
TZNAME:CEST
DTSTART:20220327T010000
END:DAYLIGHT
BEGIN:STANDARD
TZOFFSETFROM:+0200
TZOFFSETTO:+0100
TZNAME:CET
DTSTART:20221030T010000
END:STANDARD
BEGIN:DAYLIGHT
TZOFFSETFROM:+0100
TZOFFSETTO:+0200
TZNAME:CEST
DTSTART:20230326T010000
END:DAYLIGHT
BEGIN:STANDARD
TZOFFSETFROM:+0200
TZOFFSETTO:+0100
TZNAME:CET
DTSTART:20231029T010000
END:STANDARD
BEGIN:DAYLIGHT
TZOFFSETFROM:+0100
TZOFFSETTO:+0200
TZNAME:CEST
DTSTART:20240331T010000
END:DAYLIGHT
BEGIN:STANDARD
TZOFFSETFROM:+0200
TZOFFSETTO:+0100
TZNAME:CET
DTSTART:20241027T010000
END:STANDARD
END:VTIMEZONE
BEGIN:VEVENT
DTSTART;TZID=Europe/Vienna:20231221T140000
DTEND;TZID=Europe/Vienna:20231221T160000
DTSTAMP:20260426T052152
CREATED:20231123T051719Z
LAST-MODIFIED:20240103T102750Z
UID:10001210-1703167200-1703174400@wienzimmer.fsw.at
SUMMARY:Hausaufgabenbetreuung
DESCRIPTION:Hausaufgabenbetreuung im kleinen Seminarraum \nin Kooperation mit „Rettet das Kind Österreich“ für Kinder von 6 bis 12 Jahren\, nur mit Anmeldung \nMehr Information gibt es hier.
URL:https://wienzimmer.fsw.at/event/hausaufgabenbetreuung-donnerstag-2/2023-12-21/
LOCATION:WienZimmer\, Karl-Seitz-Hof - Jedleseer Str. 66-94/Ecke Jedleseer Straße und Dunantgasse\, Wien\, 1210\, Österreich
CATEGORIES:Kinder und Jugendliche
ATTACH;FMTTYPE=image/png:https://wienzimmer.fsw.at/wp-content/uploads/2023/11/Hausaufgaben.png
END:VEVENT
BEGIN:VEVENT
DTSTART;TZID=Europe/Vienna:20231221T160000
DTEND;TZID=Europe/Vienna:20231221T163000
DTSTAMP:20260426T052152
CREATED:20231025T080920Z
LAST-MODIFIED:20231123T080742Z
UID:10001317-1703174400-1703176200@wienzimmer.fsw.at
SUMMARY:Vorlese-/Leserunde
DESCRIPTION:im Festsaal \nWienZimmer internes Angebot für Jung und Alt
URL:https://wienzimmer.fsw.at/event/vorlese-leserunde/2023-12-21/
LOCATION:WienZimmer\, Karl-Seitz-Hof - Jedleseer Str. 66-94/Ecke Jedleseer Straße und Dunantgasse\, Wien\, 1210\, Österreich
END:VEVENT
END:VCALENDAR