BEGIN:VCALENDAR
VERSION:2.0
PRODID:-//Wien Zimmer - ECPv6.15.17.1//NONSGML v1.0//EN
CALSCALE:GREGORIAN
METHOD:PUBLISH
X-ORIGINAL-URL:https://wienzimmer.fsw.at
X-WR-CALDESC:Veranstaltungen für Wien Zimmer
REFRESH-INTERVAL;VALUE=DURATION:PT1H
X-Robots-Tag:noindex
X-PUBLISHED-TTL:PT1H
BEGIN:VTIMEZONE
TZID:Europe/Vienna
BEGIN:DAYLIGHT
TZOFFSETFROM:+0100
TZOFFSETTO:+0200
TZNAME:CEST
DTSTART:20220327T010000
END:DAYLIGHT
BEGIN:STANDARD
TZOFFSETFROM:+0200
TZOFFSETTO:+0100
TZNAME:CET
DTSTART:20221030T010000
END:STANDARD
BEGIN:DAYLIGHT
TZOFFSETFROM:+0100
TZOFFSETTO:+0200
TZNAME:CEST
DTSTART:20230326T010000
END:DAYLIGHT
BEGIN:STANDARD
TZOFFSETFROM:+0200
TZOFFSETTO:+0100
TZNAME:CET
DTSTART:20231029T010000
END:STANDARD
BEGIN:DAYLIGHT
TZOFFSETFROM:+0100
TZOFFSETTO:+0200
TZNAME:CEST
DTSTART:20240331T010000
END:DAYLIGHT
BEGIN:STANDARD
TZOFFSETFROM:+0200
TZOFFSETTO:+0100
TZNAME:CET
DTSTART:20241027T010000
END:STANDARD
END:VTIMEZONE
BEGIN:VEVENT
DTSTART;TZID=Europe/Vienna:20231214T090000
DTEND;TZID=Europe/Vienna:20231214T140000
DTSTAMP:20260426T052153
CREATED:20231123T092902Z
LAST-MODIFIED:20231123T092902Z
UID:10001373-1702544400-1702562400@wienzimmer.fsw.at
SUMMARY:Weihnachtsfeier: Jugend am Werk (geschlossene Veranstaltung)
DESCRIPTION:im Festfaal
URL:https://wienzimmer.fsw.at/event/weihnachtsfeier-jugend-am-werk-geschlossene-veranstaltung/
END:VEVENT
BEGIN:VEVENT
DTSTART;TZID=Europe/Vienna:20231214T140000
DTEND;TZID=Europe/Vienna:20231214T160000
DTSTAMP:20260426T052153
CREATED:20231123T051719Z
LAST-MODIFIED:20240103T102750Z
UID:10001209-1702562400-1702569600@wienzimmer.fsw.at
SUMMARY:Hausaufgabenbetreuung
DESCRIPTION:Hausaufgabenbetreuung im kleinen Seminarraum \nin Kooperation mit „Rettet das Kind Österreich“ für Kinder von 6 bis 12 Jahren\, nur mit Anmeldung \nMehr Information gibt es hier.
URL:https://wienzimmer.fsw.at/event/hausaufgabenbetreuung-donnerstag-2/2023-12-14/
LOCATION:WienZimmer\, Karl-Seitz-Hof - Jedleseer Str. 66-94/Ecke Jedleseer Straße und Dunantgasse\, Wien\, 1210\, Österreich
CATEGORIES:Kinder und Jugendliche
ATTACH;FMTTYPE=image/png:https://wienzimmer.fsw.at/wp-content/uploads/2023/11/Hausaufgaben.png
END:VEVENT
BEGIN:VEVENT
DTSTART;TZID=Europe/Vienna:20231214T160000
DTEND;TZID=Europe/Vienna:20231214T163000
DTSTAMP:20260426T052153
CREATED:20231025T080920Z
LAST-MODIFIED:20231123T080742Z
UID:10001316-1702569600-1702571400@wienzimmer.fsw.at
SUMMARY:Vorlese-/Leserunde
DESCRIPTION:im Festsaal \nWienZimmer internes Angebot für Jung und Alt
URL:https://wienzimmer.fsw.at/event/vorlese-leserunde/2023-12-14/
LOCATION:WienZimmer\, Karl-Seitz-Hof - Jedleseer Str. 66-94/Ecke Jedleseer Straße und Dunantgasse\, Wien\, 1210\, Österreich
END:VEVENT
BEGIN:VEVENT
DTSTART;TZID=Europe/Vienna:20231214T160000
DTEND;TZID=Europe/Vienna:20231214T173000
DTSTAMP:20260426T052153
CREATED:20231031T105652Z
LAST-MODIFIED:20231123T074455Z
UID:10001310-1702569600-1702575000@wienzimmer.fsw.at
SUMMARY:Vienna Hobby Lobby: Nachhilfe
DESCRIPTION:Nachhilfe  im kleinen Seminarraum \nDie Vienna Hobby Lobby bietet Kindern/Jugendlichen im Alter von 12 bis 17 Jahren verschiedene Kurs im Herbstsemester 2023 an. \nEine verbindliche Anmeldung ist erforderlich. \nMehr Info gibt es hier. \nKontakt:\nEmail. ahmed.naief@viennahobbylobby.com; Tel. +43 677 6147 6128
URL:https://wienzimmer.fsw.at/event/vienna-hobby-lobby-nachhilfe-3/2023-12-14/
CATEGORIES:Kinder und Jugendliche
END:VEVENT
BEGIN:VEVENT
DTSTART;TZID=Europe/Vienna:20231214T170000
DTEND;TZID=Europe/Vienna:20231214T180000
DTSTAMP:20260426T052153
CREATED:20231123T074804Z
LAST-MODIFIED:20231123T080436Z
UID:10001314-1702573200-1702576800@wienzimmer.fsw.at
SUMMARY:Vienna Hobby Lobby: Malen & Zeichnen
DESCRIPTION:Malen & Zeichnen  im WienZimmer \nDie Vienna Hobby Lobby bietet Kindern/Jugendlichen im Alter von 12 bis 17 Jahren verschiedene Kurse im Herbstsemester 2023 an. \nEine verbindliche Anmeldung ist erforderlich. \nMehr Info gibt es hier. \nKontakt:\nEmail. ahmed.naief@viennahobbylobby.com; Tel. +43 677 6147 6128
URL:https://wienzimmer.fsw.at/event/vienna-hobby-lobby-malen-zeichnen-2-2/2023-12-14/
LOCATION:WienZimmer\, Karl-Seitz-Hof - Jedleseer Str. 66-94/Ecke Jedleseer Straße und Dunantgasse\, Wien\, 1210\, Österreich
CATEGORIES:Kinder und Jugendliche
END:VEVENT
END:VCALENDAR