BEGIN:VCALENDAR
VERSION:2.0
PRODID:-//Wien Zimmer - ECPv6.15.17.1//NONSGML v1.0//EN
CALSCALE:GREGORIAN
METHOD:PUBLISH
X-ORIGINAL-URL:https://wienzimmer.fsw.at
X-WR-CALDESC:Veranstaltungen für Wien Zimmer
REFRESH-INTERVAL;VALUE=DURATION:PT1H
X-Robots-Tag:noindex
X-PUBLISHED-TTL:PT1H
BEGIN:VTIMEZONE
TZID:Europe/Vienna
BEGIN:DAYLIGHT
TZOFFSETFROM:+0100
TZOFFSETTO:+0200
TZNAME:CEST
DTSTART:20220327T010000
END:DAYLIGHT
BEGIN:STANDARD
TZOFFSETFROM:+0200
TZOFFSETTO:+0100
TZNAME:CET
DTSTART:20221030T010000
END:STANDARD
BEGIN:DAYLIGHT
TZOFFSETFROM:+0100
TZOFFSETTO:+0200
TZNAME:CEST
DTSTART:20230326T010000
END:DAYLIGHT
BEGIN:STANDARD
TZOFFSETFROM:+0200
TZOFFSETTO:+0100
TZNAME:CET
DTSTART:20231029T010000
END:STANDARD
BEGIN:DAYLIGHT
TZOFFSETFROM:+0100
TZOFFSETTO:+0200
TZNAME:CEST
DTSTART:20240331T010000
END:DAYLIGHT
BEGIN:STANDARD
TZOFFSETFROM:+0200
TZOFFSETTO:+0100
TZNAME:CET
DTSTART:20241027T010000
END:STANDARD
END:VTIMEZONE
BEGIN:VEVENT
DTSTART;TZID=Europe/Vienna:20231206T153000
DTEND;TZID=Europe/Vienna:20231206T163000
DTSTAMP:20260426T052147
CREATED:20231003T123510Z
LAST-MODIFIED:20231123T055212Z
UID:10001270-1701876600-1701880200@wienzimmer.fsw.at
SUMMARY:Vienna Hobby Lobby: Tanzen
DESCRIPTION:Tanzen  im kleinen Seminarraum \nDie Vienna Hobby Lobby bietet Kindern/Jugendlichen im Alter von 12 bis 17 Jahren verschiedenen Kurs im Herbstsemester 2023 an \nEine verbindliche Anmeldung ist erforderlich. \nMehr Info gibt es hier. \nKontakt:\nEmail. ahmed.naief@viennahobbylobby.com; Tel. +43 677 6147 6128
URL:https://wienzimmer.fsw.at/event/vienna-hobby-lobby-tanzen/2023-12-06/
LOCATION:WienZimmer\, Karl-Seitz-Hof - Jedleseer Str. 66-94/Ecke Jedleseer Straße und Dunantgasse\, Wien\, 1210\, Österreich
CATEGORIES:Kinder und Jugendliche
END:VEVENT
BEGIN:VEVENT
DTSTART;TZID=Europe/Vienna:20231206T160000
DTEND;TZID=Europe/Vienna:20231206T170000
DTSTAMP:20260426T052147
CREATED:20231206T081741Z
LAST-MODIFIED:20231213T143758Z
UID:10001272-1701878400-1701882000@wienzimmer.fsw.at
SUMMARY:Vienna Hobby Lobby: Fitness
DESCRIPTION:Fitness im Souterrain \nDie Vienna Hobby Lobby bietet Kindern/Jugendlichen im Alter von 12 bis 17 Jahren verschiedenen Kurs im Herbstsemester 2023 an \nEine verbindliche Anmeldung ist erforderlich. \nMehr Info gibt es hier. \nKontakt:\nEmail. ahmed.naief@viennahobbylobby.com; Tel. +43 677 6147 6128
URL:https://wienzimmer.fsw.at/event/vienna-hobby-lobby-fitness-2/2023-12-06/
LOCATION:WienZimmer\, Karl-Seitz-Hof - Jedleseer Str. 66-94/Ecke Jedleseer Straße und Dunantgasse\, Wien\, 1210\, Österreich
CATEGORIES:Kinder und Jugendliche
ATTACH;FMTTYPE=image/png:https://wienzimmer.fsw.at/wp-content/uploads/2023/12/Fitness-1536x1024-Bildmitte-weiter-oben.png
END:VEVENT
BEGIN:VEVENT
DTSTART;TZID=Europe/Vienna:20231206T160000
DTEND;TZID=Europe/Vienna:20231206T173000
DTSTAMP:20260426T052147
CREATED:20231123T055719Z
LAST-MODIFIED:20231123T055719Z
UID:10001278-1701878400-1701883800@wienzimmer.fsw.at
SUMMARY:s’Plaudertischerl – Einfach ins Gespräch kommen
DESCRIPTION:Ein kurzer Plausch über das Wetter oder eine längere Unterhaltung – am Plaudertischerl in Wiener Kaffeehäusern und Nachbarschaftszentren kommen Menschen auf einfachem Wege mit anderen ins Gespräch.
URL:https://wienzimmer.fsw.at/event/splaudertischerl-einfach-ins-gespraech-kommen-6/2023-12-06/
LOCATION:WienZimmer\, Karl-Seitz-Hof - Jedleseer Str. 66-94/Ecke Jedleseer Straße und Dunantgasse\, Wien\, 1210\, Österreich
CATEGORIES:Sonstiges
ATTACH;FMTTYPE=image/jpeg:https://wienzimmer.fsw.at/wp-content/uploads/2021/09/495A0649-scaled.jpg
END:VEVENT
BEGIN:VEVENT
DTSTART;TZID=Europe/Vienna:20231206T170000
DTEND;TZID=Europe/Vienna:20231206T200000
DTSTAMP:20260426T052147
CREATED:20231123T060800Z
LAST-MODIFIED:20240103T103827Z
UID:10001281-1701882000-1701892800@wienzimmer.fsw.at
SUMMARY:Gruppentherapie: Psychodrama
DESCRIPTION:Hilfe bei Angst\, bei Depression und anderen Schwierigkeiten. Gruppenpsychotherapie mit der Methode Psychodrama. \nAb 17.15 – 20.00 Uhr\, mit Pause\, im kleinen Seminarraum (1.Stock). \nOhne Kosten bei Vorlage einer ärztlichen Überweisung zur Psychotherapie. \nUm Anmeldung wird gebeten: Michael Josef Seiss\, MMSc. unter 0699-11133441. praxis@michaeljosefseiss.at
URL:https://wienzimmer.fsw.at/event/gruppentherapie-psychodrama-9/2023-12-06/
LOCATION:WienZimmer\, Karl-Seitz-Hof - Jedleseer Str. 66-94/Ecke Jedleseer Straße und Dunantgasse\, Wien\, 1210\, Österreich
CATEGORIES:Sonstiges
ATTACH;FMTTYPE=image/png:https://wienzimmer.fsw.at/wp-content/uploads/2023/11/Gruppentherapie.png
END:VEVENT
BEGIN:VEVENT
DTSTART;TZID=Europe/Vienna:20231206T173000
DTEND;TZID=Europe/Vienna:20231206T183000
DTSTAMP:20260426T052147
CREATED:20231003T123851Z
LAST-MODIFIED:20231123T055516Z
UID:10001274-1701883800-1701887400@wienzimmer.fsw.at
SUMMARY:Vienna Hobby Lobby: Hip-Hop/ Rap
DESCRIPTION:Hip-Hop/ Rap im WienZimmer \nDie Vienna Hobby Lobby bietet Kindern/Jugendlichen im Alter von 12 bis 17 Jahren verschiedenen Kurs im Herbstsemester 2023 an \nEine verbindliche Anmeldung ist erforderlich. \nMehr Info gibt es hier. \nKontakt:\nEmail. ahmed.naief@viennahobbylobby.com; Tel. +43 677 6147 6128
URL:https://wienzimmer.fsw.at/event/vienna-hobby-lobby-hip-hop-rap/2023-12-06/
LOCATION:WienZimmer\, Karl-Seitz-Hof - Jedleseer Str. 66-94/Ecke Jedleseer Straße und Dunantgasse\, Wien\, 1210\, Österreich
CATEGORIES:Kinder und Jugendliche
END:VEVENT
END:VCALENDAR