BEGIN:VCALENDAR
VERSION:2.0
PRODID:-//Wien Zimmer - ECPv6.15.17.1//NONSGML v1.0//EN
CALSCALE:GREGORIAN
METHOD:PUBLISH
X-ORIGINAL-URL:https://wienzimmer.fsw.at
X-WR-CALDESC:Veranstaltungen für Wien Zimmer
REFRESH-INTERVAL;VALUE=DURATION:PT1H
X-Robots-Tag:noindex
X-PUBLISHED-TTL:PT1H
BEGIN:VTIMEZONE
TZID:Europe/Vienna
BEGIN:DAYLIGHT
TZOFFSETFROM:+0100
TZOFFSETTO:+0200
TZNAME:CEST
DTSTART:20220327T010000
END:DAYLIGHT
BEGIN:STANDARD
TZOFFSETFROM:+0200
TZOFFSETTO:+0100
TZNAME:CET
DTSTART:20221030T010000
END:STANDARD
BEGIN:DAYLIGHT
TZOFFSETFROM:+0100
TZOFFSETTO:+0200
TZNAME:CEST
DTSTART:20230326T010000
END:DAYLIGHT
BEGIN:STANDARD
TZOFFSETFROM:+0200
TZOFFSETTO:+0100
TZNAME:CET
DTSTART:20231029T010000
END:STANDARD
BEGIN:DAYLIGHT
TZOFFSETFROM:+0100
TZOFFSETTO:+0200
TZNAME:CEST
DTSTART:20240331T010000
END:DAYLIGHT
BEGIN:STANDARD
TZOFFSETFROM:+0200
TZOFFSETTO:+0100
TZNAME:CET
DTSTART:20241027T010000
END:STANDARD
END:VTIMEZONE
BEGIN:VEVENT
DTSTART;TZID=Europe/Vienna:20231201T163000
DTEND;TZID=Europe/Vienna:20231201T170000
DTSTAMP:20260426T052139
CREATED:20231122T125832Z
LAST-MODIFIED:20231122T125832Z
UID:10001202-1701448200-1701450000@wienzimmer.fsw.at
SUMMARY:Wintergeschichten aus den verschiedensten Ecken der Welt (Teil 1)
DESCRIPTION:mit Plätzchen und Köstlichkeiten aus den entsprechenden Ländern\n*für Jung und Alt
URL:https://wienzimmer.fsw.at/event/wintergeschichten-aus-den-verschiedensten-ecken-der-welt-teil-1/
LOCATION:WienZimmer\, Karl-Seitz-Hof - Jedleseer Str. 66-94/Ecke Jedleseer Straße und Dunantgasse\, Wien\, 1210\, Österreich
END:VEVENT
BEGIN:VEVENT
DTSTART;TZID=Europe/Vienna:20231201T173000
DTEND;TZID=Europe/Vienna:20231201T183000
DTSTAMP:20260426T052139
CREATED:20231031T110500Z
LAST-MODIFIED:20231122T125632Z
UID:10001200-1701451800-1701455400@wienzimmer.fsw.at
SUMMARY:Vienna Hobby Lobby: Spanisch
DESCRIPTION:Die Vienna Hobby Lobby bietet Kindern/Jugendlichen im Alter von 12 bis 17 Jahren verschiedenen Kurs im Herbstsemester 2023 an \nEine verbindliche Anmeldung ist erforderlich. \nMehr Info gibt es hier. \nKontakt:\nEmail. ahmed.naief@viennahobbylobby.com; Tel. +43 677 6147 6128
URL:https://wienzimmer.fsw.at/event/vienna-hobby-lobby-spanisch-3/2023-12-01/
LOCATION:WienZimmer\, Karl-Seitz-Hof - Jedleseer Str. 66-94/Ecke Jedleseer Straße und Dunantgasse\, Wien\, 1210\, Österreich
CATEGORIES:Kinder und Jugendliche
END:VEVENT
END:VCALENDAR