BEGIN:VCALENDAR
VERSION:2.0
PRODID:-//Wien Zimmer - ECPv6.15.17.1//NONSGML v1.0//EN
CALSCALE:GREGORIAN
METHOD:PUBLISH
X-ORIGINAL-URL:https://wienzimmer.fsw.at
X-WR-CALDESC:Veranstaltungen für Wien Zimmer
REFRESH-INTERVAL;VALUE=DURATION:PT1H
X-Robots-Tag:noindex
X-PUBLISHED-TTL:PT1H
BEGIN:VTIMEZONE
TZID:Europe/Vienna
BEGIN:DAYLIGHT
TZOFFSETFROM:+0100
TZOFFSETTO:+0200
TZNAME:CEST
DTSTART:20220327T010000
END:DAYLIGHT
BEGIN:STANDARD
TZOFFSETFROM:+0200
TZOFFSETTO:+0100
TZNAME:CET
DTSTART:20221030T010000
END:STANDARD
BEGIN:DAYLIGHT
TZOFFSETFROM:+0100
TZOFFSETTO:+0200
TZNAME:CEST
DTSTART:20230326T010000
END:DAYLIGHT
BEGIN:STANDARD
TZOFFSETFROM:+0200
TZOFFSETTO:+0100
TZNAME:CET
DTSTART:20231029T010000
END:STANDARD
BEGIN:DAYLIGHT
TZOFFSETFROM:+0100
TZOFFSETTO:+0200
TZNAME:CEST
DTSTART:20240331T010000
END:DAYLIGHT
BEGIN:STANDARD
TZOFFSETFROM:+0200
TZOFFSETTO:+0100
TZNAME:CET
DTSTART:20241027T010000
END:STANDARD
END:VTIMEZONE
BEGIN:VEVENT
DTSTART;TZID=Europe/Vienna:20231128T153000
DTEND;TZID=Europe/Vienna:20231128T163000
DTSTAMP:20260426T052143
CREATED:20231003T123001Z
LAST-MODIFIED:20231123T052921Z
UID:10001097-1701185400-1701189000@wienzimmer.fsw.at
SUMMARY:Vienna Hobby Lobby: Töpfern
DESCRIPTION:Töpfern im Souterrain \nDie Vienna Hobby Lobby bietet Kindern/Jugendlichen im Alter von 12 bis 17 Jahren verschiedenen Kurs im Herbstsemester 2023 an \nEine verbindliche Anmeldung ist erforderlich. \nMehr Info gibt es hier. \nKontakt:\nEmail. ahmed.naief@viennahobbylobby.com; Tel. +43 677 6147 6128
URL:https://wienzimmer.fsw.at/event/vienna-hobby-lobby-toepfern/2023-11-28/
LOCATION:WienZimmer\, Karl-Seitz-Hof - Jedleseer Str. 66-94/Ecke Jedleseer Straße und Dunantgasse\, Wien\, 1210\, Österreich
CATEGORIES:Kinder und Jugendliche
END:VEVENT
BEGIN:VEVENT
DTSTART;TZID=Europe/Vienna:20231128T163000
DTEND;TZID=Europe/Vienna:20231128T173000
DTSTAMP:20260426T052143
CREATED:20231003T123204Z
LAST-MODIFIED:20231123T053046Z
UID:10001101-1701189000-1701192600@wienzimmer.fsw.at
SUMMARY:Vienna Hobby Lobby: Kampfsport
DESCRIPTION:Kampfsport im Souterrain \nDie Vienna Hobby Lobby bietet Kindern/Jugendlichen im Alter von 12 bis 17 Jahren verschiedenen Kurs im Herbstsemester 2023 an. \nEine verbindliche Anmeldung ist erforderlich. \nMehr Info gibt es hier. \nKontakt:\nEmail. ahmed.naief@viennahobbylobby.com; Tel. +43 677 6147 6128
URL:https://wienzimmer.fsw.at/event/vienna-hobby-lobby-kampfsport/2023-11-28/
LOCATION:WienZimmer\, Karl-Seitz-Hof - Jedleseer Str. 66-94/Ecke Jedleseer Straße und Dunantgasse\, Wien\, 1210\, Österreich
CATEGORIES:Kinder und Jugendliche
END:VEVENT
BEGIN:VEVENT
DTSTART;TZID=Europe/Vienna:20231128T173000
DTEND;TZID=Europe/Vienna:20231128T183000
DTSTAMP:20260426T052143
CREATED:20231003T123326Z
LAST-MODIFIED:20231123T053158Z
UID:10001105-1701192600-1701196200@wienzimmer.fsw.at
SUMMARY:Vienna Hobby Lobby: Theater
DESCRIPTION:Theater im Souterrain \nDie Vienna Hobby Lobby bietet Kindern/Jugendlichen im Alter von 12 bis 17 Jahren verschiedenen Kurs im Herbstsemester 2023 an \nEine verbindliche Anmeldung ist erforderlich. \nMehr Info gibt es hier. \nKontakt:\nEmail. ahmed.naief@viennahobbylobby.com; Tel. +43 677 6147 6128
URL:https://wienzimmer.fsw.at/event/vienna-hobby-lobby-theater/2023-11-28/
LOCATION:WienZimmer\, Karl-Seitz-Hof - Jedleseer Str. 66-94/Ecke Jedleseer Straße und Dunantgasse\, Wien\, 1210\, Österreich
CATEGORIES:Kinder und Jugendliche
END:VEVENT
END:VCALENDAR